Workbook
Name IncludEdFilters: #REF!

Sheet START
A1: Community College Formula Funding Model -- Initial Fiscal Year 2026 FINAL
A2: This file performs the calculations necessary to determine allocations of formula funding and funding for non-formula support items for all Texas public junior college ("community college") districts for FY 2026. It includes the FY 2025 projected settle-up adjustment based on the recalculation of FY 25 funding using corrected data; see the file "FY25 CC Funding Model_Projected Settle-Up", available on the THECB CCF website linked below, for more information. The file is "initial" because it does not attempt to project the Dynamic Adjustment amounts that will be calculated when FY 2025 data are available and added to the February payments of colleges whose FY 2025 performance exceeds forecasts on net. This page contains a high-level overview of the formula structure, a table of contents, and a glossary of terms and acronyms. Please direct any questions to Emily Schmidt: emily.schmidt@highered.texas.gov
D5: Additional detail regarding these and other important concepts can be found in | E5: CBM Reporting Manuals
D8: and the | E8: THECB CCF website.
A11: Formula Overview:
B13: Formula Funding= Base Tier Funding + Performance Tier Funding + Transition Funding
B15: Base Tier Funding= greater of [(Instruction & Operations - Local Share), 0]
D16: i.e., college districts with a Local Share lower than their I&O receive the difference, and others get zero
C17: Instruction & Operations (I&O)= Basic Allotment + Contact Hour Funding
C18: Basic Allotment= Weighted Full-Time Student Equivalents x Basic Allotment rate
C19: Contact Hour Funding= sum of all [(contact hours delivered in a discipline)x(statewide avg cost per contact hour in that discipline)]
F20: x Contact Hour Funding rate
C21: Local Share= Tuition/Fee Revenue Estimate + M&O Tax Revenue Estimate
D22: these estimates are measures of a college district's potential to raise revenue from these sources regardless of revenues actually raised
B23: Performance Tier Funding= sum of all [greater of(FY25 Estimated Weighted Outcome Completions or 3yr avg Weighted Outcome Completions)x(Outcome Funding rate)]
C24: Weighted Outcome Completions= for a given year, Outcome Completion Count + sum of all [Weighted Completion Counts x Completion Weights]
A26: Additional Resources:
B27: THECB CCF Website
B28: CBM Reporting Manuals
B29: High-Demand Fields
B30: Performance Tier Visualization Tool
B31: Finance Simulation Tool
A33: Table of Contents:
A34: Sheet | B34: Description
A35: 1. Dash | B35: Dynamic inputs for rates and weights set by the Legislature or THECB and Outputs showing dollars flowing through various formula elements
A36: 2. Analysis-Statewide | B36: Financial analysis of Performance Tier funding from FY 2024 to FY 2025 by outcome
A37: 3. Analysis-School | B37: Historical and Projected Performance Tier data by community college for each outcome
A38: 2. Summary | B38: Funding amounts by college district for all funding tiers and in total
A39: 3. Three-Pay | B39: Schedule of amounts of funding that THECB will distribute to college districts by certain dates
A40: 4. Performance Summary | B40: Detailed breakdown of each college districts' Performance Tier funding, including amounts allocated per outcome and outcome counts
A41: 5. Base Tier Summary | B41: Lays out the components of Base Tier Funding to produce each college district's Base Tier Funding amount
A42: 6. Basic Allotment | B42: Calculates each college's Weighted FTSE and multiplies it by the Basic Allotment rate to calculate its Basic Allotment
A43: 7. Contact Hours | B43: Combines raw contact hour data with expense rates by discipline (RFOE Cost Study) to produce contact hour funding
A44: 8. Local Tax | B44: Calculates each college's estimated M&O revenue per penny of M&O rate as a component of its Local Share
A45: 9. Tuition | B45: Calculates how much revenue each college would raise if it charged the statewide average in-district average tuition/fees and the FAST dual credit rate
... A54: 18. CIP Codes | B54: Places each CIP code into a Fund Code and shows the funded rate per contact hour for the Fund Code
A56: Glossary:
A57: Term | B57: Description
A58: ATC | B58: Advanced Technology Certificate; a workforce credential of 16-50 SCH for students with an associated degree or at least junior standing in a baccalaureate program
A59: CARAT | B59: Community College Annual Reporting & Analysis Tool; THECB system for collecting and reporting financial data from public junior colleges
...

Sheet Dash
A1: =Summary!A1 -> FINAL Community College Formula Funding - Fiscal Year 2026
A2: THECB & Legislative Rate and Weight Inputs
A4: Forecasting Options | E4: Formula Expenses
A5: Element | B5: Value | E5: Formula Element | F5: Cost Total | G5: % of FF | H5: Colleges Receiving
A6: Maximum Year-over-Year Increase | B6: 0.1 | E6: Base Tier | F6: ='Base Tier Summary'!K55 -> 61074460 | G6: =F6/Summary!J$55 -> 0.049901759 | H6: =COUNTIF(Summary!F5:F54, ">0") -> 22 | J6: 61074460 | K6: base tier total as of June 1, 2025
A7: Maximum Year-over-Year Decrease | B7: 0.05 | E7: 15 SCH Dual Credit | F7: ='Performance Summary'!C56 -> 2.1203855e+08 | G7: =F7/Summary!J$55 -> 0.17324913 | H7: =COUNTIF('Performance Summary'!C$6:C$55, ">0") -> 50
E8: GAI Transfer with 15 SCH | F8: ='Performance Summary'!F56 -> 2.7106169e+08 | G8: =F8/Summary!J$55 -> 0.22147482 | H8: =COUNTIF('Performance Summary'!G$6:G$55, ">0") -> 50
A9: Base Tier Inputs | B9: Value | E9: GAI Co-Enrollment with 15 SCH | F9: ='Performance Summary'!J56 -> 4916166.4 | G9: =F9/Summary!J$55 -> 0.0040168239 | H9: =COUNTIF('Performance Summary'!J$6:J$55, ">0") -> 13
A10: Basic Allotment per Weighted FTSE | B10: 1625.6384 | C10: 1478.805 | E10: ICLC | F10: ='Performance Summary'!V56 -> 2282570.8 | G10: =F10/Summary!J$55 -> 0.0018650071 | H10: =COUNTIF('Performance Summary'!V$6:V$55, ">0") -> 35
A11: Contact Hour Funding Rate | B11: 0.22194379 | C11: 0.21413134 | E11: High-Demand ICLC | F11: ='Performance Summary'!Y56 -> 20085776 | G11: =F11/Summary!J$55 -> 0.01641137 | H11: =COUNTIF('Performance Summary'!Y$6:Y$55, ">0") -> 49
A12: Economic Disadvantage weight | B12: 0.25 | E12: Occupational Skills Award (OSA) | F12: ='Performance Summary'!N56 -> 4060334.4 | G12: =F12/Summary!J$55 -> 0.0033175542 | H12: =COUNTIF('Performance Summary'!N$6:N$55, ">0") -> 43
A13: Academic Disadvantage weight | B13: 0.25 | E13: High-Demand OSA | F13: ='Performance Summary'!R56 -> 17308314 | G13: =F13/Summary!J$55 -> 0.014142005 | H13: =COUNTIF('Performance Summary'!R$6:R$55, ">0") -> 45
A14: Adult Learner weight | B14: 0.5 | E14: Certificate | F14: ='Performance Summary'!AB56 -> 43331170 | G14: =F14/Summary!J$55 -> 0.035404351 | H14: =COUNTIF('Performance Summary'!AB$6:AB$55, ">0") -> 50
A15: Small College weight | B15: 0.4 | E15: High-Demand Certificate | F15: ='Performance Summary'!AF56 -> 1.2385274e+08 | G15: =F15/Summary!J$55 -> 0.10119565 | H15: =COUNTIF('Performance Summary'!AF$6:AF$55, ">0") -> 50
A16: Small College FTSE threshold | B16: 5000 | E16: Advanced Technical Certificate | F16: ='Performance Summary'!AJ56 -> 253496.61 | G16: =F16/Summary!J$55 -> 0.00020712303 | H16: =COUNTIF('Performance Summary'!AJ$6:AJ$55, ">0") -> 10
A17: FY24 Average Resident Tuition/Fees (non-dual credit FTSE) | B17: 3709.8982 | E17: High-Demand ATC | F17: ='Performance Summary'!AN56 -> 2089551.8 | G17: =F17/Summary!J$55 -> 0.0017072981 | H17: =COUNTIF('Performance Summary'!AN$6:AN$55, ">0") -> 15
A18: FY24 FAST Dual Credit Tuition per SCH | B18: 55 | E18: Associate Degree | F18: ='Performance Summary'!AR56 -> 3.1070066e+08 | G18: =F18/Summary!J$55 -> 0.25386241 | H18: =COUNTIF('Performance Summary'!AR$6:AR$55, ">0") -> 50
A19: M&O Tax Rate for Estimate (per $100) | B19: 0.05 | E19: High-Demand Associate | F19: ='Performance Summary'!AV56 -> 1.3237222e+08 | G19: =F19/Summary!J$55 -> 0.10815661 | H19: =COUNTIF('Performance Summary'!AV$6:AV$55, ">0") -> 50
A20: Base Tier Percent of Total (less Transition) | B20: 0.05 | C20: ='Base Tier Summary'!C55-'Base Tier Summary'!D55 -> 0 | E20: Bachelor's Degree | F20: ='Performance Summary'!AZ56 -> 1623014.9 | G20: =F20/Summary!J$55 -> 0.0013261075 | H20: =COUNTIF('Performance Summary'!AZ6:AZ55, ">0") -> 9
B21: =(B20/(1-B20))*Summary!L4 -> 61201025 | C21: =B21-F6 -> 126564.33 | E21: High-Demand Bachelor's | F21: ='Performance Summary'!BD56 -> 10548179 | G21: =F21/Summary!J$55 -> 0.0086185402 | H21: =COUNTIF('Performance Summary'!BD$6:BD$55, ">0") -> 19
A22: Performance Tier Inputs | B22: Standard Value | C22: High-Demand Field Value | E22: CoV Premium: Certificate | F22: ='Performance Summary'!BH56 -> 731846.81 | G22: =F22/Summary!J$55 -> 0.00059796588 | H22: =COUNTIF(Performance!T6:T55, ">0") -> 50
A23: Dollars per Weighted Outcome Completion | E23: CoV Premium: Associate | F23: ='Performance Summary'!BK56 -> 5524917.7 | G23: =F23/Summary!J$55 -> 0.0045142129 | H23: =COUNTIF(Performance!S6:S55, ">0") -> 50
A24: 15 SCH Dual Credit | B24: 3500 | C24: N/A | E24: CoV Premium: Bachelor's | F24: ='Performance Summary'!BN56 -> 38255 | G24: =F24/Summary!J$55 -> 3.1256794e-05 | H24: =COUNTIF(Performance!U6:U55, ">0") -> 3
A25: GAI Transfer with 15 SCH | B25: 3500 | C25: N/A | E25: TOTAL | F25: =SUM(F6:F24) -> 1.2238939e+09 | G25: =SUM(G6:G24) -> 1
A26: GAI Co-enrollment with 15 SCH | B26: 3500 | C26: N/A
A27: Institutional Credential leading to Licensure or Certification (ICLC) | B27: 1000 | C27: 1250
A28: Occupational Skills Award | B28: 1000 | C28: 1250
A29: Certificate | B29: 1750 | C29: 3500
A30: Advanced Technical Certificate (ATC) | B30: 1750 | C30: 3500
A31: Certificate Credential of Value Premium | B31: 437 | C31: N/A
A32: Associate Degree | B32: 3500 | C32: 4500
A33: Associate Degree Credential of Value Premium | B33: 875 | C33: N/A
A34: Bachelor's Degree | B34: 3500 | C34: 4500
A35: Bachelor's Degree Credential of Value Premium | B35: 875 | C35: N/A
A36: Outcome Completion Weights
A37: Academic Disadvantage | B37: 0.25 | C37: 0.25
A38: Economic Disadvantage | B38: 0.25 | C38: 0.25
A39: Adult Learner | B39: 0.5 | C39: 0.5
A40: Dollars per Weighted Outcome Completion (Funded Beginning with FY25 Outcomes)
A41: Opportunity High School Diploma | B41: 3500 | C41: N/A
...

Sheet Analysis-Statewide
A1: Community College Formula Funding - Fiscal Year 2025 to 2026 Performance Tier Financial Analysis
B2: FY25 Foundation | E2: FY25 Project Settle-Up Adjustment* | H2: FY26 Foundation | K2: FY26 over FY25 | N2: Years | O2: 15 SCH Dual Credit | P2: GAI Transfer with 15 SCH | Q2: GAI Co-enrollment with 15 SCH | R2: ICLC1 | S2: OSA1 | T2: Certificate | U2: Advanced Technical Certificate | V2: Associate Degree | W2: Bachelor's Degree | X2: COV Premium - Certificate | Y2: COV Premium - Associate | Z2: COV Premium - Bachelor's
B3: Total | C3: % Share | D3: Community Colleges Rec. | E3: Total | F3: % Share | G3: Community Colleges Rec. | H3: Total | I3: % Share | J3: Community Colleges Rec. | K3: $ Change | L3: % Change
A4: 15 SCH Dual Credit | B4: 1.9835652e+08 | C4: 0.16819489 | D4: 50 | E4: 2.1150868e+08 | F4: 0.17957135 | G4: 50 | H4: =Dash!F7 -> 2.1203855e+08 | I4: =Dash!G7 -> 0.17324913 | J4: =Dash!H7 -> 50 | K4: =H4-E4 -> 529879.58 | L4: =K4/E4 -> 0.0025052381 | N4: 2018 | O4: ='Analysis-School'!C56 -> 42329 | P4: ='Analysis-School'!Q56 -> 64312 | Q4: ='Analysis-School'!AE56 -> 1275 | T4: ='Analysis-School'!C111 -> 31379 | U4: ='Analysis-School'!AE166 -> 413 | V4: ='Analysis-School'!Q111 -> 76000 | W4: ='Analysis-School'!AE111 -> 449 | X4: ='Analysis-School'!C221 -> 1096 | Y4: ='Analysis-School'!Q221 -> 4201 | Z4: ='Analysis-School'!AE221 -> 10
A5: GAI Transfer with 15 SCH | B5: 2.5872403e+08 | C5: 0.21938306 | D5: 50 | E5: 2.5923043e+08 | F5: 0.22008723 | G5: 50 | H5: =Dash!F8 -> 2.7106169e+08 | I5: =Dash!G8 -> 0.22147482 | J5: =Dash!H8 -> 50 | K5: =H5-E5 -> 11831261 | L5: =K5/E5 -> 0.045639938 | N5: 2019 | O5: ='Analysis-School'!D56 -> 50561 | P5: ='Analysis-School'!R56 -> 63833 | Q5: ='Analysis-School'!AF56 -> 1267 | T5: ='Analysis-School'!D111 -> 33383 | U5: ='Analysis-School'!AF166 -> 508 | V5: ='Analysis-School'!R111 -> 79000 | W5: ='Analysis-School'!AF111 -> 435 | X5: ='Analysis-School'!D221 -> 1100 | Y5: ='Analysis-School'!R221 -> 4281 | Z5: ='Analysis-School'!AF221 -> 16
A6: GAI Co-Enrollment with 15 SCH | B6: 4625642 | C6: 0.0039222778 | D6: 14 | E6: 4945018.7 | F6: 0.0041983323 | G6: 15 | H6: =Dash!F9 -> 4916166.4 | I6: =Dash!G9 -> 0.0040168239 | J6: =Dash!H9 -> 13 | K6: =H6-E6 -> -28852.396 | L6: =K6/E6 -> -0.0058346383 | N6: 2020 | O6: ='Analysis-School'!E56 -> 53442 | P6: ='Analysis-School'!S56 -> 64720 | Q6: ='Analysis-School'!AG56 -> 1560 | R6: ='Analysis-School'!S166 -> 9869 | S6: ='Analysis-School'!E166 -> 6840 | T6: ='Analysis-School'!E111 -> 29992 | U6: ='Analysis-School'!AG166 -> 543 | V6: ='Analysis-School'!S111 -> 81153 | W6: ='Analysis-School'!AG111 -> 637 | X6: ='Analysis-School'!E221 -> 955 | Y6: ='Analysis-School'!S221 -> 4247 | Z6: ='Analysis-School'!AG221 -> 13
A7: Institutional Credential leading to Licensure | B7: 1957161.3 | C7: 0.00165956 | D7: 29 | E7: 2382450 | F7: 0.0020227055 | G7: 35 | H7: =Dash!F10 -> 2282570.8 | I7: =Dash!G10 -> 0.0018650071 | J7: =Dash!H10 -> 35 | K7: =H7-E7 -> -99879.167 | L7: =K7/E7 -> -0.041922881 | N7: 2021 | O7: ='Analysis-School'!F56 -> 52702 | P7: ='Analysis-School'!T56 -> 64467 | Q7: ='Analysis-School'!AH56 -> 1125 | R7: ='Analysis-School'!T166 -> 11314 | S7: ='Analysis-School'!F166 -> 6801 | T7: ='Analysis-School'!F111 -> 30195 | U7: ='Analysis-School'!AH166 -> 496 | V7: ='Analysis-School'!T111 -> 81607 | W7: ='Analysis-School'!AH111 -> 850 | X7: ='Analysis-School'!F221 -> 1286 | Y7: ='Analysis-School'!T221 -> 5082 | Z7: ='Analysis-School'!AH221 -> 12
A8: High-Demand Institutional Credential | B8: 17102238 | C8: 0.014501712 | D8: 46 | E8: 19912958 | F8: 0.016906147 | G8: 49 | H8: =Dash!F11 -> 20085776 | I8: =Dash!G11 -> 0.01641137 | J8: =Dash!H11 -> 49 | K8: =H8-E8 -> 172817.71 | L8: =K8/E8 -> 0.0086786556 | N8: 2022 | O8: ='Analysis-School'!G56 -> 52130 | P8: ='Analysis-School'!U56 -> 61995 | Q8: ='Analysis-School'!AI56 -> 1053 | R8: ='Analysis-School'!U166 -> 12806 | S8: ='Analysis-School'!G166 -> 9309 | T8: ='Analysis-School'!G111 -> 31077 | U8: ='Analysis-School'!AI166 -> 471 | V8: ='Analysis-School'!U111 -> 78375 | W8: ='Analysis-School'!AI111 -> 1032 | X8: ='Analysis-School'!G221 -> 1563 | Y8: ='Analysis-School'!U221 -> 6011 | Z8: ='Analysis-School'!AI221 -> 14
A9: Occupational Skills Award (OSA) | B9: 3828153.5 | C9: 0.0032460535 | D9: 37 | E9: 4244362.5 | F9: 0.0036034735 | G9: 43 | H9: =Dash!F12 -> 4060334.4 | I9: =Dash!G12 -> 0.0033175542 | J9: =Dash!H12 -> 43 | K9: =H9-E9 -> -184028.13 | L9: =K9/E9 -> -0.043358249 | N9: 2023 | O9: ='Analysis-School'!H56 -> 53315 | P9: ='Analysis-School'!V56 -> 58448 | Q9: ='Analysis-School'!AJ56 -> 1226 | R9: ='Analysis-School'!V166 -> 13346 | S9: ='Analysis-School'!H166 -> 8617 | T9: ='Analysis-School'!H111 -> 33302 | U9: ='Analysis-School'!AJ166 -> 410 | V9: ='Analysis-School'!V111 -> 77586 | W9: ='Analysis-School'!AJ111 -> 1411 | X9: ='Analysis-School'!H221 -> 1454 | Y9: ='Analysis-School'!V221 -> 5808 | Z9: ='Analysis-School'!AJ221 -> 24
A10: High-Demand OSA | B10: 12762465 | C10: 0.010821835 | D10: 39 | E10: 17268922 | F10: 0.014661354 | G10: 45 | H10: =Dash!F13 -> 17308314 | I10: =Dash!G13 -> 0.014142005 | J10: =Dash!H13 -> 45 | K10: =H10-E10 -> 39391.927 | L10: =K10/E10 -> 0.0022810878 | N10: 2024 | O10: ='Analysis-School'!J56 -> 61032 | P10: ='Analysis-School'!X56 -> 56197 | Q10: ='Analysis-School'!AL56 -> 1245 | R10: ='Analysis-School'!X166 -> 17244 | S10: ='Analysis-School'!J166 -> 12574 | T10: ='Analysis-School'!J111 -> 43439 | U10: ='Analysis-School'!AL166 -> 473 | V10: ='Analysis-School'!X111 -> 87297 | W10: ='Analysis-School'!AL111 -> 1824 | X10: ='Analysis-School'!J221 -> 1661 | Y10: ='Analysis-School'!X221 -> 6374 | Z10: ='Analysis-School'!AL221 -> 35
A11: Certificate | B11: 47616386 | C11: 0.040375951 | D11: 50 | E11: 47783181 | F11: 0.040568031 | G11: 50 | H11: =Dash!F14 -> 43331170 | I11: =Dash!G14 -> 0.035404351 | J11: =Dash!H14 -> 50 | K11: =H11-E11 -> -4452011.7 | L11: =K11/E11 -> -0.093171102 | N11: 2025 | O11: ='Analysis-School'!L56 -> 60298.75 | P11: ='Analysis-School'!Z56 -> 56476.75 | Q11: ='Analysis-School'!AN56 -> 1306.3 | R11: ='Analysis-School'!Z166 -> 17943.15 | S11: ='Analysis-School'!L166 -> 12970.4 | T11: ='Analysis-School'!L111 -> 43071.6 | U11: ='Analysis-School'!AN166 -> 489 | V11: ='Analysis-School'!Z111 -> 88947.9 | W11: ='Analysis-School'!AN111 -> 1846.6 | X11: ='Analysis-School'!L221 -> 1653.8 | Y11: ='Analysis-School'!Z221 -> 6380.65 | Z11: ='Analysis-School'!AN221 -> 40.2
A12: High-Demand Certificate | B12: 1.0680787e+08 | C12: 0.090566916 | D12: 50 | E12: 1.2771507e+08 | F12: 0.10843039 | G12: 50 | H12: =Dash!F15 -> 1.2385274e+08 | I12: =Dash!G15 -> 0.10119565 | J12: =Dash!H15 -> 50 | K12: =H12-E12 -> -3862331.7 | L12: =K12/E12 -> -0.030241784 | N12: 2026 | O12: ='Analysis-School'!M56 -> 59681.182 | P12: ='Analysis-School'!AA56 -> 59167.35 | Q12: ='Analysis-School'!AO56 -> 1314.76 | R12: ='Analysis-School'!AA166 -> 17970.645 | S12: ='Analysis-School'!M166 -> 12270.98 | T12: ='Analysis-School'!M111 -> 37074.74 | U12: ='Analysis-School'!AO166 -> 483.735 | V12: ='Analysis-School'!AA111 -> 81811.413 | W12: ='Analysis-School'!AO111 -> 1823.0175 | X12: ='Analysis-School'!M221 -> 1637.64 | Y12: ='Analysis-School'!AA221 -> 6162.025 | Z12: ='Analysis-School'!AO221 -> 43.72
A13: Advanced Technical Certificate | B13: 159910.75 | C13: 0.0001355951 | D13: 9 | E13: 252648.96 | F13: 0.00021449955 | G13: 10 | H13: =Dash!F16 -> 253496.61 | I13: =Dash!G16 -> 0.00020712303 | J13: =Dash!H16 -> 10 | K13: =H13-E13 -> 847.65625 | L13: =K13/E13 -> 0.0033550752 | N13: FY26 Change over FY23 | O13: =(O12-O9)/O9 -> 0.11940697 | P13: =(P12-P9)/P9 -> 0.012307521 | Q13: =(Q12-Q9)/Q9 -> 0.072398042 | R13: =(R12-R9)/R9 -> 0.34651918 | S13: =(S12-S9)/S9 -> 0.42404317 | T13: =(T12-T9)/T9 -> 0.11328869 | U13: =(U12-U9)/U9 -> 0.17984146 | V13: =(V12-V9)/V9 -> 0.054461017 | ... Z13: =(Z12-Z9)/Z9 -> 0.82166667
A14: High-Demand ATC | B14: 1932529.9 | C14: 0.0016386739 | D14: 15 | E14: 2199370.8 | F14: 0.0018672709 | G14: 15 | H14: =Dash!F17 -> 2089551.8 | I14: =Dash!G17 -> 0.0017072981 | J14: =Dash!H17 -> 15 | K14: =H14-E14 -> -109819.06 | L14: =K14/E14 -> -0.049932035 | N14: FY26 Change over FY25 | O14: =(O12-O11)/O11 -> -0.010241796 | P14: =(P12-P11)/P11 -> 0.047640843 | Q14: =(Q12-Q11)/Q11 -> 0.0064763071 | R14: =(R12-R11)/R11 -> 0.0015323396 | S14: =(S12-S11)/S11 -> -0.05392432 | T14: =(T12-T11)/T11 -> -0.13923003 | U14: =(U12-U11)/U11 -> -0.010766871 | V14: =(V12-V11)/V11 -> -0.08023222 | ... Z14: =(Z12-Z11)/Z11 -> 0.087562189
A15: Associate Degree | B15: 3.288765e+08 | C15: 0.27886831 | D15: 50 | E15: 3.2492494e+08 | F15: 0.27586202 | G15: 50 | H15: =Dash!F18 -> 3.1070066e+08 | I15: =Dash!G18 -> 0.25386241 | J15: =Dash!H18 -> 50 | K15: =H15-E15 -> -14224273 | L15: =K15/E15 -> -0.043777106 | N15: 1. ICLC data is as submitted on ad hoc data collection for FY2020 - 2023. OSA data is as submitted on ad hoc data collection for FY2020 - 2022 and on the CBM00M for FY2023.
A16: High-Demand Associate | B16: 1.1514587e+08 | C16: 0.097637064 | D16: 50 | E16: 1.3321644e+08 | F16: 0.11310107 | G16: 50 | H16: =Dash!F19 -> 1.3237222e+08 | I16: =Dash!G19 -> 0.10815661 | J16: =Dash!H19 -> 50 | K16: =H16-E16 -> -844220.62 | L16: =K16/E16 -> -0.0063372103
A17: Bachelor's Degree | B17: 3744738.5 | C17: 0.0031753223 | D17: 7 | E17: 2104622.9 | F17: 0.0017868297 | G17: 9 | H17: =Dash!F20 -> 1623014.9 | I17: =Dash!G20 -> 0.0013261075 | J17: =Dash!H20 -> 9 | K17: =H17-E17 -> -481608.02 | L17: =K17/E17 -> -0.2288334
A18: High-Demand Bachelor's | B18: 7379817.5 | C18: 0.0062576598 | D18: 17 | E18: 10490025 | F18: 0.0089060553 | G18: 19 | H18: =Dash!F21 -> 10548179 | I18: =Dash!G21 -> 0.0086185402 | J18: =Dash!H21 -> 19 | K18: =H18-E18 -> 58154.062 | L18: =K18/E18 -> 0.0055437487
A19: CoV Premium: Certificate | B19: 720112.34 | C19: 0.00061061376 | D19: 50 | E19: 742011.43 | F19: 0.00062996941 | G19: 50 | H19: =Dash!F22 -> 731846.81 | I19: =Dash!G22 -> 0.00059796588 | J19: =Dash!H22 -> 50 | K19: =H19-E19 -> -10164.62 | L19: =K19/E19 -> -0.013698738
A20: CoV Premium: Associate | B20: 6062274.2 | C20: 0.0051404591 | D20: 50 | E20: 5627839.6 | F20: 0.0047780487 | G20: 50 | H20: =Dash!F23 -> 5524917.7 | I20: =Dash!G23 -> 0.0045142129 | J20: =Dash!H23 -> 50 | K20: =H20-E20 -> -102921.87 | L20: =K20/E20 -> -0.01828799
A21: CoV Premium: Bachelor's | B21: 20047.767 | C21: 1.6999351e-05 | D21: 2 | E21: 35758.333 | F21: 3.0358907e-05 | G21: 3 | H21: =Dash!F24 -> 38255 | I21: =Dash!G24 -> 3.1256794e-05 | J21: =Dash!H24 -> 3 | K21: =H21-E21 -> 2496.6667 | L21: =K21/E21 -> 0.069820555
A22: Transition Funding | B22: 1472335.5 | C22: 0.0012484556 | D22: 1 | E22: 0 | F22: 0 | G22: 0 | K22: =H22-E22 -> 0
A23: Total | B23: =SUM(B4:B22) -> 1.1172946e+09 | E23: =SUM(E4:E22) -> 1.1745847e+09 | H23: =SUM(H4:H22) -> 1.1628195e+09 | K23: =H23-E23 -> -11765262 | L23: =K23/E23 -> -0.010016529
A24: *Amounts in the FY25 Projected Settle-Up Adjustment columns represent the recalculation of FY25 funding using FY24 actual data; it is the most up-to-date calculation of FY25 performance funding. For each college, the projected settle-up adjustment equals the difference (whether positive or negative) between these recalculated figures and the sum of performance funding disbursed for FY25 to date. Funding adjustments due to the incorporation of FY24 data are applied to the first payment of FY26.

Sheet Analysis-School
B1: Community College Formula Funding: Performance Tier Historical and Projected Data 2018-2026
B2: Note: "FP" below a year indicates the count of outcomes that was initially forecast for the Foundation Payment in those respective years. Data for 2018-2023 reflect 2026 definitions, while 2024-2026 data (without "FP") reflect the counts used for the 2026 Foundation Payment; i.e., 2024 and 2025 reflect 2025 definitions, while 2026 uses 2026 definitions.
C3: Historical | D3: Historical | E3: Historical | F3: Historical | G3: Historical | H3: Historical | I3: Bound project | J3: Bound project | L3: Bound project | M3: Bound project | Q3: Historical | R3: Historical | S3: Historical | T3: Historical | U3: Historical | V3: Historical | W3: Bound project | X3: Bound project | Z3: Bound project | AA3: Bound project | AE3: Historical | AF3: Historical | AG3: Historical | AH3: Historical | AI3: Historical | AJ3: Historical | AK3: Bound project | AL3: Bound project | AN3: Bound project | AO3: Bound project
B4: 15 SCH Dual Credit | N4: % Inc over FY23 | P4: Transfer to GAI with 15 SCH | AB4: % Inc over FY23 | AD4: GAI Co-Enrollment after 15 SCH | AP4: % Inc over FY23
B5: Community College | C5: 2018 | D5: 2019 | E5: 2020 | F5: 2021 | G5: 2022 | H5: 2023 | I5: 2024 FP | J5: 2024 | K5: 2025 FP | L5: 2025 | M5: 2026 | P5: Community College | Q5: 2018 | R5: 2019 | S5: 2020 | T5: 2021 | U5: 2022 | V5: 2023 | W5: 2024 FP | X5: 2024 | Y5: 2025 FP | Z5: 2025 | AA5: 2026 | AD5: Community College | AE5: 2018 | AF5: 2019 | AG5: 2020 | AH5: 2021 | AI5: 2022 | AJ5: 2023 | AK5: 2024 FP | AL5: 2024 | AM5: 2025 FP | AN5: 2025 | AO5: 2026
A6: 003607 | B6: Alamo Community College District | C6: =SUMIFS('Forecast Summary-FY26'!$E:$E,'Forecast Summary-FY26'!$A:$A, 'Analysis-School'!$A6,'Forecast Summary-FY26'!$C:$C, 'Analysis-School'!C$5,'Forecast Summary-FY26'!$D:$D, 'Analysis-School'!C$3) -> 4233 | D6: =SUMIFS('Forecast Summary-FY26'!$E:$E,'Forecast Summary-FY26'!$A:$A, 'Analysis-School'!$A6,'Forecast Summary-FY26'!$C:$C, 'Analysis-School'!D$5,'Forecast Summary-FY26'!$D:$D, 'Analysis-School'!D$3) -> 4035 | E6: =SUMIFS('Forecast Summary-FY26'!$E:$E,'Forecast Summary-FY26'!$A:$A, 'Analysis-School'!$A6,'Forecast Summary-FY26'!$C:$C, 'Analysis-School'!E$5,'Forecast Summary-FY26'!$D:$D, 'Analysis-School'!E$3) -> 3664 | F6: =SUMIFS('Forecast Summary-FY26'!$E:$E,'Forecast Summary-FY26'!$A:$A, 'Analysis-School'!$A6,'Forecast Summary-FY26'!$C:$C, 'Analysis-School'!F$5,'Forecast Summary-FY26'!$D:$D, 'Analysis-School'!F$3) -> 3722 | G6: =SUMIFS('Forecast Summary-FY26'!$E:$E,'Forecast Summary-FY26'!$A:$A, 'Analysis-School'!$A6,'Forecast Summary-FY26'!$C:$C, 'Analysis-School'!G$5,'Forecast Summary-FY26'!$D:$D, 'Analysis-School'!G$3) -> 3563 | H6: =SUMIFS('Forecast Summary-FY26'!$E:$E,'Forecast Summary-FY26'!$A:$A, 'Analysis-School'!$A6,'Forecast Summary-FY26'!$C:$C, 'Analysis-School'!H$5,'Forecast Summary-FY26'!$D:$D, 'Analysis-School'!H$3) -> 3249 | I6: 3157.4466 | J6: =SUMIFS('Forecast Summary-FY25'!$E:$E,'Forecast Summary-FY25'!$A:$A, 'Analysis-School'!$A6,'Forecast Summary-FY25'!$C:$C, 'Analysis-School'!J$5,'Forecast Summary-FY25'!$D:$D, 'Analysis-School'!J$3) -> 3675 | K6: 2999.5743 | L6: =SUMIFS('Forecast Summary-FY25'!$E:$E,'Forecast Summary-FY25'!$A:$A, 'Analysis-School'!$A6,'Forecast Summary-FY25'!$C:$C, 'Analysis-School'!L$5,'Forecast Summary-FY25'!$D:$D, 'Analysis-School'!L$3) -> 3618 | M6: =SUMIFS('Forecast Summary-FY26'!$E:$E,'Forecast Summary-FY26'!$A:$A, 'Analysis-School'!$A6,'Forecast Summary-FY26'!$C:$C, 'Analysis-School'!M$5,'Forecast Summary-FY26'!$D:$D, 'Analysis-School'!M$3) -> 3618 | N6: =(M6/H6-1) -> 0.11357341 | P6: Alamo Community College District | Q6: =SUMIFS('Forecast Summary-FY26'!$F:$F,'Forecast Summary-FY26'!$A:$A, 'Analysis-School'!$A6,'Forecast Summary-FY26'!$C:$C, 'Analysis-School'!Q$5,'Forecast Summary-FY26'!$D:$D, 'Analysis-School'!Q$3) -> 5221 | R6: =SUMIFS('Forecast Summary-FY26'!$F:$F,'Forecast Summary-FY26'!$A:$A, 'Analysis-School'!$A6,'Forecast Summary-FY26'!$C:$C, 'Analysis-School'!R$5,'Forecast Summary-FY26'!$D:$D, 'Analysis-School'!R$3) -> 5420 | S6: =SUMIFS('Forecast Summary-FY26'!$F:$F,'Forecast Summary-FY26'!$A:$A, 'Analysis-School'!$A6,'Forecast Summary-FY26'!$C:$C, 'Analysis-School'!S$5,'Forecast Summary-FY26'!$D:$D, 'Analysis-School'!S$3) -> 5510 | T6: =SUMIFS('Forecast Summary-FY26'!$F:$F,'Forecast Summary-FY26'!$A:$A, 'Analysis-School'!$A6,'Forecast Summary-FY26'!$C:$C, 'Analysis-School'!T$5,'Forecast Summary-FY26'!$D:$D, 'Analysis-School'!T$3) -> 5590 | U6: =SUMIFS('Forecast Summary-FY26'!$F:$F,'Forecast Summary-FY26'!$A:$A, 'Analysis-School'!$A6,'Forecast Summary-FY26'!$C:$C, 'Analysis-School'!U$5,'Forecast Summary-FY26'!$D:$D, 'Analysis-School'!U$3) -> 4943 | V6: =SUMIFS('Forecast Summary-FY26'!$F:$F,'Forecast Summary-FY26'!$A:$A, 'Analysis-School'!$A6,'Forecast Summary-FY26'!$C:$C, 'Analysis-School'!V$5,'Forecast Summary-FY26'!$D:$D, 'Analysis-School'!V$3) -> 4802 | W6: 4367.199 | X6: =SUMIFS('Forecast Summary-FY25'!$F:$F,'Forecast Summary-FY25'!$A:$A, 'Analysis-School'!$A6,'Forecast Summary-FY25'!$C:$C, 'Analysis-School'!X$5,'Forecast Summary-FY25'!$D:$D, 'Analysis-School'!X$3) -> 4289 | Y6: 4268.9805 | Z6: =SUMIFS('Forecast Summary-FY25'!$F:$F,'Forecast Summary-FY25'!$A:$A, 'Analysis-School'!$A6,'Forecast Summary-FY25'!$C:$C, 'Analysis-School'!Z$5,'Forecast Summary-FY25'!$D:$D, 'Analysis-School'!Z$3) -> 4297 | AA6: =SUMIFS('Forecast Summary-FY26'!$F:$F,'Forecast Summary-FY26'!$A:$A, 'Analysis-School'!$A6,'Forecast Summary-FY26'!$C:$C, 'Analysis-School'!AA$5,'Forecast Summary-FY26'!$D:$D, 'Analysis-School'!AA$3) -> 4608 | AB6: =(AA6/V6-1) -> -0.040399833 | AD6: Alamo Community College District | AE6: =SUMIFS('Forecast Summary-FY26'!$J:$J,'Forecast Summary-FY26'!$A:$A, 'Analysis-School'!$A6,'Forecast Summary-FY26'!$C:$C, 'Analysis-School'!AE$5,'Forecast Summary-FY26'!$D:$D, 'Analysis-School'!AE$3) -> 10 | AF6: =SUMIFS('Forecast Summary-FY26'!$J:$J,'Forecast Summary-FY26'!$A:$A, 'Analysis-School'!$A6,'Forecast Summary-FY26'!$C:$C, 'Analysis-School'!AF$5,'Forecast Summary-FY26'!$D:$D, 'Analysis-School'!AF$3) -> 9 | AG6: =SUMIFS('Forecast Summary-FY26'!$J:$J,'Forecast Summary-FY26'!$A:$A, 'Analysis-School'!$A6,'Forecast Summary-FY26'!$C:$C, 'Analysis-School'!AG$5,'Forecast Summary-FY26'!$D:$D, 'Analysis-School'!AG$3) -> 12 | AH6: =SUMIFS('Forecast Summary-FY26'!$J:$J,'Forecast Summary-FY26'!$A:$A, 'Analysis-School'!$A6,'Forecast Summary-FY26'!$C:$C, 'Analysis-School'!AH$5,'Forecast Summary-FY26'!$D:$D, 'Analysis-School'!AH$3) -> 10 | AI6: =SUMIFS('Forecast Summary-FY26'!$J:$J,'Forecast Summary-FY26'!$A:$A, 'Analysis-School'!$A6,'Forecast Summary-FY26'!$C:$C, 'Analysis-School'!AI$5,'Forecast Summary-FY26'!$D:$D, 'Analysis-School'!AI$3) -> 17 | AJ6: =SUMIFS('Forecast Summary-FY26'!$J:$J,'Forecast Summary-FY26'!$A:$A, 'Analysis-School'!$A6,'Forecast Summary-FY26'!$C:$C, 'Analysis-School'!AJ$5,'Forecast Summary-FY26'!$D:$D, 'Analysis-School'!AJ$3) -> 20 | AK6: 21.334766 | AL6: =SUMIFS('Forecast Summary-FY25'!$J:$J,'Forecast Summary-FY25'!$A:$A, 'Analysis-School'!$A6,'Forecast Summary-FY25'!$C:$C, 'Analysis-School'!AL$5,'Forecast Summary-FY25'!$D:$D, 'Analysis-School'!AL$3) -> 17 | AM6: 23.468243 | AN6: =SUMIFS('Forecast Summary-FY25'!$J:$J,'Forecast Summary-FY25'!$A:$A, 'Analysis-School'!$A6,'Forecast Summary-FY25'!$C:$C, 'Analysis-School'!AN$5,'Forecast Summary-FY25'!$D:$D, 'Analysis-School'!AN$3) -> 17 | AO6: =SUMIFS('Forecast Summary-FY26'!$J:$J,'Forecast Summary-FY26'!$A:$A, 'Analysis-School'!$A6,'Forecast Summary-FY26'!$C:$C, 'Analysis-School'!AO$5,'Forecast Summary-FY26'!$D:$D, 'Analysis-School'!AO$3) -> 17 | AP6: =IFERROR(AO6/AJ6-1, "NA") -> -0.15
A7: 003539 | B7: Alvin Community College | C7: =SUMIFS('Forecast Summary-FY26'!$E:$E,'Forecast Summary-FY26'!$A:$A, 'Analysis-School'!$A7,'Forecast Summary-FY26'!$C:$C, 'Analysis-School'!C$5,'Forecast Summary-FY26'!$D:$D, 'Analysis-School'!C$3) -> 545 | D7: =SUMIFS('Forecast Summary-FY26'!$E:$E,'Forecast Summary-FY26'!$A:$A, 'Analysis-School'!$A7,'Forecast Summary-FY26'!$C:$C, 'Analysis-School'!D$5,'Forecast Summary-FY26'!$D:$D, 'Analysis-School'!D$3) -> 605 | E7: =SUMIFS('Forecast Summary-FY26'!$E:$E,'Forecast Summary-FY26'!$A:$A, 'Analysis-School'!$A7,'Forecast Summary-FY26'!$C:$C, 'Analysis-School'!E$5,'Forecast Summary-FY26'!$D:$D, 'Analysis-School'!E$3) -> 633 | F7: =SUMIFS('Forecast Summary-FY26'!$E:$E,'Forecast Summary-FY26'!$A:$A, 'Analysis-School'!$A7,'Forecast Summary-FY26'!$C:$C, 'Analysis-School'!F$5,'Forecast Summary-FY26'!$D:$D, 'Analysis-School'!F$3) -> 607 | G7: =SUMIFS('Forecast Summary-FY26'!$E:$E,'Forecast Summary-FY26'!$A:$A, 'Analysis-School'!$A7,'Forecast Summary-FY26'!$C:$C, 'Analysis-School'!G$5,'Forecast Summary-FY26'!$D:$D, 'Analysis-School'!G$3) -> 533 | H7: =SUMIFS('Forecast Summary-FY26'!$E:$E,'Forecast Summary-FY26'!$A:$A, 'Analysis-School'!$A7,'Forecast Summary-FY26'!$C:$C, 'Analysis-School'!H$5,'Forecast Summary-FY26'!$D:$D, 'Analysis-School'!H$3) -> 601 | I7: 579.09741 | J7: =SUMIFS('Forecast Summary-FY25'!$E:$E,'Forecast Summary-FY25'!$A:$A, 'Analysis-School'!$A7,'Forecast Summary-FY25'!$C:$C, 'Analysis-School'!J$5,'Forecast Summary-FY25'!$D:$D, 'Analysis-School'!J$3) -> 726 | K7: 576.04334 | L7: =SUMIFS('Forecast Summary-FY25'!$E:$E,'Forecast Summary-FY25'!$A:$A, 'Analysis-School'!$A7,'Forecast Summary-FY25'!$C:$C, 'Analysis-School'!L$5,'Forecast Summary-FY25'!$D:$D, 'Analysis-School'!L$3) -> 689.7 | M7: =SUMIFS('Forecast Summary-FY26'!$E:$E,'Forecast Summary-FY26'!$A:$A, 'Analysis-School'!$A7,'Forecast Summary-FY26'!$C:$C, 'Analysis-School'!M$5,'Forecast Summary-FY26'!$D:$D, 'Analysis-School'!M$3) -> 655.215 | N7: =(M7/H7-1) -> 0.090207987 | P7: Alvin Community College | Q7: =SUMIFS('Forecast Summary-FY26'!$F:$F,'Forecast Summary-FY26'!$A:$A, 'Analysis-School'!$A7,'Forecast Summary-FY26'!$C:$C, 'Analysis-School'!Q$5,'Forecast Summary-FY26'!$D:$D, 'Analysis-School'!Q$3) -> 485 | R7: =SUMIFS('Forecast Summary-FY26'!$F:$F,'Forecast Summary-FY26'!$A:$A, 'Analysis-School'!$A7,'Forecast Summary-FY26'!$C:$C, 'Analysis-School'!R$5,'Forecast Summary-FY26'!$D:$D, 'Analysis-School'!R$3) -> 516 | S7: =SUMIFS('Forecast Summary-FY26'!$F:$F,'Forecast Summary-FY26'!$A:$A, 'Analysis-School'!$A7,'Forecast Summary-FY26'!$C:$C, 'Analysis-School'!S$5,'Forecast Summary-FY26'!$D:$D, 'Analysis-School'!S$3) -> 510 | T7: =SUMIFS('Forecast Summary-FY26'!$F:$F,'Forecast Summary-FY26'!$A:$A, 'Analysis-School'!$A7,'Forecast Summary-FY26'!$C:$C, 'Analysis-School'!T$5,'Forecast Summary-FY26'!$D:$D, 'Analysis-School'!T$3) -> 485 | U7: =SUMIFS('Forecast Summary-FY26'!$F:$F,'Forecast Summary-FY26'!$A:$A, 'Analysis-School'!$A7,'Forecast Summary-FY26'!$C:$C, 'Analysis-School'!U$5,'Forecast Summary-FY26'!$D:$D, 'Analysis-School'!U$3) -> 497 | V7: =SUMIFS('Forecast Summary-FY26'!$F:$F,'Forecast Summary-FY26'!$A:$A, 'Analysis-School'!$A7,'Forecast Summary-FY26'!$C:$C, 'Analysis-School'!V$5,'Forecast Summary-FY26'!$D:$D, 'Analysis-School'!V$3) -> 462 | W7: 444.27537 | X7: =SUMIFS('Forecast Summary-FY25'!$F:$F,'Forecast Summary-FY25'!$A:$A, 'Analysis-School'!$A7,'Forecast Summary-FY25'!$C:$C, 'Analysis-School'!X$5,'Forecast Summary-FY25'!$D:$D, 'Analysis-School'!X$3) -> 400 | Y7: 437.95029 | Z7: =SUMIFS('Forecast Summary-FY25'!$F:$F,'Forecast Summary-FY25'!$A:$A, 'Analysis-School'!$A7,'Forecast Summary-FY25'!$C:$C, 'Analysis-School'!Z$5,'Forecast Summary-FY25'!$D:$D, 'Analysis-School'!Z$3) -> 413 | AA7: =SUMIFS('Forecast Summary-FY26'!$F:$F,'Forecast Summary-FY26'!$A:$A, 'Analysis-School'!$A7,'Forecast Summary-FY26'!$C:$C, 'Analysis-School'!AA$5,'Forecast Summary-FY26'!$D:$D, 'Analysis-School'!AA$3) -> 429 | AB7: =(AA7/V7-1) -> -0.071428571 | AD7: Alvin Community College | AE7: =SUMIFS('Forecast Summary-FY26'!$J:$J,'Forecast Summary-FY26'!$A:$A, 'Analysis-School'!$A7,'Forecast Summary-FY26'!$C:$C, 'Analysis-School'!AE$5,'Forecast Summary-FY26'!$D:$D, 'Analysis-School'!AE$3) -> 0 | AF7: =SUMIFS('Forecast Summary-FY26'!$J:$J,'Forecast Summary-FY26'!$A:$A, 'Analysis-School'!$A7,'Forecast Summary-FY26'!$C:$C, 'Analysis-School'!AF$5,'Forecast Summary-FY26'!$D:$D, 'Analysis-School'!AF$3) -> 0 | AG7: =SUMIFS('Forecast Summary-FY26'!$J:$J,'Forecast Summary-FY26'!$A:$A, 'Analysis-School'!$A7,'Forecast Summary-FY26'!$C:$C, 'Analysis-School'!AG$5,'Forecast Summary-FY26'!$D:$D, 'Analysis-School'!AG$3) -> 0 | AH7: =SUMIFS('Forecast Summary-FY26'!$J:$J,'Forecast Summary-FY26'!$A:$A, 'Analysis-School'!$A7,'Forecast Summary-FY26'!$C:$C, 'Analysis-School'!AH$5,'Forecast Summary-FY26'!$D:$D, 'Analysis-School'!AH$3) -> 0 | AI7: =SUMIFS('Forecast Summary-FY26'!$J:$J,'Forecast Summary-FY26'!$A:$A, 'Analysis-School'!$A7,'Forecast Summary-FY26'!$C:$C, 'Analysis-School'!AI$5,'Forecast Summary-FY26'!$D:$D, 'Analysis-School'!AI$3) -> 0 | AJ7: =SUMIFS('Forecast Summary-FY26'!$J:$J,'Forecast Summary-FY26'!$A:$A, 'Analysis-School'!$A7,'Forecast Summary-FY26'!$C:$C, 'Analysis-School'!AJ$5,'Forecast Summary-FY26'!$D:$D, 'Analysis-School'!AJ$3) -> 0 | AK7: 0 | AL7: =SUMIFS('Forecast Summary-FY25'!$J:$J,'Forecast Summary-FY25'!$A:$A, 'Analysis-School'!$A7,'Forecast Summary-FY25'!$C:$C, 'Analysis-School'!AL$5,'Forecast Summary-FY25'!$D:$D, 'Analysis-School'!AL$3) -> 0 | AM7: 0 | AN7: =SUMIFS('Forecast Summary-FY25'!$J:$J,'Forecast Summary-FY25'!$A:$A, 'Analysis-School'!$A7,'Forecast Summary-FY25'!$C:$C, 'Analysis-School'!AN$5,'Forecast Summary-FY25'!$D:$D, 'Analysis-School'!AN$3) -> 0 | AO7: =SUMIFS('Forecast Summary-FY26'!$J:$J,'Forecast Summary-FY26'!$A:$A, 'Analysis-School'!$A7,'Forecast Summary-FY26'!$C:$C, 'Analysis-School'!AO$5,'Forecast Summary-FY26'!$D:$D, 'Analysis-School'!AO$3) -> 0 | AP7: =IFERROR(AO7/AJ7-1, "NA") -> NA
A8: 003540 | B8: Amarillo College | C8: =SUMIFS('Forecast Summary-FY26'!$E:$E,'Forecast Summary-FY26'!$A:$A, 'Analysis-School'!$A8,'Forecast Summary-FY26'!$C:$C, 'Analysis-School'!C$5,'Forecast Summary-FY26'!$D:$D, 'Analysis-School'!C$3) -> 766 | D8: =SUMIFS('Forecast Summary-FY26'!$E:$E,'Forecast Summary-FY26'!$A:$A, 'Analysis-School'!$A8,'Forecast Summary-FY26'!$C:$C, 'Analysis-School'!D$5,'Forecast Summary-FY26'!$D:$D, 'Analysis-School'!D$3) -> 718 | E8: =SUMIFS('Forecast Summary-FY26'!$E:$E,'Forecast Summary-FY26'!$A:$A, 'Analysis-School'!$A8,'Forecast Summary-FY26'!$C:$C, 'Analysis-School'!E$5,'Forecast Summary-FY26'!$D:$D, 'Analysis-School'!E$3) -> 685 | F8: =SUMIFS('Forecast Summary-FY26'!$E:$E,'Forecast Summary-FY26'!$A:$A, 'Analysis-School'!$A8,'Forecast Summary-FY26'!$C:$C, 'Analysis-School'!F$5,'Forecast Summary-FY26'!$D:$D, 'Analysis-School'!F$3) -> 640 | G8: =SUMIFS('Forecast Summary-FY26'!$E:$E,'Forecast Summary-FY26'!$A:$A, 'Analysis-School'!$A8,'Forecast Summary-FY26'!$C:$C, 'Analysis-School'!G$5,'Forecast Summary-FY26'!$D:$D, 'Analysis-School'!G$3) -> 651 | H8: =SUMIFS('Forecast Summary-FY26'!$E:$E,'Forecast Summary-FY26'!$A:$A, 'Analysis-School'!$A8,'Forecast Summary-FY26'!$C:$C, 'Analysis-School'!H$5,'Forecast Summary-FY26'!$D:$D, 'Analysis-School'!H$3) -> 664 | I8: 641.55823 | J8: =SUMIFS('Forecast Summary-FY25'!$E:$E,'Forecast Summary-FY25'!$A:$A, 'Analysis-School'!$A8,'Forecast Summary-FY25'!$C:$C, 'Analysis-School'!J$5,'Forecast Summary-FY25'!$D:$D, 'Analysis-School'!J$3) -> 593 | K8: 622.58943 | L8: =SUMIFS('Forecast Summary-FY25'!$E:$E,'Forecast Summary-FY25'!$A:$A, 'Analysis-School'!$A8,'Forecast Summary-FY25'!$C:$C, 'Analysis-School'!L$5,'Forecast Summary-FY25'!$D:$D, 'Analysis-School'!L$3) -> 593 | M8: =SUMIFS('Forecast Summary-FY26'!$E:$E,'Forecast Summary-FY26'!$A:$A, 'Analysis-School'!$A8,'Forecast Summary-FY26'!$C:$C, 'Analysis-School'!M$5,'Forecast Summary-FY26'!$D:$D, 'Analysis-School'!M$3) -> 594 | N8: =(M8/H8-1) -> -0.10542169 | P8: Amarillo College | Q8: =SUMIFS('Forecast Summary-FY26'!$F:$F,'Forecast Summary-FY26'!$A:$A, 'Analysis-School'!$A8,'Forecast Summary-FY26'!$C:$C, 'Analysis-School'!Q$5,'Forecast Summary-FY26'!$D:$D, 'Analysis-School'!Q$3) -> 877 | R8: =SUMIFS('Forecast Summary-FY26'!$F:$F,'Forecast Summary-FY26'!$A:$A, 'Analysis-School'!$A8,'Forecast Summary-FY26'!$C:$C, 'Analysis-School'!R$5,'Forecast Summary-FY26'!$D:$D, 'Analysis-School'!R$3) -> 850 | S8: =SUMIFS('Forecast Summary-FY26'!$F:$F,'Forecast Summary-FY26'!$A:$A, 'Analysis-School'!$A8,'Forecast Summary-FY26'!$C:$C, 'Analysis-School'!S$5,'Forecast Summary-FY26'!$D:$D, 'Analysis-School'!S$3) -> 872 | T8: =SUMIFS('Forecast Summary-FY26'!$F:$F,'Forecast Summary-FY26'!$A:$A, 'Analysis-School'!$A8,'Forecast Summary-FY26'!$C:$C, 'Analysis-School'!T$5,'Forecast Summary-FY26'!$D:$D, 'Analysis-School'!T$3) -> 820 | U8: =SUMIFS('Forecast Summary-FY26'!$F:$F,'Forecast Summary-FY26'!$A:$A, 'Analysis-School'!$A8,'Forecast Summary-FY26'!$C:$C, 'Analysis-School'!U$5,'Forecast Summary-FY26'!$D:$D, 'Analysis-School'!U$3) -> 832 | V8: =SUMIFS('Forecast Summary-FY26'!$F:$F,'Forecast Summary-FY26'!$A:$A, 'Analysis-School'!$A8,'Forecast Summary-FY26'!$C:$C, 'Analysis-School'!V$5,'Forecast Summary-FY26'!$D:$D, 'Analysis-School'!V$3) -> 758 | W8: 737.87771 | X8: =SUMIFS('Forecast Summary-FY25'!$F:$F,'Forecast Summary-FY25'!$A:$A, 'Analysis-School'!$A8,'Forecast Summary-FY25'!$C:$C, 'Analysis-School'!X$5,'Forecast Summary-FY25'!$D:$D, 'Analysis-School'!X$3) -> 759 | Y8: 719.99567 | Z8: =SUMIFS('Forecast Summary-FY25'!$F:$F,'Forecast Summary-FY25'!$A:$A, 'Analysis-School'!$A8,'Forecast Summary-FY25'!$C:$C, 'Analysis-School'!Z$5,'Forecast Summary-FY25'!$D:$D, 'Analysis-School'!Z$3) -> 762 | AA8: =SUMIFS('Forecast Summary-FY26'!$F:$F,'Forecast Summary-FY26'!$A:$A, 'Analysis-School'!$A8,'Forecast Summary-FY26'!$C:$C, 'Analysis-School'!AA$5,'Forecast Summary-FY26'!$D:$D, 'Analysis-School'!AA$3) -> 780 | AB8: =(AA8/V8-1) -> 0.029023747 | AD8: Amarillo College | AE8: =SUMIFS('Forecast Summary-FY26'!$J:$J,'Forecast Summary-FY26'!$A:$A, 'Analysis-School'!$A8,'Forecast Summary-FY26'!$C:$C, 'Analysis-School'!AE$5,'Forecast Summary-FY26'!$D:$D, 'Analysis-School'!AE$3) -> 0 | AF8: =SUMIFS('Forecast Summary-FY26'!$J:$J,'Forecast Summary-FY26'!$A:$A, 'Analysis-School'!$A8,'Forecast Summary-FY26'!$C:$C, 'Analysis-School'!AF$5,'Forecast Summary-FY26'!$D:$D, 'Analysis-School'!AF$3) -> 0 | AG8: =SUMIFS('Forecast Summary-FY26'!$J:$J,'Forecast Summary-FY26'!$A:$A, 'Analysis-School'!$A8,'Forecast Summary-FY26'!$C:$C, 'Analysis-School'!AG$5,'Forecast Summary-FY26'!$D:$D, 'Analysis-School'!AG$3) -> 0 | AH8: =SUMIFS('Forecast Summary-FY26'!$J:$J,'Forecast Summary-FY26'!$A:$A, 'Analysis-School'!$A8,'Forecast Summary-FY26'!$C:$C, 'Analysis-School'!AH$5,'Forecast Summary-FY26'!$D:$D, 'Analysis-School'!AH$3) -> 0 | AI8: =SUMIFS('Forecast Summary-FY26'!$J:$J,'Forecast Summary-FY26'!$A:$A, 'Analysis-School'!$A8,'Forecast Summary-FY26'!$C:$C, 'Analysis-School'!AI$5,'Forecast Summary-FY26'!$D:$D, 'Analysis-School'!AI$3) -> 0 | AJ8: =SUMIFS('Forecast Summary-FY26'!$J:$J,'Forecast Summary-FY26'!$A:$A, 'Analysis-School'!$A8,'Forecast Summary-FY26'!$C:$C, 'Analysis-School'!AJ$5,'Forecast Summary-FY26'!$D:$D, 'Analysis-School'!AJ$3) -> 0 | AK8: 0 | AL8: =SUMIFS('Forecast Summary-FY25'!$J:$J,'Forecast Summary-FY25'!$A:$A, 'Analysis-School'!$A8,'Forecast Summary-FY25'!$C:$C, 'Analysis-School'!AL$5,'Forecast Summary-FY25'!$D:$D, 'Analysis-School'!AL$3) -> 0 | AM8: 0 | AN8: =SUMIFS('Forecast Summary-FY25'!$J:$J,'Forecast Summary-FY25'!$A:$A, 'Analysis-School'!$A8,'Forecast Summary-FY25'!$C:$C, 'Analysis-School'!AN$5,'Forecast Summary-FY25'!$D:$D, 'Analysis-School'!AN$3) -> 0 | AO8: =SUMIFS('Forecast Summary-FY26'!$J:$J,'Forecast Summary-FY26'!$A:$A, 'Analysis-School'!$A8,'Forecast Summary-FY26'!$C:$C, 'Analysis-School'!AO$5,'Forecast Summary-FY26'!$D:$D, 'Analysis-School'!AO$3) -> 0 | AP8: =IFERROR(AO8/AJ8-1, "NA") -> NA
A9: 006661 | B9: Angelina College | C9: =SUMIFS('Forecast Summary-FY26'!$E:$E,'Forecast Summary-FY26'!$A:$A, 'Analysis-School'!$A9,'Forecast Summary-FY26'!$C:$C, 'Analysis-School'!C$5,'Forecast Summary-FY26'!$D:$D, 'Analysis-School'!C$3) -> 466 | D9: =SUMIFS('Forecast Summary-FY26'!$E:$E,'Forecast Summary-FY26'!$A:$A, 'Analysis-School'!$A9,'Forecast Summary-FY26'!$C:$C, 'Analysis-School'!D$5,'Forecast Summary-FY26'!$D:$D, 'Analysis-School'!D$3) -> 447 | E9: =SUMIFS('Forecast Summary-FY26'!$E:$E,'Forecast Summary-FY26'!$A:$A, 'Analysis-School'!$A9,'Forecast Summary-FY26'!$C:$C, 'Analysis-School'!E$5,'Forecast Summary-FY26'!$D:$D, 'Analysis-School'!E$3) -> 474 | F9: =SUMIFS('Forecast Summary-FY26'!$E:$E,'Forecast Summary-FY26'!$A:$A, 'Analysis-School'!$A9,'Forecast Summary-FY26'!$C:$C, 'Analysis-School'!F$5,'Forecast Summary-FY26'!$D:$D, 'Analysis-School'!F$3) -> 549 | G9: =SUMIFS('Forecast Summary-FY26'!$E:$E,'Forecast Summary-FY26'!$A:$A, 'Analysis-School'!$A9,'Forecast Summary-FY26'!$C:$C, 'Analysis-School'!G$5,'Forecast Summary-FY26'!$D:$D, 'Analysis-School'!G$3) -> 503 | H9: =SUMIFS('Forecast Summary-FY26'!$E:$E,'Forecast Summary-FY26'!$A:$A, 'Analysis-School'!$A9,'Forecast Summary-FY26'!$C:$C, 'Analysis-School'!H$5,'Forecast Summary-FY26'!$D:$D, 'Analysis-School'!H$3) -> 512 | I9: 551.88285 | J9: =SUMIFS('Forecast Summary-FY25'!$E:$E,'Forecast Summary-FY25'!$A:$A, 'Analysis-School'!$A9,'Forecast Summary-FY25'!$C:$C, 'Analysis-School'!J$5,'Forecast Summary-FY25'!$D:$D, 'Analysis-School'!J$3) -> 528 | K9: 566.18931 | L9: =SUMIFS('Forecast Summary-FY25'!$E:$E,'Forecast Summary-FY25'!$A:$A, 'Analysis-School'!$A9,'Forecast Summary-FY25'!$C:$C, 'Analysis-School'!L$5,'Forecast Summary-FY25'!$D:$D, 'Analysis-School'!L$3) -> 501.6 | M9: =SUMIFS('Forecast Summary-FY26'!$E:$E,'Forecast Summary-FY26'!$A:$A, 'Analysis-School'!$A9,'Forecast Summary-FY26'!$C:$C, 'Analysis-School'!M$5,'Forecast Summary-FY26'!$D:$D, 'Analysis-School'!M$3) -> 497 | N9: =(M9/H9-1) -> -0.029296875 | P9: Angelina College | Q9: =SUMIFS('Forecast Summary-FY26'!$F:$F,'Forecast Summary-FY26'!$A:$A, 'Analysis-School'!$A9,'Forecast Summary-FY26'!$C:$C, 'Analysis-School'!Q$5,'Forecast Summary-FY26'!$D:$D, 'Analysis-School'!Q$3) -> 418 | R9: =SUMIFS('Forecast Summary-FY26'!$F:$F,'Forecast Summary-FY26'!$A:$A, 'Analysis-School'!$A9,'Forecast Summary-FY26'!$C:$C, 'Analysis-School'!R$5,'Forecast Summary-FY26'!$D:$D, 'Analysis-School'!R$3) -> 374 | S9: =SUMIFS('Forecast Summary-FY26'!$F:$F,'Forecast Summary-FY26'!$A:$A, 'Analysis-School'!$A9,'Forecast Summary-FY26'!$C:$C, 'Analysis-School'!S$5,'Forecast Summary-FY26'!$D:$D, 'Analysis-School'!S$3) -> 377 | T9: =SUMIFS('Forecast Summary-FY26'!$F:$F,'Forecast Summary-FY26'!$A:$A, 'Analysis-School'!$A9,'Forecast Summary-FY26'!$C:$C, 'Analysis-School'!T$5,'Forecast Summary-FY26'!$D:$D, 'Analysis-School'!T$3) -> 363 | U9: =SUMIFS('Forecast Summary-FY26'!$F:$F,'Forecast Summary-FY26'!$A:$A, 'Analysis-School'!$A9,'Forecast Summary-FY26'!$C:$C, 'Analysis-School'!U$5,'Forecast Summary-FY26'!$D:$D, 'Analysis-School'!U$3) -> 348 | V9: =SUMIFS('Forecast Summary-FY26'!$F:$F,'Forecast Summary-FY26'!$A:$A, 'Analysis-School'!$A9,'Forecast Summary-FY26'!$C:$C, 'Analysis-School'!V$5,'Forecast Summary-FY26'!$D:$D, 'Analysis-School'!V$3) -> 380 | W9: 353.15737 | X9: =SUMIFS('Forecast Summary-FY25'!$F:$F,'Forecast Summary-FY25'!$A:$A, 'Analysis-School'!$A9,'Forecast Summary-FY25'!$C:$C, 'Analysis-School'!X$5,'Forecast Summary-FY25'!$D:$D, 'Analysis-School'!X$3) -> 373 | Y9: 347.9172 | Z9: =SUMIFS('Forecast Summary-FY25'!$F:$F,'Forecast Summary-FY25'!$A:$A, 'Analysis-School'!$A9,'Forecast Summary-FY25'!$C:$C, 'Analysis-School'!Z$5,'Forecast Summary-FY25'!$D:$D, 'Analysis-School'!Z$3) -> 365 | AA9: =SUMIFS('Forecast Summary-FY26'!$F:$F,'Forecast Summary-FY26'!$A:$A, 'Analysis-School'!$A9,'Forecast Summary-FY26'!$C:$C, 'Analysis-School'!AA$5,'Forecast Summary-FY26'!$D:$D, 'Analysis-School'!AA$3) -> 378 | AB9: =(AA9/V9-1) -> -0.0052631579 | AD9: Angelina College | AE9: =SUMIFS('Forecast Summary-FY26'!$J:$J,'Forecast Summary-FY26'!$A:$A, 'Analysis-School'!$A9,'Forecast Summary-FY26'!$C:$C, 'Analysis-School'!AE$5,'Forecast Summary-FY26'!$D:$D, 'Analysis-School'!AE$3) -> 0 | AF9: =SUMIFS('Forecast Summary-FY26'!$J:$J,'Forecast Summary-FY26'!$A:$A, 'Analysis-School'!$A9,'Forecast Summary-FY26'!$C:$C, 'Analysis-School'!AF$5,'Forecast Summary-FY26'!$D:$D, 'Analysis-School'!AF$3) -> 0 | AG9: =SUMIFS('Forecast Summary-FY26'!$J:$J,'Forecast Summary-FY26'!$A:$A, 'Analysis-School'!$A9,'Forecast Summary-FY26'!$C:$C, 'Analysis-School'!AG$5,'Forecast Summary-FY26'!$D:$D, 'Analysis-School'!AG$3) -> 0 | AH9: =SUMIFS('Forecast Summary-FY26'!$J:$J,'Forecast Summary-FY26'!$A:$A, 'Analysis-School'!$A9,'Forecast Summary-FY26'!$C:$C, 'Analysis-School'!AH$5,'Forecast Summary-FY26'!$D:$D, 'Analysis-School'!AH$3) -> 0 | AI9: =SUMIFS('Forecast Summary-FY26'!$J:$J,'Forecast Summary-FY26'!$A:$A, 'Analysis-School'!$A9,'Forecast Summary-FY26'!$C:$C, 'Analysis-School'!AI$5,'Forecast Summary-FY26'!$D:$D, 'Analysis-School'!AI$3) -> 0 | AJ9: =SUMIFS('Forecast Summary-FY26'!$J:$J,'Forecast Summary-FY26'!$A:$A, 'Analysis-School'!$A9,'Forecast Summary-FY26'!$C:$C, 'Analysis-School'!AJ$5,'Forecast Summary-FY26'!$D:$D, 'Analysis-School'!AJ$3) -> 0 | AK9: 0 | AL9: =SUMIFS('Forecast Summary-FY25'!$J:$J,'Forecast Summary-FY25'!$A:$A, 'Analysis-School'!$A9,'Forecast Summary-FY25'!$C:$C, 'Analysis-School'!AL$5,'Forecast Summary-FY25'!$D:$D, 'Analysis-School'!AL$3) -> 0 | AM9: 0 | AN9: =SUMIFS('Forecast Summary-FY25'!$J:$J,'Forecast Summary-FY25'!$A:$A, 'Analysis-School'!$A9,'Forecast Summary-FY25'!$C:$C, 'Analysis-School'!AN$5,'Forecast Summary-FY25'!$D:$D, 'Analysis-School'!AN$3) -> 0 | AO9: =SUMIFS('Forecast Summary-FY26'!$J:$J,'Forecast Summary-FY26'!$A:$A, 'Analysis-School'!$A9,'Forecast Summary-FY26'!$C:$C, 'Analysis-School'!AO$5,'Forecast Summary-FY26'!$D:$D, 'Analysis-School'!AO$3) -> 0 | AP9: =IFERROR(AO9/AJ9-1, "NA") -> NA
A10: 012015 | B10: Austin Community College | C10: =SUMIFS('Forecast Summary-FY26'!$E:$E,'Forecast Summary-FY26'!$A:$A, 'Analysis-School'!$A10,'Forecast Summary-FY26'!$C:$C, 'Analysis-School'!C$5,'Forecast Summary-FY26'!$D:$D, 'Analysis-School'!C$3) -> 2197 | D10: =SUMIFS('Forecast Summary-FY26'!$E:$E,'Forecast Summary-FY26'!$A:$A, 'Analysis-School'!$A10,'Forecast Summary-FY26'!$C:$C, 'Analysis-School'!D$5,'Forecast Summary-FY26'!$D:$D, 'Analysis-School'!D$3) -> 2274 | E10: =SUMIFS('Forecast Summary-FY26'!$E:$E,'Forecast Summary-FY26'!$A:$A, 'Analysis-School'!$A10,'Forecast Summary-FY26'!$C:$C, 'Analysis-School'!E$5,'Forecast Summary-FY26'!$D:$D, 'Analysis-School'!E$3) -> 2543 | F10: =SUMIFS('Forecast Summary-FY26'!$E:$E,'Forecast Summary-FY26'!$A:$A, 'Analysis-School'!$A10,'Forecast Summary-FY26'!$C:$C, 'Analysis-School'!F$5,'Forecast Summary-FY26'!$D:$D, 'Analysis-School'!F$3) -> 2211 | G10: =SUMIFS('Forecast Summary-FY26'!$E:$E,'Forecast Summary-FY26'!$A:$A, 'Analysis-School'!$A10,'Forecast Summary-FY26'!$C:$C, 'Analysis-School'!G$5,'Forecast Summary-FY26'!$D:$D, 'Analysis-School'!G$3) -> 2345 | H10: =SUMIFS('Forecast Summary-FY26'!$E:$E,'Forecast Summary-FY26'!$A:$A, 'Analysis-School'!$A10,'Forecast Summary-FY26'!$C:$C, 'Analysis-School'!H$5,'Forecast Summary-FY26'!$D:$D, 'Analysis-School'!H$3) -> 2250 | I10: 2097.5445 | J10: =SUMIFS('Forecast Summary-FY25'!$E:$E,'Forecast Summary-FY25'!$A:$A, 'Analysis-School'!$A10,'Forecast Summary-FY25'!$C:$C, 'Analysis-School'!J$5,'Forecast Summary-FY25'!$D:$D, 'Analysis-School'!J$3) -> 2426 | K10: 2056.4691 | L10: =SUMIFS('Forecast Summary-FY25'!$E:$E,'Forecast Summary-FY25'!$A:$A, 'Analysis-School'!$A10,'Forecast Summary-FY25'!$C:$C, 'Analysis-School'!L$5,'Forecast Summary-FY25'!$D:$D, 'Analysis-School'!L$3) -> 2321 | M10: =SUMIFS('Forecast Summary-FY26'!$E:$E,'Forecast Summary-FY26'!$A:$A, 'Analysis-School'!$A10,'Forecast Summary-FY26'!$C:$C, 'Analysis-School'!M$5,'Forecast Summary-FY26'!$D:$D, 'Analysis-School'!M$3) -> 2321 | N10: =(M10/H10-1) -> 0.031555556 | P10: Austin Community College | Q10: =SUMIFS('Forecast Summary-FY26'!$F:$F,'Forecast Summary-FY26'!$A:$A, 'Analysis-School'!$A10,'Forecast Summary-FY26'!$C:$C, 'Analysis-School'!Q$5,'Forecast Summary-FY26'!$D:$D, 'Analysis-School'!Q$3) -> 3562 | R10: =SUMIFS('Forecast Summary-FY26'!$F:$F,'Forecast Summary-FY26'!$A:$A, 'Analysis-School'!$A10,'Forecast Summary-FY26'!$C:$C, 'Analysis-School'!R$5,'Forecast Summary-FY26'!$D:$D, 'Analysis-School'!R$3) -> 3444 | S10: =SUMIFS('Forecast Summary-FY26'!$F:$F,'Forecast Summary-FY26'!$A:$A, 'Analysis-School'!$A10,'Forecast Summary-FY26'!$C:$C, 'Analysis-School'!S$5,'Forecast Summary-FY26'!$D:$D, 'Analysis-School'!S$3) -> 3585 | T10: =SUMIFS('Forecast Summary-FY26'!$F:$F,'Forecast Summary-FY26'!$A:$A, 'Analysis-School'!$A10,'Forecast Summary-FY26'!$C:$C, 'Analysis-School'!T$5,'Forecast Summary-FY26'!$D:$D, 'Analysis-School'!T$3) -> 3596 | U10: =SUMIFS('Forecast Summary-FY26'!$F:$F,'Forecast Summary-FY26'!$A:$A, 'Analysis-School'!$A10,'Forecast Summary-FY26'!$C:$C, 'Analysis-School'!U$5,'Forecast Summary-FY26'!$D:$D, 'Analysis-School'!U$3) -> 3443 | V10: =SUMIFS('Forecast Summary-FY26'!$F:$F,'Forecast Summary-FY26'!$A:$A, 'Analysis-School'!$A10,'Forecast Summary-FY26'!$C:$C, 'Analysis-School'!V$5,'Forecast Summary-FY26'!$D:$D, 'Analysis-School'!V$3) -> 2863 | W10: 2730.2963 | X10: =SUMIFS('Forecast Summary-FY25'!$F:$F,'Forecast Summary-FY25'!$A:$A, 'Analysis-School'!$A10,'Forecast Summary-FY25'!$C:$C, 'Analysis-School'!X$5,'Forecast Summary-FY25'!$D:$D, 'Analysis-School'!X$3) -> 2730 | Y10: 2629.0415 | Z10: =SUMIFS('Forecast Summary-FY25'!$F:$F,'Forecast Summary-FY25'!$A:$A, 'Analysis-School'!$A10,'Forecast Summary-FY25'!$C:$C, 'Analysis-School'!Z$5,'Forecast Summary-FY25'!$D:$D, 'Analysis-School'!Z$3) -> 2730 | AA10: =SUMIFS('Forecast Summary-FY26'!$F:$F,'Forecast Summary-FY26'!$A:$A, 'Analysis-School'!$A10,'Forecast Summary-FY26'!$C:$C, 'Analysis-School'!AA$5,'Forecast Summary-FY26'!$D:$D, 'Analysis-School'!AA$3) -> 2957 | AB10: =(AA10/V10-1) -> 0.032832693 | AD10: Austin Community College | AE10: =SUMIFS('Forecast Summary-FY26'!$J:$J,'Forecast Summary-FY26'!$A:$A, 'Analysis-School'!$A10,'Forecast Summary-FY26'!$C:$C, 'Analysis-School'!AE$5,'Forecast Summary-FY26'!$D:$D, 'Analysis-School'!AE$3) -> 99 | AF10: =SUMIFS('Forecast Summary-FY26'!$J:$J,'Forecast Summary-FY26'!$A:$A, 'Analysis-School'!$A10,'Forecast Summary-FY26'!$C:$C, 'Analysis-School'!AF$5,'Forecast Summary-FY26'!$D:$D, 'Analysis-School'!AF$3) -> 111 | AG10: =SUMIFS('Forecast Summary-FY26'!$J:$J,'Forecast Summary-FY26'!$A:$A, 'Analysis-School'!$A10,'Forecast Summary-FY26'!$C:$C, 'Analysis-School'!AG$5,'Forecast Summary-FY26'!$D:$D, 'Analysis-School'!AG$3) -> 130 | AH10: =SUMIFS('Forecast Summary-FY26'!$J:$J,'Forecast Summary-FY26'!$A:$A, 'Analysis-School'!$A10,'Forecast Summary-FY26'!$C:$C, 'Analysis-School'!AH$5,'Forecast Summary-FY26'!$D:$D, 'Analysis-School'!AH$3) -> 129 | AI10: =SUMIFS('Forecast Summary-FY26'!$J:$J,'Forecast Summary-FY26'!$A:$A, 'Analysis-School'!$A10,'Forecast Summary-FY26'!$C:$C, 'Analysis-School'!AI$5,'Forecast Summary-FY26'!$D:$D, 'Analysis-School'!AI$3) -> 189 | AJ10: =SUMIFS('Forecast Summary-FY26'!$J:$J,'Forecast Summary-FY26'!$A:$A, 'Analysis-School'!$A10,'Forecast Summary-FY26'!$C:$C, 'Analysis-School'!AJ$5,'Forecast Summary-FY26'!$D:$D, 'Analysis-School'!AJ$3) -> 186 | AK10: 204.6 | AL10: =SUMIFS('Forecast Summary-FY25'!$J:$J,'Forecast Summary-FY25'!$A:$A, 'Analysis-School'!$A10,'Forecast Summary-FY25'!$C:$C, 'Analysis-School'!AL$5,'Forecast Summary-FY25'!$D:$D, 'Analysis-School'!AL$3) -> 150 | AM10: 225.06 | AN10: =SUMIFS('Forecast Summary-FY25'!$J:$J,'Forecast Summary-FY25'!$A:$A, 'Analysis-School'!$A10,'Forecast Summary-FY25'!$C:$C, 'Analysis-School'!AN$5,'Forecast Summary-FY25'!$D:$D, 'Analysis-School'!AN$3) -> 153 | AO10: =SUMIFS('Forecast Summary-FY26'!$J:$J,'Forecast Summary-FY26'!$A:$A, 'Analysis-School'!$A10,'Forecast Summary-FY26'!$C:$C, 'Analysis-School'!AO$5,'Forecast Summary-FY26'!$D:$D, 'Analysis-School'!AO$3) -> 156 | AP10: =IFERROR(AO10/AJ10-1, "NA") -> -0.16129032
A11: 003549 | B11: Blinn College District | C11: =SUMIFS('Forecast Summary-FY26'!$E:$E,'Forecast Summary-FY26'!$A:$A, 'Analysis-School'!$A11,'Forecast Summary-FY26'!$C:$C, 'Analysis-School'!C$5,'Forecast Summary-FY26'!$D:$D, 'Analysis-School'!C$3) -> 430 | D11: =SUMIFS('Forecast Summary-FY26'!$E:$E,'Forecast Summary-FY26'!$A:$A, 'Analysis-School'!$A11,'Forecast Summary-FY26'!$C:$C, 'Analysis-School'!D$5,'Forecast Summary-FY26'!$D:$D, 'Analysis-School'!D$3) -> 434 | E11: =SUMIFS('Forecast Summary-FY26'!$E:$E,'Forecast Summary-FY26'!$A:$A, 'Analysis-School'!$A11,'Forecast Summary-FY26'!$C:$C, 'Analysis-School'!E$5,'Forecast Summary-FY26'!$D:$D, 'Analysis-School'!E$3) -> 460 | F11: =SUMIFS('Forecast Summary-FY26'!$E:$E,'Forecast Summary-FY26'!$A:$A, 'Analysis-School'!$A11,'Forecast Summary-FY26'!$C:$C, 'Analysis-School'!F$5,'Forecast Summary-FY26'!$D:$D, 'Analysis-School'!F$3) -> 444 | G11: =SUMIFS('Forecast Summary-FY26'!$E:$E,'Forecast Summary-FY26'!$A:$A, 'Analysis-School'!$A11,'Forecast Summary-FY26'!$C:$C, 'Analysis-School'!G$5,'Forecast Summary-FY26'!$D:$D, 'Analysis-School'!G$3) -> 396 | H11: =SUMIFS('Forecast Summary-FY26'!$E:$E,'Forecast Summary-FY26'!$A:$A, 'Analysis-School'!$A11,'Forecast Summary-FY26'!$C:$C, 'Analysis-School'!H$5,'Forecast Summary-FY26'!$D:$D, 'Analysis-School'!H$3) -> 466 | I11: 442.7 | J11: =SUMIFS('Forecast Summary-FY25'!$E:$E,'Forecast Summary-FY25'!$A:$A, 'Analysis-School'!$A11,'Forecast Summary-FY25'!$C:$C, 'Analysis-School'!J$5,'Forecast Summary-FY25'!$D:$D, 'Analysis-School'!J$3) -> 450 | K11: 436.65329 | L11: =SUMIFS('Forecast Summary-FY25'!$E:$E,'Forecast Summary-FY25'!$A:$A, 'Analysis-School'!$A11,'Forecast Summary-FY25'!$C:$C, 'Analysis-School'!L$5,'Forecast Summary-FY25'!$D:$D, 'Analysis-School'!L$3) -> 440 | M11: =SUMIFS('Forecast Summary-FY26'!$E:$E,'Forecast Summary-FY26'!$A:$A, 'Analysis-School'!$A11,'Forecast Summary-FY26'!$C:$C, 'Analysis-School'!M$5,'Forecast Summary-FY26'!$D:$D, 'Analysis-School'!M$3) -> 440 | N11: =(M11/H11-1) -> -0.055793991 | P11: Blinn College District | Q11: =SUMIFS('Forecast Summary-FY26'!$F:$F,'Forecast Summary-FY26'!$A:$A, 'Analysis-School'!$A11,'Forecast Summary-FY26'!$C:$C, 'Analysis-School'!Q$5,'Forecast Summary-FY26'!$D:$D, 'Analysis-School'!Q$3) -> 4053 | R11: =SUMIFS('Forecast Summary-FY26'!$F:$F,'Forecast Summary-FY26'!$A:$A, 'Analysis-School'!$A11,'Forecast Summary-FY26'!$C:$C, 'Analysis-School'!R$5,'Forecast Summary-FY26'!$D:$D, 'Analysis-School'!R$3) -> 3518 | S11: =SUMIFS('Forecast Summary-FY26'!$F:$F,'Forecast Summary-FY26'!$A:$A, 'Analysis-School'!$A11,'Forecast Summary-FY26'!$C:$C, 'Analysis-School'!S$5,'Forecast Summary-FY26'!$D:$D, 'Analysis-School'!S$3) -> 3696 | T11: =SUMIFS('Forecast Summary-FY26'!$F:$F,'Forecast Summary-FY26'!$A:$A, 'Analysis-School'!$A11,'Forecast Summary-FY26'!$C:$C, 'Analysis-School'!T$5,'Forecast Summary-FY26'!$D:$D, 'Analysis-School'!T$3) -> 3731 | U11: =SUMIFS('Forecast Summary-FY26'!$F:$F,'Forecast Summary-FY26'!$A:$A, 'Analysis-School'!$A11,'Forecast Summary-FY26'!$C:$C, 'Analysis-School'!U$5,'Forecast Summary-FY26'!$D:$D, 'Analysis-School'!U$3) -> 3541 | V11: =SUMIFS('Forecast Summary-FY26'!$F:$F,'Forecast Summary-FY26'!$A:$A, 'Analysis-School'!$A11,'Forecast Summary-FY26'!$C:$C, 'Analysis-School'!V$5,'Forecast Summary-FY26'!$D:$D, 'Analysis-School'!V$3) -> 3275 | W11: 3343.0895 | X11: =SUMIFS('Forecast Summary-FY25'!$F:$F,'Forecast Summary-FY25'!$A:$A, 'Analysis-School'!$A11,'Forecast Summary-FY25'!$C:$C, 'Analysis-School'!X$5,'Forecast Summary-FY25'!$D:$D, 'Analysis-School'!X$3) -> 3701 | Y11: 3248.9113 | Z11: =SUMIFS('Forecast Summary-FY25'!$F:$F,'Forecast Summary-FY25'!$A:$A, 'Analysis-School'!$A11,'Forecast Summary-FY25'!$C:$C, 'Analysis-School'!Z$5,'Forecast Summary-FY25'!$D:$D, 'Analysis-School'!Z$3) -> 3656 | AA11: =SUMIFS('Forecast Summary-FY26'!$F:$F,'Forecast Summary-FY26'!$A:$A, 'Analysis-School'!$A11,'Forecast Summary-FY26'!$C:$C, 'Analysis-School'!AA$5,'Forecast Summary-FY26'!$D:$D, 'Analysis-School'!AA$3) -> 3641 | AB11: =(AA11/V11-1) -> 0.11175573 | AD11: Blinn College District | AE11: =SUMIFS('Forecast Summary-FY26'!$J:$J,'Forecast Summary-FY26'!$A:$A, 'Analysis-School'!$A11,'Forecast Summary-FY26'!$C:$C, 'Analysis-School'!AE$5,'Forecast Summary-FY26'!$D:$D, 'Analysis-School'!AE$3) -> 1102 | AF11: =SUMIFS('Forecast Summary-FY26'!$J:$J,'Forecast Summary-FY26'!$A:$A, 'Analysis-School'!$A11,'Forecast Summary-FY26'!$C:$C, 'Analysis-School'!AF$5,'Forecast Summary-FY26'!$D:$D, 'Analysis-School'!AF$3) -> 1077 | AG11: =SUMIFS('Forecast Summary-FY26'!$J:$J,'Forecast Summary-FY26'!$A:$A, 'Analysis-School'!$A11,'Forecast Summary-FY26'!$C:$C, 'Analysis-School'!AG$5,'Forecast Summary-FY26'!$D:$D, 'Analysis-School'!AG$3) -> 1384 | AH11: =SUMIFS('Forecast Summary-FY26'!$J:$J,'Forecast Summary-FY26'!$A:$A, 'Analysis-School'!$A11,'Forecast Summary-FY26'!$C:$C, 'Analysis-School'!AH$5,'Forecast Summary-FY26'!$D:$D, 'Analysis-School'!AH$3) -> 972 | AI11: =SUMIFS('Forecast Summary-FY26'!$J:$J,'Forecast Summary-FY26'!$A:$A, 'Analysis-School'!$A11,'Forecast Summary-FY26'!$C:$C, 'Analysis-School'!AI$5,'Forecast Summary-FY26'!$D:$D, 'Analysis-School'!AI$3) -> 817 | AJ11: =SUMIFS('Forecast Summary-FY26'!$J:$J,'Forecast Summary-FY26'!$A:$A, 'Analysis-School'!$A11,'Forecast Summary-FY26'!$C:$C, 'Analysis-School'!AJ$5,'Forecast Summary-FY26'!$D:$D, 'Analysis-School'!AJ$3) -> 922 | AK11: 875.9 | AL11: =SUMIFS('Forecast Summary-FY25'!$J:$J,'Forecast Summary-FY25'!$A:$A, 'Analysis-School'!$A11,'Forecast Summary-FY25'!$C:$C, 'Analysis-School'!AL$5,'Forecast Summary-FY25'!$D:$D, 'Analysis-School'!AL$3) -> 981 | AM11: 832.105 | AN11: =SUMIFS('Forecast Summary-FY25'!$J:$J,'Forecast Summary-FY25'!$A:$A, 'Analysis-School'!$A11,'Forecast Summary-FY25'!$C:$C, 'Analysis-School'!AN$5,'Forecast Summary-FY25'!$D:$D, 'Analysis-School'!AN$3) -> 1036 | AO11: =SUMIFS('Forecast Summary-FY26'!$J:$J,'Forecast Summary-FY26'!$A:$A, 'Analysis-School'!$A11,'Forecast Summary-FY26'!$C:$C, 'Analysis-School'!AO$5,'Forecast Summary-FY26'!$D:$D, 'Analysis-School'!AO$3) -> 1040 | AP11: =IFERROR(AO11/AJ11-1, "NA") -> 0.12798265
