Workbook
Name _All: Forecast!$A$1:$CA$497

Sheet START
A1: FINAL Community College Formula Funding Model -- Fiscal Year 2025 | I1: 45538
A2: This file performs the calculations necessary to determine allocations of formula funding and funding for non-formula support items for all Texas public junior college ("community college") districts for FY 2025. It includes the FY 2024 close-out adjustment based on the recalculation of FY 24 funding using corrected data; see the file "FY24 CC Funding Model_Close Out", available on the THECB CCF website linked below, for more information. This page contains a high-level overview of the formula structure, a table of contents, and a glossary of terms and acronyms. Please direct any questions to Emily Schmidt: emily.schmidt@highered.texas.gov
I8: Additional detail regarding these and other important concepts can be found in | J8: CBM Reporting Manuals
B9: and the | C9: THECB CCF website.
A11: Formula Overview
B13: Formula Funding= Base Tier Funding + Performance Tier Funding + Transition Funding
B15: Base Tier Funding= greater of [(Instruction & Operations - Local Share), 0]
D16: i.e., college districts with a Local Share lower than their I&O receive the difference, and others get zero
C17: Instruction & Operations (I&O)= Basic Allotment + Contact Hour Funding
C18: Basic Allotment= Weighted Full-Time Student Equivalents x Basic Allotment rate
C19: Contact Hour Funding= sum of all [(contact hours delivered in a discipline)x(statewide avg cost per contact hour in that discipline)]
F20: x Contact Hour Funding rate
C21: Local Share= Tuition/Fee Revenue Estimate + M&O Tax Revenue Estimate
D22: these estimates are measures of a college district's potential to raise revenue from these sources regardless of revenues actually raised
B23: Performance Tier Funding= sum of all [greater of(FY25 Estimated Weighted Outcome Completions or 3yr avg Weighted Outcome Completions)x(Outcome Funding rate)]
C24: Weighted Outcome Completions= for a given year, Outcome Completion Count + sum of all [Weighted Completion Counts x Completion Weights]
B26: Transition Funding= greater of [(FY23 Contact Hour+Success Point+Core Operations+BAT+Supplemental funds) - FY25 formula funds, 0]
A28: Table of Contents
A29: Sheet | B29: Description
A30: 1. Dash | B30: Dynamic inputs for rates and weights set by the Legislature or THECB and Outputs showing dollars flowing through various formula elements
A31: 2. Analysis-Statewide | B31: Financial analysis of Performance Tier funding from FY 2024 to FY 2025 by outcome
A32: 3. Analysis-School | B32: Historical and Projected Performance Tier data by community college for each outcome
A33: 4. Summary | B33: Funding amounts by college district for all funding tiers and in total
A34: 5. Three-Pay | B34: Schedule of amounts of funding that THECB will distribute to college districts by certain dates
A35: 6. Performance Summary | B35: Detailed breakdown of each college districts' Performance Tier funding, including amounts allocated per outcome and outcome counts
A36: 7. Base Tier Summary | B36: Lays out the components of Base Tier Funding to produce each college district's Base Tier Funding amount
A37: 8. Cost Study | B37: Provides average expenses and funding rates by discipline as a component of Contact Hour Funding
A38: 9. CIP Codes | B38: Shows the crosswalk from the CIP codes that describe academic courses and programs to the disciplines used for Contact Hour Funding
A39: 10. Hours | B39: Shows each college's contact hours and contact hour funding by discipline, which sums to the Base Tier Summary
A40: 11. Basic Allotment | B40: Calculates each college's Weighted FTSE and multiplies it by the Basic Allotment rate to calculate its Basic Allotment
... A49: 20. Non-Formula Support | B49: Shows all non-formula support items and their funding amounts for the current and prior fiscal years
A51: Glossary
A52: Term | B52: Description
A53: ATC | B53: Advanced Technology Certificate; a workforce credential of 16-50 SCH for students with an associated degree or at least junior standing in a baccalaureate program
A54: CARAT | B54: Community College Annual Reporting & Analysis Tool; THECB system for collecting and reporting financial data from public junior colleges
A55: CBM | B55: THECB's data reporting system for regularly collecting student-level data from institutions; "CBM" followed by numbers/letters refers to a specific report under the CBM system
A56: Certificate | B56: Certificate is inclusive of Certificate I or II and Continuing Education
A57: CH | B57: Contact hours; a common measurement of instructional hours used primarily for Contact Hour Funding
A58: CIP Codes | B58: Classification of Instructional Program; a system that applies a numeric code and label to each instructional course and program
A59: Co-Enrollment | B59: A structured program duly reported to the THECB in which a student is enrolled simultaneously at a community college and public university
...

Sheet Dash
A1: =Summary!A1 -> FINAL Community College Formula Funding - Fiscal Year 2025 | C1: 45538
A2: THECB & Legislative Rate and Weight Inputs
A4: Forecasting Options | E4: Formula Expenses
A5: Element | B5: Value | E5: Formula Element | F5: Cost Total | G5: % of FF | H5: Colleges Receiving
A6: Maximum Year-over-Year Increase | B6: 0.1 | E6: Base Tier | F6: ='Base Tier Summary'!K55 -> 58740965 | G6: =F6/Summary!H$55 -> 0.049808952 | H6: =COUNTIF(Summary!I5:I54, ">0") -> 22
A7: Maximum Year-over-Year Decrease | B7: 0.05 | E7: 15 SCH Dual Credit | F7: ='Performance Summary'!C56 -> 1.9835652e+08 | G7: =F7/Summary!H$55 -> 0.16819489 | H7: =COUNTIF('Performance Summary'!C$6:C$55, ">0") -> 50
E8: GAI Transfer with 15 SCH | F8: ='Performance Summary'!F56 -> 2.5872403e+08 | G8: =F8/Summary!H$55 -> 0.21938306 | H8: =COUNTIF('Performance Summary'!G$6:G$55, ">0") -> 50
A9: Base Tier Inputs | B9: Value | E9: GAI Co-Enrollment with 15 SCH | F9: ='Performance Summary'!J56 -> 4625642 | G9: =F9/Summary!H$55 -> 0.0039222778 | H9: =COUNTIF('Performance Summary'!J$6:J$55, ">0") -> 14
A10: Basic Allotment per Weighted FTSE | B10: 1478.8665 | C10: ='Base Tier Summary'!C55 -> 8.6248584e+08 | E10: ICLC | F10: ='Performance Summary'!V56 -> 1957161.3 | G10: =F10/Summary!H$55 -> 0.00165956 | H10: =COUNTIF('Performance Summary'!V$6:V$55, ">0") -> 29
A11: Contact Hour Funding Rate | B11: 0.21414025 | C11: ='Base Tier Summary'!D55 -> 8.6248584e+08 | E11: High-Demand ICLC | F11: ='Performance Summary'!Y56 -> 17102238 | G11: =F11/Summary!H$55 -> 0.014501712 | H11: =COUNTIF('Performance Summary'!Y$6:Y$55, ">0") -> 46
A12: Economic Disadvantage weight | B12: 0.25 | E12: Occupational Skills Award (OSA) | F12: ='Performance Summary'!N56 -> 3828153.5 | G12: =F12/Summary!H$55 -> 0.0032460535 | H12: =COUNTIF('Performance Summary'!N$6:N$55, ">0") -> 37
A13: Academic Disadvantage weight | B13: 0.25 | E13: High-Demand OSA | F13: ='Performance Summary'!R56 -> 12762465 | G13: =F13/Summary!H$55 -> 0.010821835 | H13: =COUNTIF('Performance Summary'!R$6:R$55, ">0") -> 39
A14: Adult Learner weight | B14: 0.5 | E14: Certificate | F14: ='Performance Summary'!AB56 -> 47616386 | G14: =F14/Summary!H$55 -> 0.040375951 | H14: =COUNTIF('Performance Summary'!AB$6:AB$55, ">0") -> 50
A15: Small College weight | B15: 0.4 | E15: High-Demand Certificate | F15: ='Performance Summary'!AF56 -> 1.0680787e+08 | G15: =F15/Summary!H$55 -> 0.090566916 | H15: =COUNTIF('Performance Summary'!AF$6:AF$55, ">0") -> 50
A16: Small College FTSE threshold | B16: 5000 | E16: Advanced Technical Certificate | F16: ='Performance Summary'!AJ56 -> 159910.75 | G16: =F16/Summary!H$55 -> 0.0001355951 | H16: =COUNTIF('Performance Summary'!AJ$6:AJ$55, ">0") -> 9
A17: FY 23 Average Resident Tuition/Fees (non-dual credit FTSE) | B17: 3208.6155 | E17: High-Demand ATC | F17: ='Performance Summary'!AN56 -> 1932529.9 | G17: =F17/Summary!H$55 -> 0.0016386739 | H17: =COUNTIF('Performance Summary'!AN$6:AN$55, ">0") -> 15
A18: FY23 (uses FY24 rate) FAST Dual Credit Tuition per SCH | B18: 55 | E18: Associate Degree | F18: ='Performance Summary'!AR56 -> 3.288765e+08 | G18: =F18/Summary!H$55 -> 0.27886831 | H18: =COUNTIF('Performance Summary'!AR$6:AR$55, ">0") -> 50
A19: M&O Tax Rate for Estimate (per $100) | B19: 0.05 | E19: High-Demand Associate | F19: ='Performance Summary'!AV56 -> 1.1514587e+08 | G19: =F19/Summary!H$55 -> 0.097637064 | H19: =COUNTIF('Performance Summary'!AV$6:AV$55, ">0") -> 50
A20: Base Tier Percent of Total (less Transition) | B20: 0.05 | C20: ='Base Tier Summary'!C55-'Base Tier Summary'!D55 -> 0 | E20: Bachelor's Degree | F20: ='Performance Summary'!AZ56 -> 3744738.5 | G20: =F20/Summary!H$55 -> 0.0031753223 | H20: =COUNTIF('Performance Summary'!AZ6:AZ55, ">0") -> 7
B21: =(B20/(1-B20))*Summary!J4 -> 58727487 | C21: =B21-F6 -> -13477.236 | E21: High-Demand Bachelor's | F21: ='Performance Summary'!BD56 -> 7379817.5 | G21: =F21/Summary!H$55 -> 0.0062576598 | H21: =COUNTIF('Performance Summary'!BD$6:BD$55, ">0") -> 17
A22: Performance Tier Inputs | B22: Standard Value | C22: High-Demand Field Value | E22: CoV Premium: Certificate | F22: ='Performance Summary'!BH56 -> 720112.34 | G22: =F22/Summary!H$55 -> 0.00061061376 | H22: =COUNTIF(Performance!T6:T55, ">0") -> 50
A23: Dollars per Weighted Outcome Completion | E23: CoV Premium: Associate | F23: ='Performance Summary'!BK56 -> 6062274.2 | G23: =F23/Summary!H$55 -> 0.0051404591 | H23: =COUNTIF(Performance!S6:S55, ">0") -> 50
A24: 15 SCH Dual Credit | B24: 3500 | C24: N/A | E24: CoV Premium: Bachelor's | F24: ='Performance Summary'!BN56 -> 20047.767 | G24: =F24/Summary!H$55 -> 1.6999351e-05 | H24: =COUNTIF(Performance!U6:U55, ">0") -> 2
A25: GAI Transfer with 15 SCH | B25: 3500 | C25: N/A | E25: FY23 Transition Funding | F25: =Summary!K55 -> 1472335.5 | G25: =F25/Summary!H$55 -> 0.0012484556 | H25: =COUNTIFS(Summary!K5:K54, ">0") -> 1
A26: GAI Co-enrollment with 15 SCH | B26: 3500 | C26: N/A | E26: TOTAL | F26: =SUM(F6:F25) -> 1.1760356e+09 | G26: =SUM(G6:G25) -> 0.99721036
A27: Institutional Credential leading to Licensure or Certification (ICLC) | B27: 1000 | C27: 1250 | E27: not including FY24 close-out adjustment
A28: Occupational Skills Award | B28: 1000 | C28: 1250
A29: Certificate | B29: 1750 | C29: 3500
A30: Advanced Technical Certificate (ATC) | B30: 1750 | C30: 3500
A31: Certificate Credential of Value Premium | B31: 437 | C31: N/A
A32: Associate Degree | B32: 3500 | C32: 4500
A33: Associate Degree Credential of Value Premium | B33: 875 | C33: N/A
A34: Bachelor's Degree | B34: 3500 | C34: 4500
A35: Bachelor's Degree Credential of Value Premium | B35: 875 | C35: N/A
A36: Outcome Completion Weights
A37: Academic Disadvantage | B37: 0.25 | C37: 0.25
A38: Economic Disadvantage | B38: 0.25 | C38: 0.25
A39: Adult Learner | B39: 0.5 | C39: 0.5
A40: Dollars per Weighted Outcome Completion (Funded Beginning with FY25 Outcomes)
A41: Opportunity High School Diploma | B41: 3500 | C41: N/A
...

Sheet Analysis-Statewide
A1: Community College Formula Funding - Fiscal Year 2024 to 2025 Performance Tier Financial Analysis
B2: FY24 | E2: FY25 | H2: FY25 over FY24 | K2: Years | L2: 15 SCH Dual Credit | M2: GAI Transfer with 15 SCH | N2: GAI Co-enrollment with 15 SCH | O2: ICLC1 | P2: OSA1 | Q2: Certificate | R2: Advanced Technical Certificate | S2: Associate Degree | T2: Bachelor's Degree | U2: COV Premium - Certificate | V2: COV Premium - Associate | W2: COV Premium - Bachelor's
B3: Total | C3: % Share | D3: Community Colleges Rec. | E3: Total | F3: % Share | G3: Community Colleges Rec. | H3: $ Change | I3: % Change
A4: 15 SCH Dual Credit | B4: 90153267 | C4: 0.079553493 | D4: 50 | E4: =Dash!F7 -> 1.9835652e+08 | F4: =Dash!G7 -> 0.16819489 | G4: =Dash!H7 -> 50 | H4: =E4-B4 -> 1.0820325e+08 | I4: =H4/B4 -> 1.2002144 | K4: 2018 | L4: ='Analysis-School'!C55 -> 42329 | M4: ='Analysis-School'!N55 -> 61152 | N4: ='Analysis-School'!Y55 -> 1275 | Q4: ='Analysis-School'!C110 -> 36027 | R4: ='Analysis-School'!Y165 -> 424 | S4: ='Analysis-School'!N110 -> 82976 | T4: ='Analysis-School'!Y110 -> 450 | U4: ='Analysis-School'!C220 -> 1096 | V4: ='Analysis-School'!N220 -> 4360 | W4: ='Analysis-School'!Y220 -> 10
A5: GAI Transfer with 15 SCH | B5: 3.2698896e+08 | C5: 0.28854322 | D5: 50 | E5: =Dash!F8 -> 2.5872403e+08 | F5: =Dash!G8 -> 0.21938306 | G5: =Dash!H8 -> 50 | H5: =E5-B5 -> -68264931 | I5: =H5/B5 -> -0.20876831 | K5: 2019 | L5: ='Analysis-School'!D55 -> 50561 | M5: ='Analysis-School'!O55 -> 60694 | N5: ='Analysis-School'!Z55 -> 1267 | Q5: ='Analysis-School'!D110 -> 38543 | R5: ='Analysis-School'!Z165 -> 533 | S5: ='Analysis-School'!O110 -> 86157 | T5: ='Analysis-School'!Z110 -> 437 | U5: ='Analysis-School'!D220 -> 1100 | V5: ='Analysis-School'!O220 -> 4451 | W5: ='Analysis-School'!Z220 -> 16
A6: GAI Co-Enrollment with 15 SCH | B6: 4841958.3 | C6: 0.0042726649 | D6: 14 | E6: =Dash!F9 -> 4625642 | F6: =Dash!G9 -> 0.0039222778 | G6: =Dash!H9 -> 14 | H6: =E6-B6 -> -216316.3 | I6: =H6/B6 -> -0.044675373 | K6: 2020 | L6: ='Analysis-School'!E55 -> 53442 | M6: ='Analysis-School'!P55 -> 61746 | N6: ='Analysis-School'!AA55 -> 1560 | O6: ='Analysis-School'!P165 -> 9869 | P6: ='Analysis-School'!E165 -> 6840 | Q6: ='Analysis-School'!E110 -> 34425 | R6: ='Analysis-School'!AA165 -> 575 | S6: ='Analysis-School'!P110 -> 88309 | T6: ='Analysis-School'!AA110 -> 639 | U6: ='Analysis-School'!E220 -> 955 | V6: ='Analysis-School'!P220 -> 4405 | W6: ='Analysis-School'!AA220 -> 13
A7: Licensure/Certification (no credential)1 | B7: 284000 | C7: 0.00025060869 | D7: 10 | H7: =E7-B7 -> -284000 | I7: =H7/B7 -> -1 | K7: 2021 | L7: ='Analysis-School'!F55 -> 52702 | M7: ='Analysis-School'!Q55 -> 61593 | N7: ='Analysis-School'!AB55 -> 1125 | O7: ='Analysis-School'!Q165 -> 11314 | P7: ='Analysis-School'!F165 -> 6801 | Q7: ='Analysis-School'!F110 -> 34547 | R7: ='Analysis-School'!AB165 -> 525 | S7: ='Analysis-School'!Q110 -> 88674 | T7: ='Analysis-School'!AB110 -> 853 | U7: ='Analysis-School'!F220 -> 1286 | V7: ='Analysis-School'!Q220 -> 5268 | W7: ='Analysis-School'!AB220 -> 12
A8: High-Demand Licensure/Certification1 | B8: 3918750 | C8: 0.0034580028 | D8: 17 | H8: =E8-B8 -> -3918750 | I8: =H8/B8 -> -1 | K8: 2022 | L8: ='Analysis-School'!G55 -> 52130 | M8: ='Analysis-School'!R55 -> 59047 | N8: ='Analysis-School'!AC55 -> 1053 | O8: ='Analysis-School'!R165 -> 12806 | P8: ='Analysis-School'!G165 -> 9309 | Q8: ='Analysis-School'!G110 -> 35406 | R8: ='Analysis-School'!AC165 -> 484 | S8: ='Analysis-School'!R110 -> 85458 | T8: ='Analysis-School'!AC110 -> 1038 | U8: ='Analysis-School'!G220 -> 1563 | V8: ='Analysis-School'!R220 -> 6279 | W8: ='Analysis-School'!AC220 -> 14
A9: Institutional Credential leading to Licensure | B9: 2244000 | C9: 0.0019801616 | D9: 20 | E9: =Dash!F10 -> 1957161.3 | F9: =Dash!G10 -> 0.00165956 | G9: =Dash!H10 -> 29 | H9: =E9-B9 -> -286838.67 | I9: =H9/B9 -> -0.12782472 | K9: 2023 | L9: ='Analysis-School'!H55 -> 53099 | M9: ='Analysis-School'!S55 -> 55742 | N9: ='Analysis-School'!AD55 -> 1226 | O9: ='Analysis-School'!S165 -> 13346 | P9: ='Analysis-School'!H165 -> 8957 | Q9: ='Analysis-School'!H110 -> 38205 | R9: ='Analysis-School'!AD165 -> 419 | S9: ='Analysis-School'!S110 -> 84997 | T9: ='Analysis-School'!AD110 -> 1522 | U9: ='Analysis-School'!H220 -> 1454 | V9: ='Analysis-School'!S220 -> 6026 | W9: ='Analysis-School'!AD220 -> 24
A10: High-Demand Institutional Credential | B10: 10305833 | C10: 0.0090941246 | D10: 40 | E10: =Dash!F11 -> 17102238 | F10: =Dash!G11 -> 0.014501712 | G10: =Dash!H11 -> 46 | H10: =E10-B10 -> 6796404.9 | I10: =H10/B10 -> 0.65947165 | K10: 2024 | L10: ='Analysis-School'!I55 -> 54670.299 | M10: ='Analysis-School'!T55 -> 56118.768 | N10: ='Analysis-School'!AE55 -> 1202.029 | O10: ='Analysis-School'!T165 -> 14333.987 | P10: ='Analysis-School'!I165 -> 9571.6273 | Q10: ='Analysis-School'!I110 -> 37977.052 | R10: ='Analysis-School'!AE165 -> 419.62461 | S10: ='Analysis-School'!T110 -> 85444.534 | T10: ='Analysis-School'!AE110 -> 1618.6923 | U10: ='Analysis-School'!I220 -> 1549.5169 | V10: ='Analysis-School'!T220 -> 6487.2916 | W10: ='Analysis-School'!AE220 -> 22.8
A11: Occupational Skills Award (OSA) | B11: 1668750 | C11: 0.0014725467 | D11: 34 | E11: =Dash!F12 -> 3828153.5 | F11: =Dash!G12 -> 0.0032460535 | G11: =Dash!H12 -> 37 | H11: =E11-B11 -> 2159403.5 | I11: =H11/B11 -> 1.2940245 | K11: 2025 | L11: ='Analysis-School'!J55 -> 56046.735 | M11: ='Analysis-School'!U55 -> 55531.626 | N11: ='Analysis-School'!AF55 -> 1181.3356 | O11: ='Analysis-School'!U165 -> 15432.779 | P11: ='Analysis-School'!J165 -> 10132.222 | Q11: ='Analysis-School'!J110 -> 37983.141 | R11: ='Analysis-School'!AF165 -> 419.66075 | S11: ='Analysis-School'!U110 -> 85438.79 | T11: ='Analysis-School'!AF110 -> 1753.3462 | U11: ='Analysis-School'!J220 -> 1645.7821 | V11: ='Analysis-School'!U220 -> 6906.6982 | W11: ='Analysis-School'!AF220 -> 21.935201
A12: High-Demand OSA | B12: 7371000 | C12: 0.0065043544 | D12: 37 | E12: =Dash!F13 -> 12762465 | F12: =Dash!G13 -> 0.010821835 | G12: =Dash!H13 -> 39 | H12: =E12-B12 -> 5391465.3 | I12: =H12/B12 -> 0.73144286 | K12: FY25 Change over FY23 | L12: =(L11-L9)/L9 -> 0.055513954 | M12: =(M11-M9)/M9 -> -0.0037740625 | N12: =(N11-N9)/N9 -> -0.036430956 | O12: =(O11-O9)/O9 -> 0.15635987 | P12: =(P11-P9)/P9 -> 0.13120715 | Q12: =(Q11-Q9)/Q9 -> -0.0058070734 | R12: =(R11-R9)/R9 -> 0.0015769766 | S12: =(S11-S9)/S9 -> 0.0051977071 | ... W12: =(W11-W9)/W9 -> -0.086033279
A13: Certificate | B13: 46243750 | C13: 0.040806639 | D13: 50 | E13: =Dash!F14 -> 47616386 | F13: =Dash!G14 -> 0.040375951 | G13: =Dash!H14 -> 50 | H13: =E13-B13 -> 1372636.1 | I13: =H13/B13 -> 0.029682629 | K13: FY25 Change over FY24 | L13: =(L11-L10)/L10 -> 0.025177052 | M13: =(M11-M10)/M10 -> -0.010462493 | N13: =(N11-N10)/N10 -> -0.01721538 | O13: =(O11-O10)/O10 -> 0.076656422 | P13: =(P11-P10)/P10 -> 0.058568428 | Q13: =(Q11-Q10)/Q10 -> 0.00016033534 | R13: =(R11-R10)/R10 -> 8.6143168e-05 | S13: =(S11-S10)/S10 -> -6.7232313e-05 | ... W13: =(W11-W10)/W10 -> -0.037929767
A14: High-Demand Certificate | B14: 1.0034442e+08 | C14: 0.088546418 | D14: 50 | E14: =Dash!F15 -> 1.0680787e+08 | F14: =Dash!G15 -> 0.090566916 | G14: =Dash!H15 -> 50 | H14: =E14-B14 -> 6463452.5 | I14: =H14/B14 -> 0.064412677 | K14: 1. ICLC data is as submitted on ad hoc data collection for FY2020 - 2023. OSA data is as submitted on ad hoc data collection for FY2020 - 2022 and on the CBM00M for FY2023.
A15: Advanced Technical Certificate | B15: 75687.5 | C15: 6.6788539e-05 | D15: 6 | E15: =Dash!F16 -> 159910.75 | F15: =Dash!G16 -> 0.0001355951 | G15: =Dash!H16 -> 9 | H15: =E15-B15 -> 84223.255 | I15: =H15/B15 -> 1.1127763
A16: High-Demand ATC | B16: 2689166.7 | C16: 0.0023729878 | D16: 17 | E16: =Dash!F17 -> 1932529.9 | F16: =Dash!G17 -> 0.0016386739 | G16: =Dash!H17 -> 15 | H16: =E16-B16 -> -756636.82 | I16: =H16/B16 -> -0.28136479
A17: Associate Degree | B17: 331236500 | C17: 0.29229136 | D17: 50 | E17: =Dash!F18 -> 3.288765e+08 | F17: =Dash!G18 -> 0.27886831 | G17: =Dash!H18 -> 50 | H17: =E17-B17 -> -2360003.5 | I17: =H17/B17 -> -0.0071248292
A18: High-Demand Associate | B18: 141953625 | C18: 0.12526342 | D18: 50 | E18: =Dash!F19 -> 1.1514587e+08 | F18: =Dash!G19 -> 0.097637064 | G18: =Dash!H19 -> 50 | H18: =E18-B18 -> -26807751 | I18: =H18/B18 -> -0.18884865
A19: Bachelor's Degree | B19: 2537500 | C19: 0.0022391533 | D19: 5 | E19: =Dash!F20 -> 3744738.5 | F19: =Dash!G20 -> 0.0031753223 | G19: =Dash!H20 -> 7 | H19: =E19-B19 -> 1207238.5 | I19: =H19/B19 -> 0.475759
A20: High-Demand Bachelor's | B20: 4221375 | C20: 0.0037250467 | D20: 16 | E20: =Dash!F21 -> 7379817.5 | F20: =Dash!G21 -> 0.0062576598 | G20: =Dash!H21 -> 17 | H20: =E20-B20 -> 3158442.5 | I20: =H20/B20 -> 0.7482023
A21: CoV Premium: Certificate2 | E21: =Dash!F22 -> 720112.34 | F21: =Dash!G22 -> 0.00061061376 | G21: =Dash!H22 -> 50 | H21: =E21-B21 -> 720112.34 | I21: N/A
A22: CoV Premium: Associate2 | E22: =Dash!F23 -> 6062274.2 | F22: =Dash!G23 -> 0.0051404591 | G22: =Dash!H23 -> 50 | H22: =E22-B22 -> 6062274.2 | I22: N/A
A23: CoV Premium: Bachelor's2 | E23: =Dash!F24 -> 20047.767 | F23: =Dash!G24 -> 1.6999351e-05 | G23: =Dash!H24 -> 2 | H23: =E23-B23 -> 20047.767 | I23: N/A
A24: Transition Funding | B24: 317765.8 | C24: 0.00028040447 | D24: 1 | E24: =Dash!F25 -> 1472335.5 | F24: =Dash!G25 -> 0.0012484556 | G24: =Dash!H25 -> 1 | H24: =E24-B24 -> 1154569.7 | I24: =H24/B24 -> 3.6333983
A25: Total | B25: =SUM(B4:B24) -> 1.0773963e+09 | E25: =SUM(E4:E24) -> 1.1172946e+09 | H25: =E25-B25 -> 39898293 | I25: =H25/B25 -> 0.037032142
A26: 1. Licensure/Certification (no credential) was funded in FY2024, but is no longer a fundable credential beginning in FY2025
A27: 2. Credential of Value Premiums are a new fundable credential beginning in FY2025

Sheet Analysis-School
B1: Community College Formula Funding: Performance Tier Historical and Projected Data 2018-2025
C2: Historical | D2: Historical | E2: Historical | F2: Historical | G2: Historical | H2: Historical | I2: Bound project | J2: Bound project | N2: Historical | O2: Historical | P2: Historical | Q2: Historical | R2: Historical | S2: Historical | T2: Bound project | U2: Bound project | Y2: Historical | Z2: Historical | AA2: Historical | AB2: Historical | AC2: Historical | AD2: Historical | AE2: Bound project | AF2: Bound project
B3: 15 SCH Dual Credit | K3: % Inc over FY23 | M3: Transfer to GAI with 15 SCH | V3: % Inc over FY23 | X3: GAI Co-Enrollment after 15 SCH | AG3: % Inc over FY23
B4: Community College | C4: 2018 | D4: 2019 | E4: 2020 | F4: 2021 | G4: 2022 | H4: 2023 | I4: 2024 | J4: 2025 | M4: Community College | N4: 2018 | O4: 2019 | P4: 2020 | Q4: 2021 | R4: 2022 | S4: 2023 | T4: 2024 | U4: 2025 | X4: Community College | Y4: 2018 | Z4: 2019 | AA4: 2020 | AB4: 2021 | AC4: 2022 | AD4: 2023 | AE4: 2024 | AF4: 2025
A5: 003607 | B5: Alamo Community College District | C5: =SUMIFS(Forecast!$E:$E, Forecast!$A:$A, 'Analysis-School'!$A5, Forecast!$C:$C, 'Analysis-School'!C$4, Forecast!$D:$D, 'Analysis-School'!C$2) -> 4233 | D5: =SUMIFS(Forecast!$E:$E, Forecast!$A:$A, 'Analysis-School'!$A5, Forecast!$C:$C, 'Analysis-School'!D$4, Forecast!$D:$D, 'Analysis-School'!D$2) -> 4035 | E5: =SUMIFS(Forecast!$E:$E, Forecast!$A:$A, 'Analysis-School'!$A5, Forecast!$C:$C, 'Analysis-School'!E$4, Forecast!$D:$D, 'Analysis-School'!E$2) -> 3664 | F5: =SUMIFS(Forecast!$E:$E, Forecast!$A:$A, 'Analysis-School'!$A5, Forecast!$C:$C, 'Analysis-School'!F$4, Forecast!$D:$D, 'Analysis-School'!F$2) -> 3722 | G5: =SUMIFS(Forecast!$E:$E, Forecast!$A:$A, 'Analysis-School'!$A5, Forecast!$C:$C, 'Analysis-School'!G$4, Forecast!$D:$D, 'Analysis-School'!G$2) -> 3563 | H5: =SUMIFS(Forecast!$E:$E, Forecast!$A:$A, 'Analysis-School'!$A5, Forecast!$C:$C, 'Analysis-School'!H$4, Forecast!$D:$D, 'Analysis-School'!H$2) -> 3249 | I5: =SUMIFS(Forecast!$E:$E, Forecast!$A:$A, 'Analysis-School'!$A5, Forecast!$C:$C, 'Analysis-School'!I$4, Forecast!$D:$D, 'Analysis-School'!I$2) -> 3157.4466 | J5: =SUMIFS(Forecast!$E:$E, Forecast!$A:$A, 'Analysis-School'!$A5, Forecast!$C:$C, 'Analysis-School'!J$4, Forecast!$D:$D, 'Analysis-School'!J$2) -> 2999.5743 | K5: =(J5/H5-1) -> -0.076769995 | M5: Alamo Community College District | N5: =SUMIFS(Forecast!$F:$F, Forecast!$A:$A, 'Analysis-School'!$A5, Forecast!$C:$C, 'Analysis-School'!N$4, Forecast!$D:$D, 'Analysis-School'!N$2) -> 4832 | O5: =SUMIFS(Forecast!$F:$F, Forecast!$A:$A, 'Analysis-School'!$A5, Forecast!$C:$C, 'Analysis-School'!O$4, Forecast!$D:$D, 'Analysis-School'!O$2) -> 4893 | P5: =SUMIFS(Forecast!$F:$F, Forecast!$A:$A, 'Analysis-School'!$A5, Forecast!$C:$C, 'Analysis-School'!P$4, Forecast!$D:$D, 'Analysis-School'!P$2) -> 5018 | Q5: =SUMIFS(Forecast!$F:$F, Forecast!$A:$A, 'Analysis-School'!$A5, Forecast!$C:$C, 'Analysis-School'!Q$4, Forecast!$D:$D, 'Analysis-School'!Q$2) -> 5143 | R5: =SUMIFS(Forecast!$F:$F, Forecast!$A:$A, 'Analysis-School'!$A5, Forecast!$C:$C, 'Analysis-School'!R$4, Forecast!$D:$D, 'Analysis-School'!R$2) -> 4547 | S5: =SUMIFS(Forecast!$F:$F, Forecast!$A:$A, 'Analysis-School'!$A5, Forecast!$C:$C, 'Analysis-School'!S$4, Forecast!$D:$D, 'Analysis-School'!S$2) -> 4462 | T5: =SUMIFS(Forecast!$F:$F, Forecast!$A:$A, 'Analysis-School'!$A5, Forecast!$C:$C, 'Analysis-School'!T$4, Forecast!$D:$D, 'Analysis-School'!T$2) -> 4367.199 | U5: =SUMIFS(Forecast!$F:$F, Forecast!$A:$A, 'Analysis-School'!$A5, Forecast!$C:$C, 'Analysis-School'!U$4, Forecast!$D:$D, 'Analysis-School'!U$2) -> 4268.9805 | V5: =(U5/S5-1) -> -0.043258516 | X5: Alamo Community College District | Y5: =SUMIFS(Forecast!$J:$J, Forecast!$A:$A, 'Analysis-School'!$A5, Forecast!$C:$C, 'Analysis-School'!Y$4, Forecast!$D:$D, 'Analysis-School'!Y$2) -> 10 | Z5: =SUMIFS(Forecast!$J:$J, Forecast!$A:$A, 'Analysis-School'!$A5, Forecast!$C:$C, 'Analysis-School'!Z$4, Forecast!$D:$D, 'Analysis-School'!Z$2) -> 9 | AA5: =SUMIFS(Forecast!$J:$J, Forecast!$A:$A, 'Analysis-School'!$A5, Forecast!$C:$C, 'Analysis-School'!AA$4, Forecast!$D:$D, 'Analysis-School'!AA$2) -> 12 | AB5: =SUMIFS(Forecast!$J:$J, Forecast!$A:$A, 'Analysis-School'!$A5, Forecast!$C:$C, 'Analysis-School'!AB$4, Forecast!$D:$D, 'Analysis-School'!AB$2) -> 10 | AC5: =SUMIFS(Forecast!$J:$J, Forecast!$A:$A, 'Analysis-School'!$A5, Forecast!$C:$C, 'Analysis-School'!AC$4, Forecast!$D:$D, 'Analysis-School'!AC$2) -> 17 | AD5: =SUMIFS(Forecast!$J:$J, Forecast!$A:$A, 'Analysis-School'!$A5, Forecast!$C:$C, 'Analysis-School'!AD$4, Forecast!$D:$D, 'Analysis-School'!AD$2) -> 20 | AE5: =SUMIFS(Forecast!$J:$J, Forecast!$A:$A, 'Analysis-School'!$A5, Forecast!$C:$C, 'Analysis-School'!AE$4, Forecast!$D:$D, 'Analysis-School'!AE$2) -> 21.334766 | AF5: =SUMIFS(Forecast!$J:$J, Forecast!$A:$A, 'Analysis-School'!$A5, Forecast!$C:$C, 'Analysis-School'!AF$4, Forecast!$D:$D, 'Analysis-School'!AF$2) -> 23.468243 | AG5: =IFERROR(AF5/AD5-1, "NA") -> 0.17341214
A6: 003539 | B6: Alvin Community College | C6: =SUMIFS(Forecast!$E:$E, Forecast!$A:$A, 'Analysis-School'!$A6, Forecast!$C:$C, 'Analysis-School'!C$4, Forecast!$D:$D, 'Analysis-School'!C$2) -> 545 | D6: =SUMIFS(Forecast!$E:$E, Forecast!$A:$A, 'Analysis-School'!$A6, Forecast!$C:$C, 'Analysis-School'!D$4, Forecast!$D:$D, 'Analysis-School'!D$2) -> 605 | E6: =SUMIFS(Forecast!$E:$E, Forecast!$A:$A, 'Analysis-School'!$A6, Forecast!$C:$C, 'Analysis-School'!E$4, Forecast!$D:$D, 'Analysis-School'!E$2) -> 633 | F6: =SUMIFS(Forecast!$E:$E, Forecast!$A:$A, 'Analysis-School'!$A6, Forecast!$C:$C, 'Analysis-School'!F$4, Forecast!$D:$D, 'Analysis-School'!F$2) -> 607 | G6: =SUMIFS(Forecast!$E:$E, Forecast!$A:$A, 'Analysis-School'!$A6, Forecast!$C:$C, 'Analysis-School'!G$4, Forecast!$D:$D, 'Analysis-School'!G$2) -> 533 | H6: =SUMIFS(Forecast!$E:$E, Forecast!$A:$A, 'Analysis-School'!$A6, Forecast!$C:$C, 'Analysis-School'!H$4, Forecast!$D:$D, 'Analysis-School'!H$2) -> 601 | I6: =SUMIFS(Forecast!$E:$E, Forecast!$A:$A, 'Analysis-School'!$A6, Forecast!$C:$C, 'Analysis-School'!I$4, Forecast!$D:$D, 'Analysis-School'!I$2) -> 579.09741 | J6: =SUMIFS(Forecast!$E:$E, Forecast!$A:$A, 'Analysis-School'!$A6, Forecast!$C:$C, 'Analysis-School'!J$4, Forecast!$D:$D, 'Analysis-School'!J$2) -> 576.04334 | K6: =(J6/H6-1) -> -0.041525229 | M6: Alvin Community College | N6: =SUMIFS(Forecast!$F:$F, Forecast!$A:$A, 'Analysis-School'!$A6, Forecast!$C:$C, 'Analysis-School'!N$4, Forecast!$D:$D, 'Analysis-School'!N$2) -> 477 | O6: =SUMIFS(Forecast!$F:$F, Forecast!$A:$A, 'Analysis-School'!$A6, Forecast!$C:$C, 'Analysis-School'!O$4, Forecast!$D:$D, 'Analysis-School'!O$2) -> 484 | P6: =SUMIFS(Forecast!$F:$F, Forecast!$A:$A, 'Analysis-School'!$A6, Forecast!$C:$C, 'Analysis-School'!P$4, Forecast!$D:$D, 'Analysis-School'!P$2) -> 486 | Q6: =SUMIFS(Forecast!$F:$F, Forecast!$A:$A, 'Analysis-School'!$A6, Forecast!$C:$C, 'Analysis-School'!Q$4, Forecast!$D:$D, 'Analysis-School'!Q$2) -> 449 | R6: =SUMIFS(Forecast!$F:$F, Forecast!$A:$A, 'Analysis-School'!$A6, Forecast!$C:$C, 'Analysis-School'!R$4, Forecast!$D:$D, 'Analysis-School'!R$2) -> 478 | S6: =SUMIFS(Forecast!$F:$F, Forecast!$A:$A, 'Analysis-School'!$A6, Forecast!$C:$C, 'Analysis-School'!S$4, Forecast!$D:$D, 'Analysis-School'!S$2) -> 449 | T6: =SUMIFS(Forecast!$F:$F, Forecast!$A:$A, 'Analysis-School'!$A6, Forecast!$C:$C, 'Analysis-School'!T$4, Forecast!$D:$D, 'Analysis-School'!T$2) -> 444.27537 | U6: =SUMIFS(Forecast!$F:$F, Forecast!$A:$A, 'Analysis-School'!$A6, Forecast!$C:$C, 'Analysis-School'!U$4, Forecast!$D:$D, 'Analysis-School'!U$2) -> 437.95029 | V6: =(U6/S6-1) -> -0.024609589 | X6: Alvin Community College | Y6: =SUMIFS(Forecast!$J:$J, Forecast!$A:$A, 'Analysis-School'!$A6, Forecast!$C:$C, 'Analysis-School'!Y$4, Forecast!$D:$D, 'Analysis-School'!Y$2) -> 0 | Z6: =SUMIFS(Forecast!$J:$J, Forecast!$A:$A, 'Analysis-School'!$A6, Forecast!$C:$C, 'Analysis-School'!Z$4, Forecast!$D:$D, 'Analysis-School'!Z$2) -> 0 | AA6: =SUMIFS(Forecast!$J:$J, Forecast!$A:$A, 'Analysis-School'!$A6, Forecast!$C:$C, 'Analysis-School'!AA$4, Forecast!$D:$D, 'Analysis-School'!AA$2) -> 0 | AB6: =SUMIFS(Forecast!$J:$J, Forecast!$A:$A, 'Analysis-School'!$A6, Forecast!$C:$C, 'Analysis-School'!AB$4, Forecast!$D:$D, 'Analysis-School'!AB$2) -> 0 | AC6: =SUMIFS(Forecast!$J:$J, Forecast!$A:$A, 'Analysis-School'!$A6, Forecast!$C:$C, 'Analysis-School'!AC$4, Forecast!$D:$D, 'Analysis-School'!AC$2) -> 0 | AD6: =SUMIFS(Forecast!$J:$J, Forecast!$A:$A, 'Analysis-School'!$A6, Forecast!$C:$C, 'Analysis-School'!AD$4, Forecast!$D:$D, 'Analysis-School'!AD$2) -> 0 | AE6: =SUMIFS(Forecast!$J:$J, Forecast!$A:$A, 'Analysis-School'!$A6, Forecast!$C:$C, 'Analysis-School'!AE$4, Forecast!$D:$D, 'Analysis-School'!AE$2) -> 0 | AF6: =SUMIFS(Forecast!$J:$J, Forecast!$A:$A, 'Analysis-School'!$A6, Forecast!$C:$C, 'Analysis-School'!AF$4, Forecast!$D:$D, 'Analysis-School'!AF$2) -> 0 | AG6: =IFERROR(AF6/AD6-1, "NA") -> NA
A7: 003540 | B7: Amarillo College | C7: =SUMIFS(Forecast!$E:$E, Forecast!$A:$A, 'Analysis-School'!$A7, Forecast!$C:$C, 'Analysis-School'!C$4, Forecast!$D:$D, 'Analysis-School'!C$2) -> 766 | D7: =SUMIFS(Forecast!$E:$E, Forecast!$A:$A, 'Analysis-School'!$A7, Forecast!$C:$C, 'Analysis-School'!D$4, Forecast!$D:$D, 'Analysis-School'!D$2) -> 718 | E7: =SUMIFS(Forecast!$E:$E, Forecast!$A:$A, 'Analysis-School'!$A7, Forecast!$C:$C, 'Analysis-School'!E$4, Forecast!$D:$D, 'Analysis-School'!E$2) -> 685 | F7: =SUMIFS(Forecast!$E:$E, Forecast!$A:$A, 'Analysis-School'!$A7, Forecast!$C:$C, 'Analysis-School'!F$4, Forecast!$D:$D, 'Analysis-School'!F$2) -> 640 | G7: =SUMIFS(Forecast!$E:$E, Forecast!$A:$A, 'Analysis-School'!$A7, Forecast!$C:$C, 'Analysis-School'!G$4, Forecast!$D:$D, 'Analysis-School'!G$2) -> 651 | H7: =SUMIFS(Forecast!$E:$E, Forecast!$A:$A, 'Analysis-School'!$A7, Forecast!$C:$C, 'Analysis-School'!H$4, Forecast!$D:$D, 'Analysis-School'!H$2) -> 664 | I7: =SUMIFS(Forecast!$E:$E, Forecast!$A:$A, 'Analysis-School'!$A7, Forecast!$C:$C, 'Analysis-School'!I$4, Forecast!$D:$D, 'Analysis-School'!I$2) -> 641.55823 | J7: =SUMIFS(Forecast!$E:$E, Forecast!$A:$A, 'Analysis-School'!$A7, Forecast!$C:$C, 'Analysis-School'!J$4, Forecast!$D:$D, 'Analysis-School'!J$2) -> 622.58943 | K7: =(J7/H7-1) -> -0.062365322 | M7: Amarillo College | N7: =SUMIFS(Forecast!$F:$F, Forecast!$A:$A, 'Analysis-School'!$A7, Forecast!$C:$C, 'Analysis-School'!N$4, Forecast!$D:$D, 'Analysis-School'!N$2) -> 836 | O7: =SUMIFS(Forecast!$F:$F, Forecast!$A:$A, 'Analysis-School'!$A7, Forecast!$C:$C, 'Analysis-School'!O$4, Forecast!$D:$D, 'Analysis-School'!O$2) -> 824 | P7: =SUMIFS(Forecast!$F:$F, Forecast!$A:$A, 'Analysis-School'!$A7, Forecast!$C:$C, 'Analysis-School'!P$4, Forecast!$D:$D, 'Analysis-School'!P$2) -> 841 | Q7: =SUMIFS(Forecast!$F:$F, Forecast!$A:$A, 'Analysis-School'!$A7, Forecast!$C:$C, 'Analysis-School'!Q$4, Forecast!$D:$D, 'Analysis-School'!Q$2) -> 794 | R7: =SUMIFS(Forecast!$F:$F, Forecast!$A:$A, 'Analysis-School'!$A7, Forecast!$C:$C, 'Analysis-School'!R$4, Forecast!$D:$D, 'Analysis-School'!R$2) -> 820 | S7: =SUMIFS(Forecast!$F:$F, Forecast!$A:$A, 'Analysis-School'!$A7, Forecast!$C:$C, 'Analysis-School'!S$4, Forecast!$D:$D, 'Analysis-School'!S$2) -> 732 | T7: =SUMIFS(Forecast!$F:$F, Forecast!$A:$A, 'Analysis-School'!$A7, Forecast!$C:$C, 'Analysis-School'!T$4, Forecast!$D:$D, 'Analysis-School'!T$2) -> 737.87771 | U7: =SUMIFS(Forecast!$F:$F, Forecast!$A:$A, 'Analysis-School'!$A7, Forecast!$C:$C, 'Analysis-School'!U$4, Forecast!$D:$D, 'Analysis-School'!U$2) -> 719.99567 | V7: =(U7/S7-1) -> -0.016399356 | X7: Amarillo College | Y7: =SUMIFS(Forecast!$J:$J, Forecast!$A:$A, 'Analysis-School'!$A7, Forecast!$C:$C, 'Analysis-School'!Y$4, Forecast!$D:$D, 'Analysis-School'!Y$2) -> 0 | Z7: =SUMIFS(Forecast!$J:$J, Forecast!$A:$A, 'Analysis-School'!$A7, Forecast!$C:$C, 'Analysis-School'!Z$4, Forecast!$D:$D, 'Analysis-School'!Z$2) -> 0 | AA7: =SUMIFS(Forecast!$J:$J, Forecast!$A:$A, 'Analysis-School'!$A7, Forecast!$C:$C, 'Analysis-School'!AA$4, Forecast!$D:$D, 'Analysis-School'!AA$2) -> 0 | AB7: =SUMIFS(Forecast!$J:$J, Forecast!$A:$A, 'Analysis-School'!$A7, Forecast!$C:$C, 'Analysis-School'!AB$4, Forecast!$D:$D, 'Analysis-School'!AB$2) -> 0 | AC7: =SUMIFS(Forecast!$J:$J, Forecast!$A:$A, 'Analysis-School'!$A7, Forecast!$C:$C, 'Analysis-School'!AC$4, Forecast!$D:$D, 'Analysis-School'!AC$2) -> 0 | AD7: =SUMIFS(Forecast!$J:$J, Forecast!$A:$A, 'Analysis-School'!$A7, Forecast!$C:$C, 'Analysis-School'!AD$4, Forecast!$D:$D, 'Analysis-School'!AD$2) -> 0 | AE7: =SUMIFS(Forecast!$J:$J, Forecast!$A:$A, 'Analysis-School'!$A7, Forecast!$C:$C, 'Analysis-School'!AE$4, Forecast!$D:$D, 'Analysis-School'!AE$2) -> 0 | AF7: =SUMIFS(Forecast!$J:$J, Forecast!$A:$A, 'Analysis-School'!$A7, Forecast!$C:$C, 'Analysis-School'!AF$4, Forecast!$D:$D, 'Analysis-School'!AF$2) -> 0 | AG7: =IFERROR(AF7/AD7-1, "NA") -> NA
A8: 006661 | B8: Angelina College | C8: =SUMIFS(Forecast!$E:$E, Forecast!$A:$A, 'Analysis-School'!$A8, Forecast!$C:$C, 'Analysis-School'!C$4, Forecast!$D:$D, 'Analysis-School'!C$2) -> 466 | D8: =SUMIFS(Forecast!$E:$E, Forecast!$A:$A, 'Analysis-School'!$A8, Forecast!$C:$C, 'Analysis-School'!D$4, Forecast!$D:$D, 'Analysis-School'!D$2) -> 447 | E8: =SUMIFS(Forecast!$E:$E, Forecast!$A:$A, 'Analysis-School'!$A8, Forecast!$C:$C, 'Analysis-School'!E$4, Forecast!$D:$D, 'Analysis-School'!E$2) -> 474 | F8: =SUMIFS(Forecast!$E:$E, Forecast!$A:$A, 'Analysis-School'!$A8, Forecast!$C:$C, 'Analysis-School'!F$4, Forecast!$D:$D, 'Analysis-School'!F$2) -> 549 | G8: =SUMIFS(Forecast!$E:$E, Forecast!$A:$A, 'Analysis-School'!$A8, Forecast!$C:$C, 'Analysis-School'!G$4, Forecast!$D:$D, 'Analysis-School'!G$2) -> 503 | H8: =SUMIFS(Forecast!$E:$E, Forecast!$A:$A, 'Analysis-School'!$A8, Forecast!$C:$C, 'Analysis-School'!H$4, Forecast!$D:$D, 'Analysis-School'!H$2) -> 512 | I8: =SUMIFS(Forecast!$E:$E, Forecast!$A:$A, 'Analysis-School'!$A8, Forecast!$C:$C, 'Analysis-School'!I$4, Forecast!$D:$D, 'Analysis-School'!I$2) -> 551.88285 | J8: =SUMIFS(Forecast!$E:$E, Forecast!$A:$A, 'Analysis-School'!$A8, Forecast!$C:$C, 'Analysis-School'!J$4, Forecast!$D:$D, 'Analysis-School'!J$2) -> 566.18931 | K8: =(J8/H8-1) -> 0.1058385 | M8: Angelina College | N8: =SUMIFS(Forecast!$F:$F, Forecast!$A:$A, 'Analysis-School'!$A8, Forecast!$C:$C, 'Analysis-School'!N$4, Forecast!$D:$D, 'Analysis-School'!N$2) -> 401 | O8: =SUMIFS(Forecast!$F:$F, Forecast!$A:$A, 'Analysis-School'!$A8, Forecast!$C:$C, 'Analysis-School'!O$4, Forecast!$D:$D, 'Analysis-School'!O$2) -> 362 | P8: =SUMIFS(Forecast!$F:$F, Forecast!$A:$A, 'Analysis-School'!$A8, Forecast!$C:$C, 'Analysis-School'!P$4, Forecast!$D:$D, 'Analysis-School'!P$2) -> 361 | Q8: =SUMIFS(Forecast!$F:$F, Forecast!$A:$A, 'Analysis-School'!$A8, Forecast!$C:$C, 'Analysis-School'!Q$4, Forecast!$D:$D, 'Analysis-School'!Q$2) -> 358 | R8: =SUMIFS(Forecast!$F:$F, Forecast!$A:$A, 'Analysis-School'!$A8, Forecast!$C:$C, 'Analysis-School'!R$4, Forecast!$D:$D, 'Analysis-School'!R$2) -> 337 | S8: =SUMIFS(Forecast!$F:$F, Forecast!$A:$A, 'Analysis-School'!$A8, Forecast!$C:$C, 'Analysis-School'!S$4, Forecast!$D:$D, 'Analysis-School'!S$2) -> 366 | T8: =SUMIFS(Forecast!$F:$F, Forecast!$A:$A, 'Analysis-School'!$A8, Forecast!$C:$C, 'Analysis-School'!T$4, Forecast!$D:$D, 'Analysis-School'!T$2) -> 353.15737 | U8: =SUMIFS(Forecast!$F:$F, Forecast!$A:$A, 'Analysis-School'!$A8, Forecast!$C:$C, 'Analysis-School'!U$4, Forecast!$D:$D, 'Analysis-School'!U$2) -> 347.9172 | V8: =(U8/S8-1) -> -0.049406557 | X8: Angelina College | Y8: =SUMIFS(Forecast!$J:$J, Forecast!$A:$A, 'Analysis-School'!$A8, Forecast!$C:$C, 'Analysis-School'!Y$4, Forecast!$D:$D, 'Analysis-School'!Y$2) -> 0 | Z8: =SUMIFS(Forecast!$J:$J, Forecast!$A:$A, 'Analysis-School'!$A8, Forecast!$C:$C, 'Analysis-School'!Z$4, Forecast!$D:$D, 'Analysis-School'!Z$2) -> 0 | AA8: =SUMIFS(Forecast!$J:$J, Forecast!$A:$A, 'Analysis-School'!$A8, Forecast!$C:$C, 'Analysis-School'!AA$4, Forecast!$D:$D, 'Analysis-School'!AA$2) -> 0 | AB8: =SUMIFS(Forecast!$J:$J, Forecast!$A:$A, 'Analysis-School'!$A8, Forecast!$C:$C, 'Analysis-School'!AB$4, Forecast!$D:$D, 'Analysis-School'!AB$2) -> 0 | AC8: =SUMIFS(Forecast!$J:$J, Forecast!$A:$A, 'Analysis-School'!$A8, Forecast!$C:$C, 'Analysis-School'!AC$4, Forecast!$D:$D, 'Analysis-School'!AC$2) -> 0 | AD8: =SUMIFS(Forecast!$J:$J, Forecast!$A:$A, 'Analysis-School'!$A8, Forecast!$C:$C, 'Analysis-School'!AD$4, Forecast!$D:$D, 'Analysis-School'!AD$2) -> 0 | AE8: =SUMIFS(Forecast!$J:$J, Forecast!$A:$A, 'Analysis-School'!$A8, Forecast!$C:$C, 'Analysis-School'!AE$4, Forecast!$D:$D, 'Analysis-School'!AE$2) -> 0 | AF8: =SUMIFS(Forecast!$J:$J, Forecast!$A:$A, 'Analysis-School'!$A8, Forecast!$C:$C, 'Analysis-School'!AF$4, Forecast!$D:$D, 'Analysis-School'!AF$2) -> 0 | AG8: =IFERROR(AF8/AD8-1, "NA") -> NA
A9: 012015 | B9: Austin Community College | C9: =SUMIFS(Forecast!$E:$E, Forecast!$A:$A, 'Analysis-School'!$A9, Forecast!$C:$C, 'Analysis-School'!C$4, Forecast!$D:$D, 'Analysis-School'!C$2) -> 2197 | D9: =SUMIFS(Forecast!$E:$E, Forecast!$A:$A, 'Analysis-School'!$A9, Forecast!$C:$C, 'Analysis-School'!D$4, Forecast!$D:$D, 'Analysis-School'!D$2) -> 2274 | E9: =SUMIFS(Forecast!$E:$E, Forecast!$A:$A, 'Analysis-School'!$A9, Forecast!$C:$C, 'Analysis-School'!E$4, Forecast!$D:$D, 'Analysis-School'!E$2) -> 2543 | F9: =SUMIFS(Forecast!$E:$E, Forecast!$A:$A, 'Analysis-School'!$A9, Forecast!$C:$C, 'Analysis-School'!F$4, Forecast!$D:$D, 'Analysis-School'!F$2) -> 2211 | G9: =SUMIFS(Forecast!$E:$E, Forecast!$A:$A, 'Analysis-School'!$A9, Forecast!$C:$C, 'Analysis-School'!G$4, Forecast!$D:$D, 'Analysis-School'!G$2) -> 2345 | H9: =SUMIFS(Forecast!$E:$E, Forecast!$A:$A, 'Analysis-School'!$A9, Forecast!$C:$C, 'Analysis-School'!H$4, Forecast!$D:$D, 'Analysis-School'!H$2) -> 2034 | I9: =SUMIFS(Forecast!$E:$E, Forecast!$A:$A, 'Analysis-School'!$A9, Forecast!$C:$C, 'Analysis-School'!I$4, Forecast!$D:$D, 'Analysis-School'!I$2) -> 2097.5445 | J9: =SUMIFS(Forecast!$E:$E, Forecast!$A:$A, 'Analysis-School'!$A9, Forecast!$C:$C, 'Analysis-School'!J$4, Forecast!$D:$D, 'Analysis-School'!J$2) -> 2056.4691 | K9: =(J9/H9-1) -> 0.011046758 | M9: Austin Community College | N9: =SUMIFS(Forecast!$F:$F, Forecast!$A:$A, 'Analysis-School'!$A9, Forecast!$C:$C, 'Analysis-School'!N$4, Forecast!$D:$D, 'Analysis-School'!N$2) -> 3295 | O9: =SUMIFS(Forecast!$F:$F, Forecast!$A:$A, 'Analysis-School'!$A9, Forecast!$C:$C, 'Analysis-School'!O$4, Forecast!$D:$D, 'Analysis-School'!O$2) -> 3133 | P9: =SUMIFS(Forecast!$F:$F, Forecast!$A:$A, 'Analysis-School'!$A9, Forecast!$C:$C, 'Analysis-School'!P$4, Forecast!$D:$D, 'Analysis-School'!P$2) -> 3283 | Q9: =SUMIFS(Forecast!$F:$F, Forecast!$A:$A, 'Analysis-School'!$A9, Forecast!$C:$C, 'Analysis-School'!Q$4, Forecast!$D:$D, 'Analysis-School'!Q$2) -> 3345 | R9: =SUMIFS(Forecast!$F:$F, Forecast!$A:$A, 'Analysis-School'!$A9, Forecast!$C:$C, 'Analysis-School'!R$4, Forecast!$D:$D, 'Analysis-School'!R$2) -> 3108 | S9: =SUMIFS(Forecast!$F:$F, Forecast!$A:$A, 'Analysis-School'!$A9, Forecast!$C:$C, 'Analysis-School'!S$4, Forecast!$D:$D, 'Analysis-School'!S$2) -> 2641 | T9: =SUMIFS(Forecast!$F:$F, Forecast!$A:$A, 'Analysis-School'!$A9, Forecast!$C:$C, 'Analysis-School'!T$4, Forecast!$D:$D, 'Analysis-School'!T$2) -> 2730.2963 | U9: =SUMIFS(Forecast!$F:$F, Forecast!$A:$A, 'Analysis-School'!$A9, Forecast!$C:$C, 'Analysis-School'!U$4, Forecast!$D:$D, 'Analysis-School'!U$2) -> 2629.0415 | V9: =(U9/S9-1) -> -0.0045280154 | X9: Austin Community College | Y9: =SUMIFS(Forecast!$J:$J, Forecast!$A:$A, 'Analysis-School'!$A9, Forecast!$C:$C, 'Analysis-School'!Y$4, Forecast!$D:$D, 'Analysis-School'!Y$2) -> 99 | Z9: =SUMIFS(Forecast!$J:$J, Forecast!$A:$A, 'Analysis-School'!$A9, Forecast!$C:$C, 'Analysis-School'!Z$4, Forecast!$D:$D, 'Analysis-School'!Z$2) -> 111 | AA9: =SUMIFS(Forecast!$J:$J, Forecast!$A:$A, 'Analysis-School'!$A9, Forecast!$C:$C, 'Analysis-School'!AA$4, Forecast!$D:$D, 'Analysis-School'!AA$2) -> 130 | AB9: =SUMIFS(Forecast!$J:$J, Forecast!$A:$A, 'Analysis-School'!$A9, Forecast!$C:$C, 'Analysis-School'!AB$4, Forecast!$D:$D, 'Analysis-School'!AB$2) -> 129 | AC9: =SUMIFS(Forecast!$J:$J, Forecast!$A:$A, 'Analysis-School'!$A9, Forecast!$C:$C, 'Analysis-School'!AC$4, Forecast!$D:$D, 'Analysis-School'!AC$2) -> 189 | AD9: =SUMIFS(Forecast!$J:$J, Forecast!$A:$A, 'Analysis-School'!$A9, Forecast!$C:$C, 'Analysis-School'!AD$4, Forecast!$D:$D, 'Analysis-School'!AD$2) -> 186 | AE9: =SUMIFS(Forecast!$J:$J, Forecast!$A:$A, 'Analysis-School'!$A9, Forecast!$C:$C, 'Analysis-School'!AE$4, Forecast!$D:$D, 'Analysis-School'!AE$2) -> 204.6 | AF9: =SUMIFS(Forecast!$J:$J, Forecast!$A:$A, 'Analysis-School'!$A9, Forecast!$C:$C, 'Analysis-School'!AF$4, Forecast!$D:$D, 'Analysis-School'!AF$2) -> 225.06 | AG9: =IFERROR(AF9/AD9-1, "NA") -> 0.21
A10: 003549 | B10: Blinn College District | C10: =SUMIFS(Forecast!$E:$E, Forecast!$A:$A, 'Analysis-School'!$A10, Forecast!$C:$C, 'Analysis-School'!C$4, Forecast!$D:$D, 'Analysis-School'!C$2) -> 430 | D10: =SUMIFS(Forecast!$E:$E, Forecast!$A:$A, 'Analysis-School'!$A10, Forecast!$C:$C, 'Analysis-School'!D$4, Forecast!$D:$D, 'Analysis-School'!D$2) -> 434 | E10: =SUMIFS(Forecast!$E:$E, Forecast!$A:$A, 'Analysis-School'!$A10, Forecast!$C:$C, 'Analysis-School'!E$4, Forecast!$D:$D, 'Analysis-School'!E$2) -> 460 | F10: =SUMIFS(Forecast!$E:$E, Forecast!$A:$A, 'Analysis-School'!$A10, Forecast!$C:$C, 'Analysis-School'!F$4, Forecast!$D:$D, 'Analysis-School'!F$2) -> 444 | G10: =SUMIFS(Forecast!$E:$E, Forecast!$A:$A, 'Analysis-School'!$A10, Forecast!$C:$C, 'Analysis-School'!G$4, Forecast!$D:$D, 'Analysis-School'!G$2) -> 396 | H10: =SUMIFS(Forecast!$E:$E, Forecast!$A:$A, 'Analysis-School'!$A10, Forecast!$C:$C, 'Analysis-School'!H$4, Forecast!$D:$D, 'Analysis-School'!H$2) -> 466 | I10: =SUMIFS(Forecast!$E:$E, Forecast!$A:$A, 'Analysis-School'!$A10, Forecast!$C:$C, 'Analysis-School'!I$4, Forecast!$D:$D, 'Analysis-School'!I$2) -> 442.7 | J10: =SUMIFS(Forecast!$E:$E, Forecast!$A:$A, 'Analysis-School'!$A10, Forecast!$C:$C, 'Analysis-School'!J$4, Forecast!$D:$D, 'Analysis-School'!J$2) -> 436.65329 | K10: =(J10/H10-1) -> -0.062975777 | M10: Blinn College District | N10: =SUMIFS(Forecast!$F:$F, Forecast!$A:$A, 'Analysis-School'!$A10, Forecast!$C:$C, 'Analysis-School'!N$4, Forecast!$D:$D, 'Analysis-School'!N$2) -> 4080 | O10: =SUMIFS(Forecast!$F:$F, Forecast!$A:$A, 'Analysis-School'!$A10, Forecast!$C:$C, 'Analysis-School'!O$4, Forecast!$D:$D, 'Analysis-School'!O$2) -> 3528 | P10: =SUMIFS(Forecast!$F:$F, Forecast!$A:$A, 'Analysis-School'!$A10, Forecast!$C:$C, 'Analysis-School'!P$4, Forecast!$D:$D, 'Analysis-School'!P$2) -> 3700 | Q10: =SUMIFS(Forecast!$F:$F, Forecast!$A:$A, 'Analysis-School'!$A10, Forecast!$C:$C, 'Analysis-School'!Q$4, Forecast!$D:$D, 'Analysis-School'!Q$2) -> 3758 | R10: =SUMIFS(Forecast!$F:$F, Forecast!$A:$A, 'Analysis-School'!$A10, Forecast!$C:$C, 'Analysis-School'!R$4, Forecast!$D:$D, 'Analysis-School'!R$2) -> 3537 | S10: =SUMIFS(Forecast!$F:$F, Forecast!$A:$A, 'Analysis-School'!$A10, Forecast!$C:$C, 'Analysis-School'!S$4, Forecast!$D:$D, 'Analysis-School'!S$2) -> 3292 | T10: =SUMIFS(Forecast!$F:$F, Forecast!$A:$A, 'Analysis-School'!$A10, Forecast!$C:$C, 'Analysis-School'!T$4, Forecast!$D:$D, 'Analysis-School'!T$2) -> 3343.0895 | U10: =SUMIFS(Forecast!$F:$F, Forecast!$A:$A, 'Analysis-School'!$A10, Forecast!$C:$C, 'Analysis-School'!U$4, Forecast!$D:$D, 'Analysis-School'!U$2) -> 3248.9113 | V10: =(U10/S10-1) -> -0.013088906 | X10: Blinn College District | Y10: =SUMIFS(Forecast!$J:$J, Forecast!$A:$A, 'Analysis-School'!$A10, Forecast!$C:$C, 'Analysis-School'!Y$4, Forecast!$D:$D, 'Analysis-School'!Y$2) -> 1102 | Z10: =SUMIFS(Forecast!$J:$J, Forecast!$A:$A, 'Analysis-School'!$A10, Forecast!$C:$C, 'Analysis-School'!Z$4, Forecast!$D:$D, 'Analysis-School'!Z$2) -> 1077 | AA10: =SUMIFS(Forecast!$J:$J, Forecast!$A:$A, 'Analysis-School'!$A10, Forecast!$C:$C, 'Analysis-School'!AA$4, Forecast!$D:$D, 'Analysis-School'!AA$2) -> 1384 | AB10: =SUMIFS(Forecast!$J:$J, Forecast!$A:$A, 'Analysis-School'!$A10, Forecast!$C:$C, 'Analysis-School'!AB$4, Forecast!$D:$D, 'Analysis-School'!AB$2) -> 972 | AC10: =SUMIFS(Forecast!$J:$J, Forecast!$A:$A, 'Analysis-School'!$A10, Forecast!$C:$C, 'Analysis-School'!AC$4, Forecast!$D:$D, 'Analysis-School'!AC$2) -> 817 | AD10: =SUMIFS(Forecast!$J:$J, Forecast!$A:$A, 'Analysis-School'!$A10, Forecast!$C:$C, 'Analysis-School'!AD$4, Forecast!$D:$D, 'Analysis-School'!AD$2) -> 922 | AE10: =SUMIFS(Forecast!$J:$J, Forecast!$A:$A, 'Analysis-School'!$A10, Forecast!$C:$C, 'Analysis-School'!AE$4, Forecast!$D:$D, 'Analysis-School'!AE$2) -> 875.9 | AF10: =SUMIFS(Forecast!$J:$J, Forecast!$A:$A, 'Analysis-School'!$A10, Forecast!$C:$C, 'Analysis-School'!AF$4, Forecast!$D:$D, 'Analysis-School'!AF$2) -> 832.105 | AG10: =IFERROR(AF10/AD10-1, "NA") -> -0.0975
A11: 007857 | B11: Brazosport College | C11: =SUMIFS(Forecast!$E:$E, Forecast!$A:$A, 'Analysis-School'!$A11, Forecast!$C:$C, 'Analysis-School'!C$4, Forecast!$D:$D, 'Analysis-School'!C$2) -> 377 | D11: =SUMIFS(Forecast!$E:$E, Forecast!$A:$A, 'Analysis-School'!$A11, Forecast!$C:$C, 'Analysis-School'!D$4, Forecast!$D:$D, 'Analysis-School'!D$2) -> 300 | E11: =SUMIFS(Forecast!$E:$E, Forecast!$A:$A, 'Analysis-School'!$A11, Forecast!$C:$C, 'Analysis-School'!E$4, Forecast!$D:$D, 'Analysis-School'!E$2) -> 378 | F11: =SUMIFS(Forecast!$E:$E, Forecast!$A:$A, 'Analysis-School'!$A11, Forecast!$C:$C, 'Analysis-School'!F$4, Forecast!$D:$D, 'Analysis-School'!F$2) -> 280 | G11: =SUMIFS(Forecast!$E:$E, Forecast!$A:$A, 'Analysis-School'!$A11, Forecast!$C:$C, 'Analysis-School'!G$4, Forecast!$D:$D, 'Analysis-School'!G$2) -> 275 | H11: =SUMIFS(Forecast!$E:$E, Forecast!$A:$A, 'Analysis-School'!$A11, Forecast!$C:$C, 'Analysis-School'!H$4, Forecast!$D:$D, 'Analysis-School'!H$2) -> 315 | I11: =SUMIFS(Forecast!$E:$E, Forecast!$A:$A, 'Analysis-School'!$A11, Forecast!$C:$C, 'Analysis-School'!I$4, Forecast!$D:$D, 'Analysis-School'!I$2) -> 299.25 | J11: =SUMIFS(Forecast!$E:$E, Forecast!$A:$A, 'Analysis-School'!$A11, Forecast!$C:$C, 'Analysis-School'!J$4, Forecast!$D:$D, 'Analysis-School'!J$2) -> 284.2875 | K11: =(J11/H11-1) -> -0.0975 | M11: Brazosport College | N11: =SUMIFS(Forecast!$F:$F, Forecast!$A:$A, 'Analysis-School'!$A11, Forecast!$C:$C, 'Analysis-School'!N$4, Forecast!$D:$D, 'Analysis-School'!N$2) -> 302 | O11: =SUMIFS(Forecast!$F:$F, Forecast!$A:$A, 'Analysis-School'!$A11, Forecast!$C:$C, 'Analysis-School'!O$4, Forecast!$D:$D, 'Analysis-School'!O$2) -> 278 | P11: =SUMIFS(Forecast!$F:$F, Forecast!$A:$A, 'Analysis-School'!$A11, Forecast!$C:$C, 'Analysis-School'!P$4, Forecast!$D:$D, 'Analysis-School'!P$2) -> 293 | Q11: =SUMIFS(Forecast!$F:$F, Forecast!$A:$A, 'Analysis-School'!$A11, Forecast!$C:$C, 'Analysis-School'!Q$4, Forecast!$D:$D, 'Analysis-School'!Q$2) -> 230 | R11: =SUMIFS(Forecast!$F:$F, Forecast!$A:$A, 'Analysis-School'!$A11, Forecast!$C:$C, 'Analysis-School'!R$4, Forecast!$D:$D, 'Analysis-School'!R$2) -> 246 | S11: =SUMIFS(Forecast!$F:$F, Forecast!$A:$A, 'Analysis-School'!$A11, Forecast!$C:$C, 'Analysis-School'!S$4, Forecast!$D:$D, 'Analysis-School'!S$2) -> 210 | T11: =SUMIFS(Forecast!$F:$F, Forecast!$A:$A, 'Analysis-School'!$A11, Forecast!$C:$C, 'Analysis-School'!T$4, Forecast!$D:$D, 'Analysis-School'!T$2) -> 199.5 | U11: =SUMIFS(Forecast!$F:$F, Forecast!$A:$A, 'Analysis-School'!$A11, Forecast!$C:$C, 'Analysis-School'!U$4, Forecast!$D:$D, 'Analysis-School'!U$2) -> 189.525 | V11: =(U11/S11-1) -> -0.0975 | X11: Brazosport College | Y11: =SUMIFS(Forecast!$J:$J, Forecast!$A:$A, 'Analysis-School'!$A11, Forecast!$C:$C, 'Analysis-School'!Y$4, Forecast!$D:$D, 'Analysis-School'!Y$2) -> 0 | Z11: =SUMIFS(Forecast!$J:$J, Forecast!$A:$A, 'Analysis-School'!$A11, Forecast!$C:$C, 'Analysis-School'!Z$4, Forecast!$D:$D, 'Analysis-School'!Z$2) -> 0 | AA11: =SUMIFS(Forecast!$J:$J, Forecast!$A:$A, 'Analysis-School'!$A11, Forecast!$C:$C, 'Analysis-School'!AA$4, Forecast!$D:$D, 'Analysis-School'!AA$2) -> 0 | AB11: =SUMIFS(Forecast!$J:$J, Forecast!$A:$A, 'Analysis-School'!$A11, Forecast!$C:$C, 'Analysis-School'!AB$4, Forecast!$D:$D, 'Analysis-School'!AB$2) -> 0 | AC11: =SUMIFS(Forecast!$J:$J, Forecast!$A:$A, 'Analysis-School'!$A11, Forecast!$C:$C, 'Analysis-School'!AC$4, Forecast!$D:$D, 'Analysis-School'!AC$2) -> 0 | AD11: =SUMIFS(Forecast!$J:$J, Forecast!$A:$A, 'Analysis-School'!$A11, Forecast!$C:$C, 'Analysis-School'!AD$4, Forecast!$D:$D, 'Analysis-School'!AD$2) -> 0 | AE11: =SUMIFS(Forecast!$J:$J, Forecast!$A:$A, 'Analysis-School'!$A11, Forecast!$C:$C, 'Analysis-School'!AE$4, Forecast!$D:$D, 'Analysis-School'!AE$2) -> 0 | AF11: =SUMIFS(Forecast!$J:$J, Forecast!$A:$A, 'Analysis-School'!$A11, Forecast!$C:$C, 'Analysis-School'!AF$4, Forecast!$D:$D, 'Analysis-School'!AF$2) -> 0 | AG11: =IFERROR(AF11/AD11-1, "NA") -> NA
A12: 004003 | B12: Central Texas College | C12: =SUMIFS(Forecast!$E:$E, Forecast!$A:$A, 'Analysis-School'!$A12, Forecast!$C:$C, 'Analysis-School'!C$4, Forecast!$D:$D, 'Analysis-School'!C$2) -> 314 | D12: =SUMIFS(Forecast!$E:$E, Forecast!$A:$A, 'Analysis-School'!$A12, Forecast!$C:$C, 'Analysis-School'!D$4, Forecast!$D:$D, 'Analysis-School'!D$2) -> 798 | E12: =SUMIFS(Forecast!$E:$E, Forecast!$A:$A, 'Analysis-School'!$A12, Forecast!$C:$C, 'Analysis-School'!E$4, Forecast!$D:$D, 'Analysis-School'!E$2) -> 653 | F12: =SUMIFS(Forecast!$E:$E, Forecast!$A:$A, 'Analysis-School'!$A12, Forecast!$C:$C, 'Analysis-School'!F$4, Forecast!$D:$D, 'Analysis-School'!F$2) -> 606 | G12: =SUMIFS(Forecast!$E:$E, Forecast!$A:$A, 'Analysis-School'!$A12, Forecast!$C:$C, 'Analysis-School'!G$4, Forecast!$D:$D, 'Analysis-School'!G$2) -> 534 | H12: =SUMIFS(Forecast!$E:$E, Forecast!$A:$A, 'Analysis-School'!$A12, Forecast!$C:$C, 'Analysis-School'!H$4, Forecast!$D:$D, 'Analysis-School'!H$2) -> 523 | I12: =SUMIFS(Forecast!$E:$E, Forecast!$A:$A, 'Analysis-School'!$A12, Forecast!$C:$C, 'Analysis-School'!I$4, Forecast!$D:$D, 'Analysis-School'!I$2) -> 504.82893 | J12: =SUMIFS(Forecast!$E:$E, Forecast!$A:$A, 'Analysis-School'!$A12, Forecast!$C:$C, 'Analysis-School'!J$4, Forecast!$D:$D, 'Analysis-School'!J$2) -> 485.13197 | K12: =(J12/H12-1) -> -0.072405412 | M12: Central Texas College | N12: =SUMIFS(Forecast!$F:$F, Forecast!$A:$A, 'Analysis-School'!$A12, Forecast!$C:$C, 'Analysis-School'!N$4, Forecast!$D:$D, 'Analysis-School'!N$2) -> 981 | O12: =SUMIFS(Forecast!$F:$F, Forecast!$A:$A, 'Analysis-School'!$A12, Forecast!$C:$C, 'Analysis-School'!O$4, Forecast!$D:$D, 'Analysis-School'!O$2) -> 949 | P12: =SUMIFS(Forecast!$F:$F, Forecast!$A:$A, 'Analysis-School'!$A12, Forecast!$C:$C, 'Analysis-School'!P$4, Forecast!$D:$D, 'Analysis-School'!P$2) -> 862 | Q12: =SUMIFS(Forecast!$F:$F, Forecast!$A:$A, 'Analysis-School'!$A12, Forecast!$C:$C, 'Analysis-School'!Q$4, Forecast!$D:$D, 'Analysis-School'!Q$2) -> 781 | R12: =SUMIFS(Forecast!$F:$F, Forecast!$A:$A, 'Analysis-School'!$A12, Forecast!$C:$C, 'Analysis-School'!R$4, Forecast!$D:$D, 'Analysis-School'!R$2) -> 699 | S12: =SUMIFS(Forecast!$F:$F, Forecast!$A:$A, 'Analysis-School'!$A12, Forecast!$C:$C, 'Analysis-School'!S$4, Forecast!$D:$D, 'Analysis-School'!S$2) -> 667 | T12: =SUMIFS(Forecast!$F:$F, Forecast!$A:$A, 'Analysis-School'!$A12, Forecast!$C:$C, 'Analysis-School'!T$4, Forecast!$D:$D, 'Analysis-School'!T$2) -> 633.65 | U12: =SUMIFS(Forecast!$F:$F, Forecast!$A:$A, 'Analysis-School'!$A12, Forecast!$C:$C, 'Analysis-School'!U$4, Forecast!$D:$D, 'Analysis-School'!U$2) -> 601.9675 | V12: =(U12/S12-1) -> -0.0975 | X12: Central Texas College | Y12: =SUMIFS(Forecast!$J:$J, Forecast!$A:$A, 'Analysis-School'!$A12, Forecast!$C:$C, 'Analysis-School'!Y$4, Forecast!$D:$D, 'Analysis-School'!Y$2) -> 0 | Z12: =SUMIFS(Forecast!$J:$J, Forecast!$A:$A, 'Analysis-School'!$A12, Forecast!$C:$C, 'Analysis-School'!Z$4, Forecast!$D:$D, 'Analysis-School'!Z$2) -> 0 | AA12: =SUMIFS(Forecast!$J:$J, Forecast!$A:$A, 'Analysis-School'!$A12, Forecast!$C:$C, 'Analysis-School'!AA$4, Forecast!$D:$D, 'Analysis-School'!AA$2) -> 0 | AB12: =SUMIFS(Forecast!$J:$J, Forecast!$A:$A, 'Analysis-School'!$A12, Forecast!$C:$C, 'Analysis-School'!AB$4, Forecast!$D:$D, 'Analysis-School'!AB$2) -> 0 | AC12: =SUMIFS(Forecast!$J:$J, Forecast!$A:$A, 'Analysis-School'!$A12, Forecast!$C:$C, 'Analysis-School'!AC$4, Forecast!$D:$D, 'Analysis-School'!AC$2) -> 0 | AD12: =SUMIFS(Forecast!$J:$J, Forecast!$A:$A, 'Analysis-School'!$A12, Forecast!$C:$C, 'Analysis-School'!AD$4, Forecast!$D:$D, 'Analysis-School'!AD$2) -> 0 | AE12: =SUMIFS(Forecast!$J:$J, Forecast!$A:$A, 'Analysis-School'!$A12, Forecast!$C:$C, 'Analysis-School'!AE$4, Forecast!$D:$D, 'Analysis-School'!AE$2) -> 0 | AF12: =SUMIFS(Forecast!$J:$J, Forecast!$A:$A, 'Analysis-School'!$A12, Forecast!$C:$C, 'Analysis-School'!AF$4, Forecast!$D:$D, 'Analysis-School'!AF$2) -> 0 | AG12: =IFERROR(AF12/AD12-1, "NA") -> NA
A13: 003553 | B13: Cisco College | C13: =SUMIFS(Forecast!$E:$E, Forecast!$A:$A, 'Analysis-School'!$A13, Forecast!$C:$C, 'Analysis-School'!C$4, Forecast!$D:$D, 'Analysis-School'!C$2) -> 266 | D13: =SUMIFS(Forecast!$E:$E, Forecast!$A:$A, 'Analysis-School'!$A13, Forecast!$C:$C, 'Analysis-School'!D$4, Forecast!$D:$D, 'Analysis-School'!D$2) -> 331 | E13: =SUMIFS(Forecast!$E:$E, Forecast!$A:$A, 'Analysis-School'!$A13, Forecast!$C:$C, 'Analysis-School'!E$4, Forecast!$D:$D, 'Analysis-School'!E$2) -> 405 | F13: =SUMIFS(Forecast!$E:$E, Forecast!$A:$A, 'Analysis-School'!$A13, Forecast!$C:$C, 'Analysis-School'!F$4, Forecast!$D:$D, 'Analysis-School'!F$2) -> 451 | G13: =SUMIFS(Forecast!$E:$E, Forecast!$A:$A, 'Analysis-School'!$A13, Forecast!$C:$C, 'Analysis-School'!G$4, Forecast!$D:$D, 'Analysis-School'!G$2) -> 397 | H13: =SUMIFS(Forecast!$E:$E, Forecast!$A:$A, 'Analysis-School'!$A13, Forecast!$C:$C, 'Analysis-School'!H$4, Forecast!$D:$D, 'Analysis-School'!H$2) -> 390 | I13: =SUMIFS(Forecast!$E:$E, Forecast!$A:$A, 'Analysis-School'!$A13, Forecast!$C:$C, 'Analysis-School'!I$4, Forecast!$D:$D, 'Analysis-School'!I$2) -> 413.22281 | J13: =SUMIFS(Forecast!$E:$E, Forecast!$A:$A, 'Analysis-School'!$A13, Forecast!$C:$C, 'Analysis-School'!J$4, Forecast!$D:$D, 'Analysis-School'!J$2) -> 433.05194 | K13: =(J13/H13-1) -> 0.11038959 | M13: Cisco College | N13: =SUMIFS(Forecast!$F:$F, Forecast!$A:$A, 'Analysis-School'!$A13, Forecast!$C:$C, 'Analysis-School'!N$4, Forecast!$D:$D, 'Analysis-School'!N$2) -> 211 | O13: =SUMIFS(Forecast!$F:$F, Forecast!$A:$A, 'Analysis-School'!$A13, Forecast!$C:$C, 'Analysis-School'!O$4, Forecast!$D:$D, 'Analysis-School'!O$2) -> 196 | P13: =SUMIFS(Forecast!$F:$F, Forecast!$A:$A, 'Analysis-School'!$A13, Forecast!$C:$C, 'Analysis-School'!P$4, Forecast!$D:$D, 'Analysis-School'!P$2) -> 256 | Q13: =SUMIFS(Forecast!$F:$F, Forecast!$A:$A, 'Analysis-School'!$A13, Forecast!$C:$C, 'Analysis-School'!Q$4, Forecast!$D:$D, 'Analysis-School'!Q$2) -> 225 | R13: =SUMIFS(Forecast!$F:$F, Forecast!$A:$A, 'Analysis-School'!$A13, Forecast!$C:$C, 'Analysis-School'!R$4, Forecast!$D:$D, 'Analysis-School'!R$2) -> 246 | S13: =SUMIFS(Forecast!$F:$F, Forecast!$A:$A, 'Analysis-School'!$A13, Forecast!$C:$C, 'Analysis-School'!S$4, Forecast!$D:$D, 'Analysis-School'!S$2) -> 244 | T13: =SUMIFS(Forecast!$F:$F, Forecast!$A:$A, 'Analysis-School'!$A13, Forecast!$C:$C, 'Analysis-School'!T$4, Forecast!$D:$D, 'Analysis-School'!T$2) -> 260.66253 | U13: =SUMIFS(Forecast!$F:$F, Forecast!$A:$A, 'Analysis-School'!$A13, Forecast!$C:$C, 'Analysis-School'!U$4, Forecast!$D:$D, 'Analysis-School'!U$2) -> 268.93812 | V13: =(U13/S13-1) -> 0.10220539 | X13: Cisco College | Y13: =SUMIFS(Forecast!$J:$J, Forecast!$A:$A, 'Analysis-School'!$A13, Forecast!$C:$C, 'Analysis-School'!Y$4, Forecast!$D:$D, 'Analysis-School'!Y$2) -> 0 | Z13: =SUMIFS(Forecast!$J:$J, Forecast!$A:$A, 'Analysis-School'!$A13, Forecast!$C:$C, 'Analysis-School'!Z$4, Forecast!$D:$D, 'Analysis-School'!Z$2) -> 0 | AA13: =SUMIFS(Forecast!$J:$J, Forecast!$A:$A, 'Analysis-School'!$A13, Forecast!$C:$C, 'Analysis-School'!AA$4, Forecast!$D:$D, 'Analysis-School'!AA$2) -> 0 | AB13: =SUMIFS(Forecast!$J:$J, Forecast!$A:$A, 'Analysis-School'!$A13, Forecast!$C:$C, 'Analysis-School'!AB$4, Forecast!$D:$D, 'Analysis-School'!AB$2) -> 0 | AC13: =SUMIFS(Forecast!$J:$J, Forecast!$A:$A, 'Analysis-School'!$A13, Forecast!$C:$C, 'Analysis-School'!AC$4, Forecast!$D:$D, 'Analysis-School'!AC$2) -> 0 | AD13: =SUMIFS(Forecast!$J:$J, Forecast!$A:$A, 'Analysis-School'!$A13, Forecast!$C:$C, 'Analysis-School'!AD$4, Forecast!$D:$D, 'Analysis-School'!AD$2) -> 0 | AE13: =SUMIFS(Forecast!$J:$J, Forecast!$A:$A, 'Analysis-School'!$A13, Forecast!$C:$C, 'Analysis-School'!AE$4, Forecast!$D:$D, 'Analysis-School'!AE$2) -> 0 | AF13: =SUMIFS(Forecast!$J:$J, Forecast!$A:$A, 'Analysis-School'!$A13, Forecast!$C:$C, 'Analysis-School'!AF$4, Forecast!$D:$D, 'Analysis-School'!AF$2) -> 0 | AG13: =IFERROR(AF13/AD13-1, "NA") -> NA
