Workbook

Sheet START
A1: Community College Formula Funding Model -- FY 2025 Projected Settle-Up Adjustment | K1: 45944
A2: This file performs the calculations necessary to determine allocations of formula funding for all Texas public junior college ("community college") districts for the FY 2025 Projected Settle-up Adjustment, which is an input to the October payment of FY 2026 formula funding. The Projected Settle-Up Adjustment amounts can be found in column M of the "Summary" tab. It includes the FY 2024 close-out adjustment based on the recalculation of FY 24 funding using corrected data; see the file "FY24 CC Funding Model_Close Out", available on the THECB CCF website linked below, for more information. This page contains a high-level overview of the formula structure, a table of contents, and a glossary of terms and acronyms. Please direct any questions to Emily Schmidt: emily.schmidt@highered.texas.gov
I7: Additional detail regarding these and other important concepts can be found in | J7: CBM Reporting Manuals
B8: and the | C8: THECB CCF website.
A10: Formula Overview
B12: Formula Funding= Base Tier Funding + Performance Tier Funding + Transition Funding
B14: Base Tier Funding= greater of [(Instruction & Operations - Local Share), 0]
D15: i.e., college districts with a Local Share lower than their I&O receive the difference, and others get zero
C16: Instruction & Operations (I&O)= Basic Allotment + Contact Hour Funding
C17: Basic Allotment= Weighted Full-Time Student Equivalents x Basic Allotment rate
C18: Contact Hour Funding= sum of all [(contact hours delivered in a discipline)x(statewide avg cost per contact hour in that discipline)]
F19: x Contact Hour Funding rate
C20: Local Share= Tuition/Fee Revenue Estimate + M&O Tax Revenue Estimate
D21: these estimates are measures of a college district's potential to raise revenue from these sources regardless of revenues actually raised
B22: Performance Tier Funding= sum of all [greater of(FY25 Estimated Weighted Outcome Completions or 3yr avg Weighted Outcome Completions)x(Outcome Funding rate)]
C23: Weighted Outcome Completions= for a given year, Outcome Completion Count + sum of all [Weighted Completion Counts x Completion Weights]
B25: Transition Funding= greater of [(FY23 Contact Hour+Success Point+Core Operations+BAT+Supplemental funds) - FY25 formula funds, 0]
A27: Table of Contents
A28: Sheet | B28: Description
A29: 1. Dash | B29: Dynamic inputs for rates and weights set by the Legislature or THECB and Outputs showing dollars flowing through various formula elements
A30: 2. Analysis-Statewide | B30: Financial analysis of Performance Tier funding from FY 2024 to FY 2025 by outcome
A31: 3. Analysis-School | B31: Historical and Projected Performance Tier data by community college for each outcome
A32: 4. Summary | B32: Funding amounts by college district for all funding tiers and in total
A33: 5. Three-Pay | B33: Schedule of amounts of funding that THECB will distribute to college districts by certain dates
A34: 6. Performance Summary | B34: Detailed breakdown of each college districts' Performance Tier funding, including amounts allocated per outcome and outcome counts
A35: 7. Base Tier Summary | B35: Lays out the components of Base Tier Funding to produce each college district's Base Tier Funding amount
A36: 8. Cost Study | B36: Provides average expenses and funding rates by discipline as a component of Contact Hour Funding
A37: 9. CIP Codes | B37: Shows the crosswalk from the CIP codes that describe academic courses and programs to the disciplines used for Contact Hour Funding
A38: 10. Hours | B38: Shows each college's contact hours and contact hour funding by discipline, which sums to the Base Tier Summary
A39: 11. Basic Allotment | B39: Calculates each college's Weighted FTSE and multiplies it by the Basic Allotment rate to calculate its Basic Allotment
... A48: 20. Non-Formula Support | B48: Shows all non-formula support items and their funding amounts for the current and prior fiscal years
A50: Glossary
A51: Term | B51: Description
A52: ATC | B52: Advanced Technology Certificate; a workforce credential of 16-50 SCH for students with an associated degree or at least junior standing in a baccalaureate program
A53: CARAT | B53: Community College Annual Reporting & Analysis Tool; THECB system for collecting and reporting financial data from public junior colleges
A54: CBM | B54: THECB's data reporting system for regularly collecting student-level data from institutions; "CBM" followed by numbers/letters refers to a specific report under the CBM system
A55: Certificate | B55: Certificate is inclusive of Certificate I or II and Continuing Education
A56: CH | B56: Contact hours; a common measurement of instructional hours used primarily for Contact Hour Funding
A57: CIP Codes | B57: Classification of Instructional Program; a system that applies a numeric code and label to each instructional course and program
A58: Co-Enrollment | B58: A structured program duly reported to the THECB in which a student is enrolled simultaneously at a community college and public university
...

Sheet Dash
A1: =Summary!A1 -> Community College Formula Funding - FY 2025 Projected Settle-Up Adjustment | C1: 45944
A2: THECB & Legislative Rate and Weight Inputs
A4: Forecasting Options | E4: Formula Expenses
A5: Element | B5: Value | E5: Formula Element | F5: Cost Total | G5: % of FF | H5: Colleges Receiving | J5: Amounts in the Formula Expenses table to the left represent the calculation of FY25 funding using FY24 actual data. Since these calculations include lower funding amounts for colleges whose net performance funding decreased when FY24 actual data were incorporated, whereas the dynamic adjustment applies only to colleges whose funding increased, these amounts are lower than the funding that was disbursed in FY25. Funding reductions due to the incorporation of FY24 data are applied to the first payment of FY26.
A6: Maximum Year-over-Year Increase | B6: 0.1 | E6: Base Tier | F6: ='Base Tier Summary'!K55 -> 58740965 | G6: =F6/Summary!H$55 -> 0.049871214 | H6: =COUNTIF(Summary!I5:I54, ">0") -> 22
A7: Maximum Year-over-Year Decrease | B7: 0.05 | E7: 15 SCH Dual Credit | F7: ='Performance Summary'!C56 -> 2.1150868e+08 | G7: =F7/Summary!H$55 -> 0.17957135 | H7: =COUNTIF('Performance Summary'!C$6:C$55, ">0") -> 50
E8: GAI Transfer with 15 SCH | F8: ='Performance Summary'!F56 -> 2.5923043e+08 | G8: =F8/Summary!H$55 -> 0.22008723 | H8: =COUNTIF('Performance Summary'!G$6:G$55, ">0") -> 50
A9: Base Tier Inputs | B9: Value | E9: GAI Co-Enrollment with 15 SCH | F9: ='Performance Summary'!J56 -> 4945018.7 | G9: =F9/Summary!H$55 -> 0.0041983323 | H9: =COUNTIF('Performance Summary'!J$6:J$55, ">0") -> 15
A10: Basic Allotment per Weighted FTSE | B10: 1478.8665 | C10: 1478.805 | E10: ICLC | F10: ='Performance Summary'!V56 -> 2382450 | G10: =F10/Summary!H$55 -> 0.0020227055 | H10: =COUNTIF('Performance Summary'!V$6:V$55, ">0") -> 35
A11: Contact Hour Funding Rate | B11: 0.21414025 | C11: 0.21413134 | E11: High-Demand ICLC | F11: ='Performance Summary'!Y56 -> 19912958 | G11: =F11/Summary!H$55 -> 0.016906147 | H11: =COUNTIF('Performance Summary'!Y$6:Y$55, ">0") -> 49
A12: Economic Disadvantage weight | B12: 0.25 | E12: Occupational Skills Award (OSA) | F12: ='Performance Summary'!N56 -> 4244362.5 | G12: =F12/Summary!H$55 -> 0.0036034735 | H12: =COUNTIF('Performance Summary'!N$6:N$55, ">0") -> 43
A13: Academic Disadvantage weight | B13: 0.25 | E13: High-Demand OSA | F13: ='Performance Summary'!R56 -> 17268922 | G13: =F13/Summary!H$55 -> 0.014661354 | H13: =COUNTIF('Performance Summary'!R$6:R$55, ">0") -> 45
A14: Adult Learner weight | B14: 0.5 | E14: Certificate | F14: ='Performance Summary'!AB56 -> 47783181 | G14: =F14/Summary!H$55 -> 0.040568031 | H14: =COUNTIF('Performance Summary'!AB$6:AB$55, ">0") -> 50
A15: Small College weight | B15: 0.4 | E15: High-Demand Certificate | F15: ='Performance Summary'!AF56 -> 1.2771507e+08 | G15: =F15/Summary!H$55 -> 0.10843039 | H15: =COUNTIF('Performance Summary'!AF$6:AF$55, ">0") -> 50
A16: Small College FTSE threshold | B16: 5000 | E16: Advanced Technical Certificate | F16: ='Performance Summary'!AJ56 -> 252648.96 | G16: =F16/Summary!H$55 -> 0.00021449955 | H16: =COUNTIF('Performance Summary'!AJ$6:AJ$55, ">0") -> 10
A17: FY 23 Average Resident Tuition/Fees (non-dual credit FTSE) | B17: 3208.6155 | E17: High-Demand ATC | F17: ='Performance Summary'!AN56 -> 2199370.8 | G17: =F17/Summary!H$55 -> 0.0018672709 | H17: =COUNTIF('Performance Summary'!AN$6:AN$55, ">0") -> 15
A18: FY23 (uses FY24 rate) FAST Dual Credit Tuition per SCH | B18: 55 | E18: Associate Degree | F18: ='Performance Summary'!AR56 -> 3.2492494e+08 | G18: =F18/Summary!H$55 -> 0.27586202 | H18: =COUNTIF('Performance Summary'!AR$6:AR$55, ">0") -> 50
A19: M&O Tax Rate for Estimate (per $100) | B19: 0.05 | E19: High-Demand Associate | F19: ='Performance Summary'!AV56 -> 1.3321644e+08 | G19: =F19/Summary!H$55 -> 0.11310107 | H19: =COUNTIF('Performance Summary'!AV$6:AV$55, ">0") -> 50
A20: Base Tier Percent of Total (less Transition) | B20: 0.05 | C20: ='Base Tier Summary'!C55-'Base Tier Summary'!D55 -> 0 | E20: Bachelor's Degree | F20: ='Performance Summary'!AZ56 -> 2104622.9 | G20: =F20/Summary!H$55 -> 0.0017868297 | H20: =COUNTIF('Performance Summary'!AZ6:AZ55, ">0") -> 9
B21: =(B20/(1-B20))*Summary!J4 -> 58727487 | C21: =B21-F6 -> -13477.236 | E21: High-Demand Bachelor's | F21: ='Performance Summary'!BD56 -> 10490025 | G21: =F21/Summary!H$55 -> 0.0089060553 | H21: =COUNTIF('Performance Summary'!BD$6:BD$55, ">0") -> 19
A22: Performance Tier Inputs | B22: Standard Value | C22: High-Demand Field Value | E22: CoV Premium: Certificate | F22: ='Performance Summary'!BH56 -> 742011.43 | G22: =F22/Summary!H$55 -> 0.00062996941 | H22: =COUNTIF(Performance!T6:T55, ">0") -> 50
A23: Dollars per Weighted Outcome Completion | E23: CoV Premium: Associate | F23: ='Performance Summary'!BK56 -> 5627839.6 | G23: =F23/Summary!H$55 -> 0.0047780487 | H23: =COUNTIF(Performance!S6:S55, ">0") -> 50
A24: 15 SCH Dual Credit | B24: 3500 | C24: N/A | E24: CoV Premium: Bachelor's | F24: ='Performance Summary'!BN56 -> 35758.333 | G24: =F24/Summary!H$55 -> 3.0358907e-05 | H24: =COUNTIF(Performance!U6:U55, ">0") -> 3
A25: GAI Transfer with 15 SCH | B25: 3500 | C25: N/A | E25: FY23 Transition Funding | F25: =Summary!N55 -> 0 | G25: =F25/Summary!H$55 -> 0 | H25: =COUNTIFS(Summary!N5:N54, ">0") -> 0
A26: GAI Co-enrollment with 15 SCH | B26: 3500 | C26: N/A | E26: TOTAL | F26: =SUM(F6:F25) -> 1.2333257e+09 | G26: =SUM(G6:G25) -> 1.0470963
A27: Institutional Credential leading to Licensure or Certification (ICLC) | B27: 1000 | C27: 1250
A28: Occupational Skills Award | B28: 1000 | C28: 1250
A29: Certificate | B29: 1750 | C29: 3500
A30: Advanced Technical Certificate (ATC) | B30: 1750 | C30: 3500
A31: Certificate Credential of Value Premium | B31: 437 | C31: N/A
A32: Associate Degree | B32: 3500 | C32: 4500
A33: Associate Degree Credential of Value Premium | B33: 875 | C33: N/A
A34: Bachelor's Degree | B34: 3500 | C34: 4500
A35: Bachelor's Degree Credential of Value Premium | B35: 875 | C35: N/A
A36: Outcome Completion Weights
A37: Academic Disadvantage | B37: 0.25 | C37: 0.25
A38: Economic Disadvantage | B38: 0.25 | C38: 0.25
A39: Adult Learner | B39: 0.5 | C39: 0.5
A40: Dollars per Weighted Outcome Completion (Funded Beginning with FY25 Outcomes)
A41: Opportunity High School Diploma | B41: 3500 | C41: N/A
...

Sheet Analysis-Statewide
A1: Community College Formula Funding - Fiscal Year 2024 to 2025 Performance Tier Financial Analysis
B2: FY24 | E2: FY25 Foundation | H2: FY25 Projected Settle-Up Adjustment* | K2: FY25 over FY24 | N2: Years | O2: 15 SCH Dual Credit | P2: GAI Transfer with 15 SCH | Q2: GAI Co-enrollment with 15 SCH | R2: ICLC1 | S2: OSA1 | T2: Certificate | U2: Advanced Technical Certificate | V2: Associate Degree | W2: Bachelor's Degree | X2: COV Premium - Certificate | Y2: COV Premium - Associate | Z2: COV Premium - Bachelor's
B3: Total | C3: % Share | D3: Community Colleges Rec. | E3: Total | F3: % Share | G3: Community Colleges Rec. | H3: Total | I3: % Share | J3: Community Colleges Rec. | K3: $ Change | L3: % Change
A4: 15 SCH Dual Credit | B4: 90153267 | C4: 0.079553493 | D4: 50 | E4: 1.9835652e+08 | F4: 0.16819489 | G4: 50 | H4: =Dash!F7 -> 2.1150868e+08 | I4: =Dash!G7 -> 0.17957135 | J4: =Dash!H7 -> 50 | K4: =H4-B4 -> 1.2135541e+08 | L4: =K4/B4 -> 1.3461011 | N4: 2018 | O4: ='Analysis-School'!C55 -> 42329 | P4: ='Analysis-School'!P55 -> 61135 | Q4: ='Analysis-School'!AC55 -> 1275 | T4: ='Analysis-School'!C110 -> 36027 | U4: ='Analysis-School'!AC165 -> 424 | V4: ='Analysis-School'!P110 -> 82976 | W4: ='Analysis-School'!AC110 -> 450 | X4: ='Analysis-School'!C220 -> 1096 | Y4: ='Analysis-School'!P220 -> 4360 | Z4: ='Analysis-School'!AC220 -> 10
A5: GAI Transfer with 15 SCH | B5: 3.2698896e+08 | C5: 0.28854322 | D5: 50 | E5: 2.5872403e+08 | F5: 0.21938306 | G5: 50 | H5: =Dash!F8 -> 2.5923043e+08 | I5: =Dash!G8 -> 0.22008723 | J5: =Dash!H8 -> 50 | K5: =H5-B5 -> -67758527 | L5: =K5/B5 -> -0.20721962 | N5: 2019 | O5: ='Analysis-School'!D55 -> 50561 | P5: ='Analysis-School'!Q55 -> 60684 | Q5: ='Analysis-School'!AD55 -> 1267 | T5: ='Analysis-School'!D110 -> 38543 | U5: ='Analysis-School'!AD165 -> 533 | V5: ='Analysis-School'!Q110 -> 86157 | W5: ='Analysis-School'!AD110 -> 437 | X5: ='Analysis-School'!D220 -> 1100 | Y5: ='Analysis-School'!Q220 -> 4451 | Z5: ='Analysis-School'!AD220 -> 16
A6: GAI Co-Enrollment with 15 SCH | B6: 4841958.3 | C6: 0.0042726649 | D6: 14 | E6: 4625642 | F6: 0.0039222778 | G6: 14 | H6: =Dash!F9 -> 4945018.7 | I6: =Dash!G9 -> 0.0041983323 | J6: =Dash!H9 -> 15 | K6: =H6-B6 -> 103060.42 | L6: =K6/B6 -> 0.021284862 | N6: 2020 | O6: ='Analysis-School'!E55 -> 53442 | P6: ='Analysis-School'!R55 -> 61746 | Q6: ='Analysis-School'!AE55 -> 1560 | R6: ='Analysis-School'!R165 -> 9869 | S6: ='Analysis-School'!E165 -> 6840 | T6: ='Analysis-School'!E110 -> 34425 | U6: ='Analysis-School'!AE165 -> 575 | V6: ='Analysis-School'!R110 -> 88309 | W6: ='Analysis-School'!AE110 -> 639 | X6: ='Analysis-School'!E220 -> 955 | Y6: ='Analysis-School'!R220 -> 4405 | Z6: ='Analysis-School'!AE220 -> 13
A7: Licensure/Certification (no credential)1 | B7: 284000 | C7: 0.00025060869 | D7: 10 | K7: =E7-B7 -> -284000 | L7: =K7/B7 -> -1 | N7: 2021 | O7: ='Analysis-School'!F55 -> 52702 | P7: ='Analysis-School'!S55 -> 61554 | Q7: ='Analysis-School'!AF55 -> 1125 | R7: ='Analysis-School'!S165 -> 11314 | S7: ='Analysis-School'!F165 -> 6801 | T7: ='Analysis-School'!F110 -> 34547 | U7: ='Analysis-School'!AF165 -> 525 | V7: ='Analysis-School'!S110 -> 88674 | W7: ='Analysis-School'!AF110 -> 853 | X7: ='Analysis-School'!F220 -> 1286 | Y7: ='Analysis-School'!S220 -> 5268 | Z7: ='Analysis-School'!AF220 -> 12
A8: High-Demand Licensure/Certification1 | B8: 3918750 | C8: 0.0034580028 | D8: 17 | K8: =E8-B8 -> -3918750 | L8: =K8/B8 -> -1 | N8: 2022 | O8: ='Analysis-School'!G55 -> 52130 | P8: ='Analysis-School'!T55 -> 59047 | Q8: ='Analysis-School'!AG55 -> 1053 | R8: ='Analysis-School'!T165 -> 12806 | S8: ='Analysis-School'!G165 -> 9309 | T8: ='Analysis-School'!G110 -> 35406 | U8: ='Analysis-School'!AG165 -> 484 | V8: ='Analysis-School'!T110 -> 85458 | W8: ='Analysis-School'!AG110 -> 1038 | X8: ='Analysis-School'!G220 -> 1563 | Y8: ='Analysis-School'!T220 -> 6279 | Z8: ='Analysis-School'!AG220 -> 14
A9: Institutional Credential leading to Licensure | B9: 2244000 | C9: 0.0019801616 | D9: 20 | E9: 1957161.3 | F9: 0.00165956 | G9: 29 | H9: =Dash!F10 -> 2382450 | I9: =Dash!G10 -> 0.0020227055 | J9: =Dash!H10 -> 35 | K9: =H9-B9 -> 138450 | L9: =K9/B9 -> 0.061697861 | N9: 2023 | O9: ='Analysis-School'!H55 -> 53315 | P9: ='Analysis-School'!U55 -> 55747 | Q9: ='Analysis-School'!AH55 -> 1226 | R9: ='Analysis-School'!U165 -> 13346 | S9: ='Analysis-School'!H165 -> 8957 | T9: ='Analysis-School'!H110 -> 38037 | U9: ='Analysis-School'!AH165 -> 419 | V9: ='Analysis-School'!U110 -> 84652 | W9: ='Analysis-School'!AH110 -> 1413 | X9: ='Analysis-School'!H220 -> 1454 | Y9: ='Analysis-School'!U220 -> 6026 | Z9: ='Analysis-School'!AH220 -> 24
A10: High-Demand Institutional Credential | B10: 10305833 | C10: 0.0090941246 | D10: 40 | E10: 17102238 | F10: 0.014501712 | G10: 46 | H10: =Dash!F11 -> 19912958 | I10: =Dash!G11 -> 0.016906147 | J10: =Dash!H11 -> 49 | K10: =H10-B10 -> 9607125 | L10: =K10/B10 -> 0.93220264 | N10: 2024 | O10: ='Analysis-School'!J55 -> 61032 | P10: ='Analysis-School'!W55 -> 56197 | Q10: ='Analysis-School'!AJ55 -> 1245 | R10: ='Analysis-School'!W165 -> 17244 | S10: ='Analysis-School'!J165 -> 12574 | T10: ='Analysis-School'!J110 -> 43439 | U10: ='Analysis-School'!AJ165 -> 473 | V10: ='Analysis-School'!W110 -> 87297 | W10: ='Analysis-School'!AJ110 -> 1824 | X10: ='Analysis-School'!J220 -> 1661 | Y10: ='Analysis-School'!W220 -> 6374 | Z10: ='Analysis-School'!AJ220 -> 35
A11: Occupational Skills Award (OSA) | B11: 1668750 | C11: 0.0014725467 | D11: 34 | E11: 3828153.5 | F11: 0.0032460535 | G11: 37 | H11: =Dash!F12 -> 4244362.5 | I11: =Dash!G12 -> 0.0036034735 | J11: =Dash!H12 -> 43 | K11: =H11-B11 -> 2575612.5 | L11: =K11/B11 -> 1.5434382 | N11: 2025 | O11: ='Analysis-School'!L55 -> 60298.75 | P11: ='Analysis-School'!Y55 -> 56476.75 | Q11: ='Analysis-School'!AL55 -> 1306.3 | R11: ='Analysis-School'!Y165 -> 17565.75 | S11: ='Analysis-School'!L165 -> 12649.8 | T11: ='Analysis-School'!L110 -> 43014.5 | U11: ='Analysis-School'!AL165 -> 498.55 | V11: ='Analysis-School'!Y110 -> 87333.9 | W11: ='Analysis-School'!AL110 -> 1815.55 | X11: ='Analysis-School'!L220 -> 1653.8 | Y11: ='Analysis-School'!Y220 -> 6380.65 | Z11: ='Analysis-School'!AL220 -> 40.2
A12: High-Demand OSA | B12: 7371000 | C12: 0.0065043544 | D12: 37 | E12: 12762465 | F12: 0.010821835 | G12: 39 | H12: =Dash!F13 -> 17268922 | I12: =Dash!G13 -> 0.014661354 | J12: =Dash!H13 -> 45 | K12: =H12-B12 -> 9897921.9 | L12: =K12/B12 -> 1.3428194 | N12: FY25 Change over FY23 | O12: =(O11-O9)/O9 -> 0.13099034 | P12: =(P11-P9)/P9 -> 0.013090391 | Q12: =(Q11-Q9)/Q9 -> 0.065497553 | R12: =(R11-R9)/R9 -> 0.31618088 | S12: =(S11-S9)/S9 -> 0.4122809 | T12: =(T11-T9)/T9 -> 0.13085943 | U12: =(U11-U9)/U9 -> 0.1898568 | V12: =(V11-V9)/V9 -> 0.031681472 | ... Z12: =(Z11-Z9)/Z9 -> 0.675
A13: Certificate | B13: 46243750 | C13: 0.040806639 | D13: 50 | E13: 47616386 | F13: 0.040375951 | G13: 50 | H13: =Dash!F14 -> 47783181 | I13: =Dash!G14 -> 0.040568031 | J13: =Dash!H14 -> 50 | K13: =H13-B13 -> 1539431.2 | L13: =K13/B13 -> 0.033289499 | N13: FY25 Change over FY24 | O13: =(O11-O10)/O10 -> -0.012014189 | P13: =(P11-P10)/P10 -> 0.0049780237 | Q13: =(Q11-Q10)/Q10 -> 0.049236948 | R13: =(R11-R10)/R10 -> 0.018658664 | S13: =(S11-S10)/S10 -> 0.0060283124 | T13: =(T11-T10)/T10 -> -0.0097723244 | U13: =(U11-U10)/U10 -> 0.054016913 | V13: =(V11-V10)/V10 -> 0.00042269494 | ... Z13: =(Z11-Z10)/Z10 -> 0.14857143
A14: High-Demand Certificate | B14: 1.0034442e+08 | C14: 0.088546418 | D14: 50 | E14: 1.0680787e+08 | F14: 0.090566916 | G14: 50 | H14: =Dash!F15 -> 1.2771507e+08 | I14: =Dash!G15 -> 0.10843039 | J14: =Dash!H15 -> 50 | K14: =H14-B14 -> 27370656 | L14: =K14/B14 -> 0.27276711 | N14: 1. ICLC data is as submitted on ad hoc data collection for FY2020 - 2023. OSA data is as submitted on ad hoc data collection for FY2020 - 2022 and on the CBM00M for FY2023.
A15: Advanced Technical Certificate | B15: 75687.5 | C15: 6.6788539e-05 | D15: 6 | E15: 159910.75 | F15: 0.0001355951 | G15: 9 | H15: =Dash!F16 -> 252648.96 | I15: =Dash!G16 -> 0.00021449955 | J15: =Dash!H16 -> 10 | K15: =H15-B15 -> 176961.46 | L15: =K15/B15 -> 2.3380539
A16: High-Demand ATC | B16: 2689166.7 | C16: 0.0023729878 | D16: 17 | E16: 1932529.9 | F16: 0.0016386739 | G16: 15 | H16: =Dash!F17 -> 2199370.8 | I16: =Dash!G17 -> 0.0018672709 | J16: =Dash!H17 -> 15 | K16: =H16-B16 -> -489795.83 | L16: =K16/B16 -> -0.18213666
A17: Associate Degree | B17: 331236500 | C17: 0.29229136 | D17: 50 | E17: 3.288765e+08 | F17: 0.27886831 | G17: 50 | H17: =Dash!F18 -> 3.2492494e+08 | I17: =Dash!G18 -> 0.27586202 | J17: =Dash!H18 -> 50 | K17: =H17-B17 -> -6311564.6 | L17: =K17/B17 -> -0.019054556
A18: High-Demand Associate | B18: 141953625 | C18: 0.12526342 | D18: 50 | E18: 1.1514587e+08 | F18: 0.097637064 | G18: 50 | H18: =Dash!F19 -> 1.3321644e+08 | I18: =Dash!G19 -> 0.11310107 | J18: =Dash!H19 -> 50 | K18: =H18-B18 -> -8737181.2 | L18: =K18/B18 -> -0.061549547
A19: Bachelor's Degree | B19: 2537500 | C19: 0.0022391533 | D19: 5 | E19: 3744738.5 | F19: 0.0031753223 | G19: 7 | H19: =Dash!F20 -> 2104622.9 | I19: =Dash!G20 -> 0.0017868297 | J19: =Dash!H20 -> 9 | K19: =H19-B19 -> -432877.08 | L19: =K19/B19 -> -0.17059195
A20: High-Demand Bachelor's | B20: 4221375 | C20: 0.0037250467 | D20: 16 | E20: 7379817.5 | F20: 0.0062576598 | G20: 17 | H20: =Dash!F21 -> 10490025 | I20: =Dash!G21 -> 0.0089060553 | J20: =Dash!H21 -> 19 | K20: =H20-B20 -> 6268650 | L20: =K20/B20 -> 1.4849782
A21: CoV Premium: Certificate2 | E21: 720112.34 | F21: 0.00061061376 | G21: 50 | H21: =Dash!F22 -> 742011.43 | I21: =Dash!G22 -> 0.00062996941 | J21: =Dash!H22 -> 50 | K21: =H21-B21 -> 742011.43 | L21: N/A
A22: CoV Premium: Associate2 | E22: 6062274.2 | F22: 0.0051404591 | G22: 50 | H22: =Dash!F23 -> 5627839.6 | I22: =Dash!G23 -> 0.0047780487 | J22: =Dash!H23 -> 50 | K22: =H22-B22 -> 5627839.6 | L22: N/A
A23: CoV Premium: Bachelor's2 | E23: 20047.767 | F23: 1.6999351e-05 | G23: 2 | H23: =Dash!F24 -> 35758.333 | I23: =Dash!G24 -> 3.0358907e-05 | J23: =Dash!H24 -> 3 | K23: =H23-B23 -> 35758.333 | L23: N/A
A24: Transition Funding | B24: 317765.8 | C24: 0.00028040447 | D24: 1 | E24: 1472335.5 | F24: 0.0012484556 | G24: 1 | H24: =Dash!F25 -> 0 | I24: =Dash!G25 -> 0 | J24: =Dash!H25 -> 0 | K24: =H24-B24 -> -317765.8 | L24: =K24/B24 -> -1
A25: Total | B25: =SUM(B4:B24) -> 1.0773963e+09 | E25: =SUM(E4:E24) -> 1.1172946e+09 | H25: =SUM(H4:H24) -> 1.1745847e+09 | K25: =E25-B25 -> 39898293 | L25: =K25/B25 -> 0.037032142
A26: 1. Licensure/Certification (no credential) was funded in FY2024, but is no longer a fundable credential beginning in FY2025
A27: 2. Credential of Value Premiums are a new fundable credential beginning in FY2025
A28: *Amounts in the FY25 Projected Settle-Up Adjustment columns represent the recalculation of FY25 funding using FY24 actual data. For each college, the projected settle-up equals the difference (whether positive or negative) between these recalculated figures and the sum of performance funding disbursed for FY25 to date. Funding adjustments due to the incorporation of FY24 data are applied to the first payment of FY26.

Sheet Analysis-School
B1: Community College Formula Funding: Performance Tier Historical and Projected Data 2018-2025
C2: Historical | D2: Historical | E2: Historical | F2: Historical | G2: Historical | H2: Historical | I2: Bound project | J2: Bound project | L2: Bound project | P2: Historical | Q2: Historical | R2: Historical | S2: Historical | T2: Historical | U2: Historical | V2: Bound project | W2: Bound project | Y2: Bound project | AC2: Historical | AD2: Historical | AE2: Historical | AF2: Historical | AG2: Historical | AH2: Historical | AI2: Bound project | AJ2: Bound project | AL2: Bound project
B3: 15 SCH Dual Credit | M3: % Inc over FY23 | O3: Transfer to GAI with 15 SCH | Z3: % Inc over FY23 | AB3: GAI Co-Enrollment after 15 SCH | AM3: % Inc over FY23
B4: Community College | C4: 2018 | D4: 2019 | E4: 2020 | F4: 2021 | G4: 2022 | H4: 2023 | I4: 2024 FP | J4: 2024 | K4: 2025 FP | L4: 2025 | O4: Community College | P4: 2018 | Q4: 2019 | R4: 2020 | S4: 2021 | T4: 2022 | U4: 2023 | V4: 2024 FP | W4: 2024 | X4: 2025 FP | Y4: 2025 | AB4: Community College | AC4: 2018 | AD4: 2019 | AE4: 2020 | AF4: 2021 | AG4: 2022 | AH4: 2023 | AI4: 2024 FP | AJ4: 2024 | AK4: 2025 FP | AL4: 2025
A5: 003607 | B5: Alamo Community College District | C5: =SUMIFS('Forecast Summary'!$E:$E,'Forecast Summary'!$A:$A, 'Analysis-School'!$A5,'Forecast Summary'!$C:$C, 'Analysis-School'!C$4,'Forecast Summary'!$D:$D, 'Analysis-School'!C$2) -> 4233 | D5: =SUMIFS('Forecast Summary'!$E:$E,'Forecast Summary'!$A:$A, 'Analysis-School'!$A5,'Forecast Summary'!$C:$C, 'Analysis-School'!D$4,'Forecast Summary'!$D:$D, 'Analysis-School'!D$2) -> 4035 | E5: =SUMIFS('Forecast Summary'!$E:$E,'Forecast Summary'!$A:$A, 'Analysis-School'!$A5,'Forecast Summary'!$C:$C, 'Analysis-School'!E$4,'Forecast Summary'!$D:$D, 'Analysis-School'!E$2) -> 3664 | F5: =SUMIFS('Forecast Summary'!$E:$E,'Forecast Summary'!$A:$A, 'Analysis-School'!$A5,'Forecast Summary'!$C:$C, 'Analysis-School'!F$4,'Forecast Summary'!$D:$D, 'Analysis-School'!F$2) -> 3722 | G5: =SUMIFS('Forecast Summary'!$E:$E,'Forecast Summary'!$A:$A, 'Analysis-School'!$A5,'Forecast Summary'!$C:$C, 'Analysis-School'!G$4,'Forecast Summary'!$D:$D, 'Analysis-School'!G$2) -> 3563 | H5: =SUMIFS('Forecast Summary'!$E:$E,'Forecast Summary'!$A:$A, 'Analysis-School'!$A5,'Forecast Summary'!$C:$C, 'Analysis-School'!H$4,'Forecast Summary'!$D:$D, 'Analysis-School'!H$2) -> 3249 | I5: 3157.4466 | J5: =SUMIFS('Forecast Summary'!$E:$E,'Forecast Summary'!$A:$A, 'Analysis-School'!$A5,'Forecast Summary'!$C:$C, 'Analysis-School'!J$4,'Forecast Summary'!$D:$D, 'Analysis-School'!J$2) -> 3675 | K5: 2999.5743 | L5: =SUMIFS('Forecast Summary'!$E:$E,'Forecast Summary'!$A:$A, 'Analysis-School'!$A5,'Forecast Summary'!$C:$C, 'Analysis-School'!L$4,'Forecast Summary'!$D:$D, 'Analysis-School'!L$2) -> 3618 | M5: =(L5/H5-1) -> 0.11357341 | O5: Alamo Community College District | P5: =SUMIFS('Forecast Summary'!$F:$F,'Forecast Summary'!$A:$A, 'Analysis-School'!$A5,'Forecast Summary'!$C:$C, 'Analysis-School'!P$4,'Forecast Summary'!$D:$D, 'Analysis-School'!P$2) -> 4827 | Q5: =SUMIFS('Forecast Summary'!$F:$F,'Forecast Summary'!$A:$A, 'Analysis-School'!$A5,'Forecast Summary'!$C:$C, 'Analysis-School'!Q$4,'Forecast Summary'!$D:$D, 'Analysis-School'!Q$2) -> 4890 | R5: =SUMIFS('Forecast Summary'!$F:$F,'Forecast Summary'!$A:$A, 'Analysis-School'!$A5,'Forecast Summary'!$C:$C, 'Analysis-School'!R$4,'Forecast Summary'!$D:$D, 'Analysis-School'!R$2) -> 5018 | S5: =SUMIFS('Forecast Summary'!$F:$F,'Forecast Summary'!$A:$A, 'Analysis-School'!$A5,'Forecast Summary'!$C:$C, 'Analysis-School'!S$4,'Forecast Summary'!$D:$D, 'Analysis-School'!S$2) -> 5143 | T5: =SUMIFS('Forecast Summary'!$F:$F,'Forecast Summary'!$A:$A, 'Analysis-School'!$A5,'Forecast Summary'!$C:$C, 'Analysis-School'!T$4,'Forecast Summary'!$D:$D, 'Analysis-School'!T$2) -> 4547 | U5: =SUMIFS('Forecast Summary'!$F:$F,'Forecast Summary'!$A:$A, 'Analysis-School'!$A5,'Forecast Summary'!$C:$C, 'Analysis-School'!U$4,'Forecast Summary'!$D:$D, 'Analysis-School'!U$2) -> 4462 | V5: 4367.199 | W5: =SUMIFS('Forecast Summary'!$F:$F,'Forecast Summary'!$A:$A, 'Analysis-School'!$A5,'Forecast Summary'!$C:$C, 'Analysis-School'!W$4,'Forecast Summary'!$D:$D, 'Analysis-School'!W$2) -> 4289 | X5: 4268.9805 | Y5: =SUMIFS('Forecast Summary'!$F:$F,'Forecast Summary'!$A:$A, 'Analysis-School'!$A5,'Forecast Summary'!$C:$C, 'Analysis-School'!Y$4,'Forecast Summary'!$D:$D, 'Analysis-School'!Y$2) -> 4297 | Z5: =(Y5/U5-1) -> -0.036978933 | AB5: Alamo Community College District | AC5: =SUMIFS('Forecast Summary'!$J:$J,'Forecast Summary'!$A:$A, 'Analysis-School'!$A5,'Forecast Summary'!$C:$C, 'Analysis-School'!AC$4,'Forecast Summary'!$D:$D, 'Analysis-School'!AC$2) -> 10 | AD5: =SUMIFS('Forecast Summary'!$J:$J,'Forecast Summary'!$A:$A, 'Analysis-School'!$A5,'Forecast Summary'!$C:$C, 'Analysis-School'!AD$4,'Forecast Summary'!$D:$D, 'Analysis-School'!AD$2) -> 9 | AE5: =SUMIFS('Forecast Summary'!$J:$J,'Forecast Summary'!$A:$A, 'Analysis-School'!$A5,'Forecast Summary'!$C:$C, 'Analysis-School'!AE$4,'Forecast Summary'!$D:$D, 'Analysis-School'!AE$2) -> 12 | AF5: =SUMIFS('Forecast Summary'!$J:$J,'Forecast Summary'!$A:$A, 'Analysis-School'!$A5,'Forecast Summary'!$C:$C, 'Analysis-School'!AF$4,'Forecast Summary'!$D:$D, 'Analysis-School'!AF$2) -> 10 | AG5: =SUMIFS('Forecast Summary'!$J:$J,'Forecast Summary'!$A:$A, 'Analysis-School'!$A5,'Forecast Summary'!$C:$C, 'Analysis-School'!AG$4,'Forecast Summary'!$D:$D, 'Analysis-School'!AG$2) -> 17 | AH5: =SUMIFS('Forecast Summary'!$J:$J,'Forecast Summary'!$A:$A, 'Analysis-School'!$A5,'Forecast Summary'!$C:$C, 'Analysis-School'!AH$4,'Forecast Summary'!$D:$D, 'Analysis-School'!AH$2) -> 20 | AI5: 21.334766 | AJ5: =SUMIFS('Forecast Summary'!$J:$J,'Forecast Summary'!$A:$A, 'Analysis-School'!$A5,'Forecast Summary'!$C:$C, 'Analysis-School'!AJ$4,'Forecast Summary'!$D:$D, 'Analysis-School'!AJ$2) -> 17 | AK5: 23.468243 | AL5: =SUMIFS('Forecast Summary'!$J:$J,'Forecast Summary'!$A:$A, 'Analysis-School'!$A5,'Forecast Summary'!$C:$C, 'Analysis-School'!AL$4,'Forecast Summary'!$D:$D, 'Analysis-School'!AL$2) -> 17 | AM5: =IFERROR(AL5/AH5-1, "NA") -> -0.15
A6: 003539 | B6: Alvin Community College | C6: =SUMIFS('Forecast Summary'!$E:$E,'Forecast Summary'!$A:$A, 'Analysis-School'!$A6,'Forecast Summary'!$C:$C, 'Analysis-School'!C$4,'Forecast Summary'!$D:$D, 'Analysis-School'!C$2) -> 545 | D6: =SUMIFS('Forecast Summary'!$E:$E,'Forecast Summary'!$A:$A, 'Analysis-School'!$A6,'Forecast Summary'!$C:$C, 'Analysis-School'!D$4,'Forecast Summary'!$D:$D, 'Analysis-School'!D$2) -> 605 | E6: =SUMIFS('Forecast Summary'!$E:$E,'Forecast Summary'!$A:$A, 'Analysis-School'!$A6,'Forecast Summary'!$C:$C, 'Analysis-School'!E$4,'Forecast Summary'!$D:$D, 'Analysis-School'!E$2) -> 633 | F6: =SUMIFS('Forecast Summary'!$E:$E,'Forecast Summary'!$A:$A, 'Analysis-School'!$A6,'Forecast Summary'!$C:$C, 'Analysis-School'!F$4,'Forecast Summary'!$D:$D, 'Analysis-School'!F$2) -> 607 | G6: =SUMIFS('Forecast Summary'!$E:$E,'Forecast Summary'!$A:$A, 'Analysis-School'!$A6,'Forecast Summary'!$C:$C, 'Analysis-School'!G$4,'Forecast Summary'!$D:$D, 'Analysis-School'!G$2) -> 533 | H6: =SUMIFS('Forecast Summary'!$E:$E,'Forecast Summary'!$A:$A, 'Analysis-School'!$A6,'Forecast Summary'!$C:$C, 'Analysis-School'!H$4,'Forecast Summary'!$D:$D, 'Analysis-School'!H$2) -> 601 | I6: 579.09741 | J6: =SUMIFS('Forecast Summary'!$E:$E,'Forecast Summary'!$A:$A, 'Analysis-School'!$A6,'Forecast Summary'!$C:$C, 'Analysis-School'!J$4,'Forecast Summary'!$D:$D, 'Analysis-School'!J$2) -> 726 | K6: 576.04334 | L6: =SUMIFS('Forecast Summary'!$E:$E,'Forecast Summary'!$A:$A, 'Analysis-School'!$A6,'Forecast Summary'!$C:$C, 'Analysis-School'!L$4,'Forecast Summary'!$D:$D, 'Analysis-School'!L$2) -> 689.7 | M6: =(L6/H6-1) -> 0.14758735 | O6: Alvin Community College | P6: =SUMIFS('Forecast Summary'!$F:$F,'Forecast Summary'!$A:$A, 'Analysis-School'!$A6,'Forecast Summary'!$C:$C, 'Analysis-School'!P$4,'Forecast Summary'!$D:$D, 'Analysis-School'!P$2) -> 477 | Q6: =SUMIFS('Forecast Summary'!$F:$F,'Forecast Summary'!$A:$A, 'Analysis-School'!$A6,'Forecast Summary'!$C:$C, 'Analysis-School'!Q$4,'Forecast Summary'!$D:$D, 'Analysis-School'!Q$2) -> 484 | R6: =SUMIFS('Forecast Summary'!$F:$F,'Forecast Summary'!$A:$A, 'Analysis-School'!$A6,'Forecast Summary'!$C:$C, 'Analysis-School'!R$4,'Forecast Summary'!$D:$D, 'Analysis-School'!R$2) -> 486 | S6: =SUMIFS('Forecast Summary'!$F:$F,'Forecast Summary'!$A:$A, 'Analysis-School'!$A6,'Forecast Summary'!$C:$C, 'Analysis-School'!S$4,'Forecast Summary'!$D:$D, 'Analysis-School'!S$2) -> 449 | T6: =SUMIFS('Forecast Summary'!$F:$F,'Forecast Summary'!$A:$A, 'Analysis-School'!$A6,'Forecast Summary'!$C:$C, 'Analysis-School'!T$4,'Forecast Summary'!$D:$D, 'Analysis-School'!T$2) -> 478 | U6: =SUMIFS('Forecast Summary'!$F:$F,'Forecast Summary'!$A:$A, 'Analysis-School'!$A6,'Forecast Summary'!$C:$C, 'Analysis-School'!U$4,'Forecast Summary'!$D:$D, 'Analysis-School'!U$2) -> 449 | V6: 444.27537 | W6: =SUMIFS('Forecast Summary'!$F:$F,'Forecast Summary'!$A:$A, 'Analysis-School'!$A6,'Forecast Summary'!$C:$C, 'Analysis-School'!W$4,'Forecast Summary'!$D:$D, 'Analysis-School'!W$2) -> 400 | X6: 437.95029 | Y6: =SUMIFS('Forecast Summary'!$F:$F,'Forecast Summary'!$A:$A, 'Analysis-School'!$A6,'Forecast Summary'!$C:$C, 'Analysis-School'!Y$4,'Forecast Summary'!$D:$D, 'Analysis-School'!Y$2) -> 413 | Z6: =(Y6/U6-1) -> -0.080178174 | AB6: Alvin Community College | AC6: =SUMIFS('Forecast Summary'!$J:$J,'Forecast Summary'!$A:$A, 'Analysis-School'!$A6,'Forecast Summary'!$C:$C, 'Analysis-School'!AC$4,'Forecast Summary'!$D:$D, 'Analysis-School'!AC$2) -> 0 | AD6: =SUMIFS('Forecast Summary'!$J:$J,'Forecast Summary'!$A:$A, 'Analysis-School'!$A6,'Forecast Summary'!$C:$C, 'Analysis-School'!AD$4,'Forecast Summary'!$D:$D, 'Analysis-School'!AD$2) -> 0 | AE6: =SUMIFS('Forecast Summary'!$J:$J,'Forecast Summary'!$A:$A, 'Analysis-School'!$A6,'Forecast Summary'!$C:$C, 'Analysis-School'!AE$4,'Forecast Summary'!$D:$D, 'Analysis-School'!AE$2) -> 0 | AF6: =SUMIFS('Forecast Summary'!$J:$J,'Forecast Summary'!$A:$A, 'Analysis-School'!$A6,'Forecast Summary'!$C:$C, 'Analysis-School'!AF$4,'Forecast Summary'!$D:$D, 'Analysis-School'!AF$2) -> 0 | AG6: =SUMIFS('Forecast Summary'!$J:$J,'Forecast Summary'!$A:$A, 'Analysis-School'!$A6,'Forecast Summary'!$C:$C, 'Analysis-School'!AG$4,'Forecast Summary'!$D:$D, 'Analysis-School'!AG$2) -> 0 | AH6: =SUMIFS('Forecast Summary'!$J:$J,'Forecast Summary'!$A:$A, 'Analysis-School'!$A6,'Forecast Summary'!$C:$C, 'Analysis-School'!AH$4,'Forecast Summary'!$D:$D, 'Analysis-School'!AH$2) -> 0 | AI6: 0 | AJ6: =SUMIFS('Forecast Summary'!$J:$J,'Forecast Summary'!$A:$A, 'Analysis-School'!$A6,'Forecast Summary'!$C:$C, 'Analysis-School'!AJ$4,'Forecast Summary'!$D:$D, 'Analysis-School'!AJ$2) -> 0 | AK6: 0 | AL6: =SUMIFS('Forecast Summary'!$J:$J,'Forecast Summary'!$A:$A, 'Analysis-School'!$A6,'Forecast Summary'!$C:$C, 'Analysis-School'!AL$4,'Forecast Summary'!$D:$D, 'Analysis-School'!AL$2) -> 0 | AM6: =IFERROR(AL6/AH6-1, "NA") -> NA
A7: 003540 | B7: Amarillo College | C7: =SUMIFS('Forecast Summary'!$E:$E,'Forecast Summary'!$A:$A, 'Analysis-School'!$A7,'Forecast Summary'!$C:$C, 'Analysis-School'!C$4,'Forecast Summary'!$D:$D, 'Analysis-School'!C$2) -> 766 | D7: =SUMIFS('Forecast Summary'!$E:$E,'Forecast Summary'!$A:$A, 'Analysis-School'!$A7,'Forecast Summary'!$C:$C, 'Analysis-School'!D$4,'Forecast Summary'!$D:$D, 'Analysis-School'!D$2) -> 718 | E7: =SUMIFS('Forecast Summary'!$E:$E,'Forecast Summary'!$A:$A, 'Analysis-School'!$A7,'Forecast Summary'!$C:$C, 'Analysis-School'!E$4,'Forecast Summary'!$D:$D, 'Analysis-School'!E$2) -> 685 | F7: =SUMIFS('Forecast Summary'!$E:$E,'Forecast Summary'!$A:$A, 'Analysis-School'!$A7,'Forecast Summary'!$C:$C, 'Analysis-School'!F$4,'Forecast Summary'!$D:$D, 'Analysis-School'!F$2) -> 640 | G7: =SUMIFS('Forecast Summary'!$E:$E,'Forecast Summary'!$A:$A, 'Analysis-School'!$A7,'Forecast Summary'!$C:$C, 'Analysis-School'!G$4,'Forecast Summary'!$D:$D, 'Analysis-School'!G$2) -> 651 | H7: =SUMIFS('Forecast Summary'!$E:$E,'Forecast Summary'!$A:$A, 'Analysis-School'!$A7,'Forecast Summary'!$C:$C, 'Analysis-School'!H$4,'Forecast Summary'!$D:$D, 'Analysis-School'!H$2) -> 664 | I7: 641.55823 | J7: =SUMIFS('Forecast Summary'!$E:$E,'Forecast Summary'!$A:$A, 'Analysis-School'!$A7,'Forecast Summary'!$C:$C, 'Analysis-School'!J$4,'Forecast Summary'!$D:$D, 'Analysis-School'!J$2) -> 593 | K7: 622.58943 | L7: =SUMIFS('Forecast Summary'!$E:$E,'Forecast Summary'!$A:$A, 'Analysis-School'!$A7,'Forecast Summary'!$C:$C, 'Analysis-School'!L$4,'Forecast Summary'!$D:$D, 'Analysis-School'!L$2) -> 593 | M7: =(L7/H7-1) -> -0.10692771 | O7: Amarillo College | P7: =SUMIFS('Forecast Summary'!$F:$F,'Forecast Summary'!$A:$A, 'Analysis-School'!$A7,'Forecast Summary'!$C:$C, 'Analysis-School'!P$4,'Forecast Summary'!$D:$D, 'Analysis-School'!P$2) -> 836 | Q7: =SUMIFS('Forecast Summary'!$F:$F,'Forecast Summary'!$A:$A, 'Analysis-School'!$A7,'Forecast Summary'!$C:$C, 'Analysis-School'!Q$4,'Forecast Summary'!$D:$D, 'Analysis-School'!Q$2) -> 823 | R7: =SUMIFS('Forecast Summary'!$F:$F,'Forecast Summary'!$A:$A, 'Analysis-School'!$A7,'Forecast Summary'!$C:$C, 'Analysis-School'!R$4,'Forecast Summary'!$D:$D, 'Analysis-School'!R$2) -> 841 | S7: =SUMIFS('Forecast Summary'!$F:$F,'Forecast Summary'!$A:$A, 'Analysis-School'!$A7,'Forecast Summary'!$C:$C, 'Analysis-School'!S$4,'Forecast Summary'!$D:$D, 'Analysis-School'!S$2) -> 794 | T7: =SUMIFS('Forecast Summary'!$F:$F,'Forecast Summary'!$A:$A, 'Analysis-School'!$A7,'Forecast Summary'!$C:$C, 'Analysis-School'!T$4,'Forecast Summary'!$D:$D, 'Analysis-School'!T$2) -> 820 | U7: =SUMIFS('Forecast Summary'!$F:$F,'Forecast Summary'!$A:$A, 'Analysis-School'!$A7,'Forecast Summary'!$C:$C, 'Analysis-School'!U$4,'Forecast Summary'!$D:$D, 'Analysis-School'!U$2) -> 732 | V7: 737.87771 | W7: =SUMIFS('Forecast Summary'!$F:$F,'Forecast Summary'!$A:$A, 'Analysis-School'!$A7,'Forecast Summary'!$C:$C, 'Analysis-School'!W$4,'Forecast Summary'!$D:$D, 'Analysis-School'!W$2) -> 759 | X7: 719.99567 | Y7: =SUMIFS('Forecast Summary'!$F:$F,'Forecast Summary'!$A:$A, 'Analysis-School'!$A7,'Forecast Summary'!$C:$C, 'Analysis-School'!Y$4,'Forecast Summary'!$D:$D, 'Analysis-School'!Y$2) -> 762 | Z7: =(Y7/U7-1) -> 0.040983607 | AB7: Amarillo College | AC7: =SUMIFS('Forecast Summary'!$J:$J,'Forecast Summary'!$A:$A, 'Analysis-School'!$A7,'Forecast Summary'!$C:$C, 'Analysis-School'!AC$4,'Forecast Summary'!$D:$D, 'Analysis-School'!AC$2) -> 0 | AD7: =SUMIFS('Forecast Summary'!$J:$J,'Forecast Summary'!$A:$A, 'Analysis-School'!$A7,'Forecast Summary'!$C:$C, 'Analysis-School'!AD$4,'Forecast Summary'!$D:$D, 'Analysis-School'!AD$2) -> 0 | AE7: =SUMIFS('Forecast Summary'!$J:$J,'Forecast Summary'!$A:$A, 'Analysis-School'!$A7,'Forecast Summary'!$C:$C, 'Analysis-School'!AE$4,'Forecast Summary'!$D:$D, 'Analysis-School'!AE$2) -> 0 | AF7: =SUMIFS('Forecast Summary'!$J:$J,'Forecast Summary'!$A:$A, 'Analysis-School'!$A7,'Forecast Summary'!$C:$C, 'Analysis-School'!AF$4,'Forecast Summary'!$D:$D, 'Analysis-School'!AF$2) -> 0 | AG7: =SUMIFS('Forecast Summary'!$J:$J,'Forecast Summary'!$A:$A, 'Analysis-School'!$A7,'Forecast Summary'!$C:$C, 'Analysis-School'!AG$4,'Forecast Summary'!$D:$D, 'Analysis-School'!AG$2) -> 0 | AH7: =SUMIFS('Forecast Summary'!$J:$J,'Forecast Summary'!$A:$A, 'Analysis-School'!$A7,'Forecast Summary'!$C:$C, 'Analysis-School'!AH$4,'Forecast Summary'!$D:$D, 'Analysis-School'!AH$2) -> 0 | AI7: 0 | AJ7: =SUMIFS('Forecast Summary'!$J:$J,'Forecast Summary'!$A:$A, 'Analysis-School'!$A7,'Forecast Summary'!$C:$C, 'Analysis-School'!AJ$4,'Forecast Summary'!$D:$D, 'Analysis-School'!AJ$2) -> 0 | AK7: 0 | AL7: =SUMIFS('Forecast Summary'!$J:$J,'Forecast Summary'!$A:$A, 'Analysis-School'!$A7,'Forecast Summary'!$C:$C, 'Analysis-School'!AL$4,'Forecast Summary'!$D:$D, 'Analysis-School'!AL$2) -> 0 | AM7: =IFERROR(AL7/AH7-1, "NA") -> NA
A8: 006661 | B8: Angelina College | C8: =SUMIFS('Forecast Summary'!$E:$E,'Forecast Summary'!$A:$A, 'Analysis-School'!$A8,'Forecast Summary'!$C:$C, 'Analysis-School'!C$4,'Forecast Summary'!$D:$D, 'Analysis-School'!C$2) -> 466 | D8: =SUMIFS('Forecast Summary'!$E:$E,'Forecast Summary'!$A:$A, 'Analysis-School'!$A8,'Forecast Summary'!$C:$C, 'Analysis-School'!D$4,'Forecast Summary'!$D:$D, 'Analysis-School'!D$2) -> 447 | E8: =SUMIFS('Forecast Summary'!$E:$E,'Forecast Summary'!$A:$A, 'Analysis-School'!$A8,'Forecast Summary'!$C:$C, 'Analysis-School'!E$4,'Forecast Summary'!$D:$D, 'Analysis-School'!E$2) -> 474 | F8: =SUMIFS('Forecast Summary'!$E:$E,'Forecast Summary'!$A:$A, 'Analysis-School'!$A8,'Forecast Summary'!$C:$C, 'Analysis-School'!F$4,'Forecast Summary'!$D:$D, 'Analysis-School'!F$2) -> 549 | G8: =SUMIFS('Forecast Summary'!$E:$E,'Forecast Summary'!$A:$A, 'Analysis-School'!$A8,'Forecast Summary'!$C:$C, 'Analysis-School'!G$4,'Forecast Summary'!$D:$D, 'Analysis-School'!G$2) -> 503 | H8: =SUMIFS('Forecast Summary'!$E:$E,'Forecast Summary'!$A:$A, 'Analysis-School'!$A8,'Forecast Summary'!$C:$C, 'Analysis-School'!H$4,'Forecast Summary'!$D:$D, 'Analysis-School'!H$2) -> 512 | I8: 551.88285 | J8: =SUMIFS('Forecast Summary'!$E:$E,'Forecast Summary'!$A:$A, 'Analysis-School'!$A8,'Forecast Summary'!$C:$C, 'Analysis-School'!J$4,'Forecast Summary'!$D:$D, 'Analysis-School'!J$2) -> 528 | K8: 566.18931 | L8: =SUMIFS('Forecast Summary'!$E:$E,'Forecast Summary'!$A:$A, 'Analysis-School'!$A8,'Forecast Summary'!$C:$C, 'Analysis-School'!L$4,'Forecast Summary'!$D:$D, 'Analysis-School'!L$2) -> 501.6 | M8: =(L8/H8-1) -> -0.0203125 | O8: Angelina College | P8: =SUMIFS('Forecast Summary'!$F:$F,'Forecast Summary'!$A:$A, 'Analysis-School'!$A8,'Forecast Summary'!$C:$C, 'Analysis-School'!P$4,'Forecast Summary'!$D:$D, 'Analysis-School'!P$2) -> 401 | Q8: =SUMIFS('Forecast Summary'!$F:$F,'Forecast Summary'!$A:$A, 'Analysis-School'!$A8,'Forecast Summary'!$C:$C, 'Analysis-School'!Q$4,'Forecast Summary'!$D:$D, 'Analysis-School'!Q$2) -> 362 | R8: =SUMIFS('Forecast Summary'!$F:$F,'Forecast Summary'!$A:$A, 'Analysis-School'!$A8,'Forecast Summary'!$C:$C, 'Analysis-School'!R$4,'Forecast Summary'!$D:$D, 'Analysis-School'!R$2) -> 361 | S8: =SUMIFS('Forecast Summary'!$F:$F,'Forecast Summary'!$A:$A, 'Analysis-School'!$A8,'Forecast Summary'!$C:$C, 'Analysis-School'!S$4,'Forecast Summary'!$D:$D, 'Analysis-School'!S$2) -> 358 | T8: =SUMIFS('Forecast Summary'!$F:$F,'Forecast Summary'!$A:$A, 'Analysis-School'!$A8,'Forecast Summary'!$C:$C, 'Analysis-School'!T$4,'Forecast Summary'!$D:$D, 'Analysis-School'!T$2) -> 337 | U8: =SUMIFS('Forecast Summary'!$F:$F,'Forecast Summary'!$A:$A, 'Analysis-School'!$A8,'Forecast Summary'!$C:$C, 'Analysis-School'!U$4,'Forecast Summary'!$D:$D, 'Analysis-School'!U$2) -> 366 | V8: 353.15737 | W8: =SUMIFS('Forecast Summary'!$F:$F,'Forecast Summary'!$A:$A, 'Analysis-School'!$A8,'Forecast Summary'!$C:$C, 'Analysis-School'!W$4,'Forecast Summary'!$D:$D, 'Analysis-School'!W$2) -> 373 | X8: 347.9172 | Y8: =SUMIFS('Forecast Summary'!$F:$F,'Forecast Summary'!$A:$A, 'Analysis-School'!$A8,'Forecast Summary'!$C:$C, 'Analysis-School'!Y$4,'Forecast Summary'!$D:$D, 'Analysis-School'!Y$2) -> 365 | Z8: =(Y8/U8-1) -> -0.0027322404 | AB8: Angelina College | AC8: =SUMIFS('Forecast Summary'!$J:$J,'Forecast Summary'!$A:$A, 'Analysis-School'!$A8,'Forecast Summary'!$C:$C, 'Analysis-School'!AC$4,'Forecast Summary'!$D:$D, 'Analysis-School'!AC$2) -> 0 | AD8: =SUMIFS('Forecast Summary'!$J:$J,'Forecast Summary'!$A:$A, 'Analysis-School'!$A8,'Forecast Summary'!$C:$C, 'Analysis-School'!AD$4,'Forecast Summary'!$D:$D, 'Analysis-School'!AD$2) -> 0 | AE8: =SUMIFS('Forecast Summary'!$J:$J,'Forecast Summary'!$A:$A, 'Analysis-School'!$A8,'Forecast Summary'!$C:$C, 'Analysis-School'!AE$4,'Forecast Summary'!$D:$D, 'Analysis-School'!AE$2) -> 0 | AF8: =SUMIFS('Forecast Summary'!$J:$J,'Forecast Summary'!$A:$A, 'Analysis-School'!$A8,'Forecast Summary'!$C:$C, 'Analysis-School'!AF$4,'Forecast Summary'!$D:$D, 'Analysis-School'!AF$2) -> 0 | AG8: =SUMIFS('Forecast Summary'!$J:$J,'Forecast Summary'!$A:$A, 'Analysis-School'!$A8,'Forecast Summary'!$C:$C, 'Analysis-School'!AG$4,'Forecast Summary'!$D:$D, 'Analysis-School'!AG$2) -> 0 | AH8: =SUMIFS('Forecast Summary'!$J:$J,'Forecast Summary'!$A:$A, 'Analysis-School'!$A8,'Forecast Summary'!$C:$C, 'Analysis-School'!AH$4,'Forecast Summary'!$D:$D, 'Analysis-School'!AH$2) -> 0 | AI8: 0 | AJ8: =SUMIFS('Forecast Summary'!$J:$J,'Forecast Summary'!$A:$A, 'Analysis-School'!$A8,'Forecast Summary'!$C:$C, 'Analysis-School'!AJ$4,'Forecast Summary'!$D:$D, 'Analysis-School'!AJ$2) -> 0 | AK8: 0 | AL8: =SUMIFS('Forecast Summary'!$J:$J,'Forecast Summary'!$A:$A, 'Analysis-School'!$A8,'Forecast Summary'!$C:$C, 'Analysis-School'!AL$4,'Forecast Summary'!$D:$D, 'Analysis-School'!AL$2) -> 0 | AM8: =IFERROR(AL8/AH8-1, "NA") -> NA
A9: 012015 | B9: Austin Community College | C9: =SUMIFS('Forecast Summary'!$E:$E,'Forecast Summary'!$A:$A, 'Analysis-School'!$A9,'Forecast Summary'!$C:$C, 'Analysis-School'!C$4,'Forecast Summary'!$D:$D, 'Analysis-School'!C$2) -> 2197 | D9: =SUMIFS('Forecast Summary'!$E:$E,'Forecast Summary'!$A:$A, 'Analysis-School'!$A9,'Forecast Summary'!$C:$C, 'Analysis-School'!D$4,'Forecast Summary'!$D:$D, 'Analysis-School'!D$2) -> 2274 | E9: =SUMIFS('Forecast Summary'!$E:$E,'Forecast Summary'!$A:$A, 'Analysis-School'!$A9,'Forecast Summary'!$C:$C, 'Analysis-School'!E$4,'Forecast Summary'!$D:$D, 'Analysis-School'!E$2) -> 2543 | F9: =SUMIFS('Forecast Summary'!$E:$E,'Forecast Summary'!$A:$A, 'Analysis-School'!$A9,'Forecast Summary'!$C:$C, 'Analysis-School'!F$4,'Forecast Summary'!$D:$D, 'Analysis-School'!F$2) -> 2211 | G9: =SUMIFS('Forecast Summary'!$E:$E,'Forecast Summary'!$A:$A, 'Analysis-School'!$A9,'Forecast Summary'!$C:$C, 'Analysis-School'!G$4,'Forecast Summary'!$D:$D, 'Analysis-School'!G$2) -> 2345 | H9: =SUMIFS('Forecast Summary'!$E:$E,'Forecast Summary'!$A:$A, 'Analysis-School'!$A9,'Forecast Summary'!$C:$C, 'Analysis-School'!H$4,'Forecast Summary'!$D:$D, 'Analysis-School'!H$2) -> 2250 | I9: 2097.5445 | J9: =SUMIFS('Forecast Summary'!$E:$E,'Forecast Summary'!$A:$A, 'Analysis-School'!$A9,'Forecast Summary'!$C:$C, 'Analysis-School'!J$4,'Forecast Summary'!$D:$D, 'Analysis-School'!J$2) -> 2426 | K9: 2056.4691 | L9: =SUMIFS('Forecast Summary'!$E:$E,'Forecast Summary'!$A:$A, 'Analysis-School'!$A9,'Forecast Summary'!$C:$C, 'Analysis-School'!L$4,'Forecast Summary'!$D:$D, 'Analysis-School'!L$2) -> 2321 | M9: =(L9/H9-1) -> 0.031555556 | O9: Austin Community College | P9: =SUMIFS('Forecast Summary'!$F:$F,'Forecast Summary'!$A:$A, 'Analysis-School'!$A9,'Forecast Summary'!$C:$C, 'Analysis-School'!P$4,'Forecast Summary'!$D:$D, 'Analysis-School'!P$2) -> 3294 | Q9: =SUMIFS('Forecast Summary'!$F:$F,'Forecast Summary'!$A:$A, 'Analysis-School'!$A9,'Forecast Summary'!$C:$C, 'Analysis-School'!Q$4,'Forecast Summary'!$D:$D, 'Analysis-School'!Q$2) -> 3133 | R9: =SUMIFS('Forecast Summary'!$F:$F,'Forecast Summary'!$A:$A, 'Analysis-School'!$A9,'Forecast Summary'!$C:$C, 'Analysis-School'!R$4,'Forecast Summary'!$D:$D, 'Analysis-School'!R$2) -> 3283 | S9: =SUMIFS('Forecast Summary'!$F:$F,'Forecast Summary'!$A:$A, 'Analysis-School'!$A9,'Forecast Summary'!$C:$C, 'Analysis-School'!S$4,'Forecast Summary'!$D:$D, 'Analysis-School'!S$2) -> 3345 | T9: =SUMIFS('Forecast Summary'!$F:$F,'Forecast Summary'!$A:$A, 'Analysis-School'!$A9,'Forecast Summary'!$C:$C, 'Analysis-School'!T$4,'Forecast Summary'!$D:$D, 'Analysis-School'!T$2) -> 3108 | U9: =SUMIFS('Forecast Summary'!$F:$F,'Forecast Summary'!$A:$A, 'Analysis-School'!$A9,'Forecast Summary'!$C:$C, 'Analysis-School'!U$4,'Forecast Summary'!$D:$D, 'Analysis-School'!U$2) -> 2639 | V9: 2730.2963 | W9: =SUMIFS('Forecast Summary'!$F:$F,'Forecast Summary'!$A:$A, 'Analysis-School'!$A9,'Forecast Summary'!$C:$C, 'Analysis-School'!W$4,'Forecast Summary'!$D:$D, 'Analysis-School'!W$2) -> 2730 | X9: 2629.0415 | Y9: =SUMIFS('Forecast Summary'!$F:$F,'Forecast Summary'!$A:$A, 'Analysis-School'!$A9,'Forecast Summary'!$C:$C, 'Analysis-School'!Y$4,'Forecast Summary'!$D:$D, 'Analysis-School'!Y$2) -> 2730 | Z9: =(Y9/U9-1) -> 0.034482759 | AB9: Austin Community College | AC9: =SUMIFS('Forecast Summary'!$J:$J,'Forecast Summary'!$A:$A, 'Analysis-School'!$A9,'Forecast Summary'!$C:$C, 'Analysis-School'!AC$4,'Forecast Summary'!$D:$D, 'Analysis-School'!AC$2) -> 99 | AD9: =SUMIFS('Forecast Summary'!$J:$J,'Forecast Summary'!$A:$A, 'Analysis-School'!$A9,'Forecast Summary'!$C:$C, 'Analysis-School'!AD$4,'Forecast Summary'!$D:$D, 'Analysis-School'!AD$2) -> 111 | AE9: =SUMIFS('Forecast Summary'!$J:$J,'Forecast Summary'!$A:$A, 'Analysis-School'!$A9,'Forecast Summary'!$C:$C, 'Analysis-School'!AE$4,'Forecast Summary'!$D:$D, 'Analysis-School'!AE$2) -> 130 | AF9: =SUMIFS('Forecast Summary'!$J:$J,'Forecast Summary'!$A:$A, 'Analysis-School'!$A9,'Forecast Summary'!$C:$C, 'Analysis-School'!AF$4,'Forecast Summary'!$D:$D, 'Analysis-School'!AF$2) -> 129 | AG9: =SUMIFS('Forecast Summary'!$J:$J,'Forecast Summary'!$A:$A, 'Analysis-School'!$A9,'Forecast Summary'!$C:$C, 'Analysis-School'!AG$4,'Forecast Summary'!$D:$D, 'Analysis-School'!AG$2) -> 189 | AH9: =SUMIFS('Forecast Summary'!$J:$J,'Forecast Summary'!$A:$A, 'Analysis-School'!$A9,'Forecast Summary'!$C:$C, 'Analysis-School'!AH$4,'Forecast Summary'!$D:$D, 'Analysis-School'!AH$2) -> 186 | AI9: 204.6 | AJ9: =SUMIFS('Forecast Summary'!$J:$J,'Forecast Summary'!$A:$A, 'Analysis-School'!$A9,'Forecast Summary'!$C:$C, 'Analysis-School'!AJ$4,'Forecast Summary'!$D:$D, 'Analysis-School'!AJ$2) -> 150 | AK9: 225.06 | AL9: =SUMIFS('Forecast Summary'!$J:$J,'Forecast Summary'!$A:$A, 'Analysis-School'!$A9,'Forecast Summary'!$C:$C, 'Analysis-School'!AL$4,'Forecast Summary'!$D:$D, 'Analysis-School'!AL$2) -> 153 | AM9: =IFERROR(AL9/AH9-1, "NA") -> -0.17741935
A10: 003549 | B10: Blinn College District | C10: =SUMIFS('Forecast Summary'!$E:$E,'Forecast Summary'!$A:$A, 'Analysis-School'!$A10,'Forecast Summary'!$C:$C, 'Analysis-School'!C$4,'Forecast Summary'!$D:$D, 'Analysis-School'!C$2) -> 430 | D10: =SUMIFS('Forecast Summary'!$E:$E,'Forecast Summary'!$A:$A, 'Analysis-School'!$A10,'Forecast Summary'!$C:$C, 'Analysis-School'!D$4,'Forecast Summary'!$D:$D, 'Analysis-School'!D$2) -> 434 | E10: =SUMIFS('Forecast Summary'!$E:$E,'Forecast Summary'!$A:$A, 'Analysis-School'!$A10,'Forecast Summary'!$C:$C, 'Analysis-School'!E$4,'Forecast Summary'!$D:$D, 'Analysis-School'!E$2) -> 460 | F10: =SUMIFS('Forecast Summary'!$E:$E,'Forecast Summary'!$A:$A, 'Analysis-School'!$A10,'Forecast Summary'!$C:$C, 'Analysis-School'!F$4,'Forecast Summary'!$D:$D, 'Analysis-School'!F$2) -> 444 | G10: =SUMIFS('Forecast Summary'!$E:$E,'Forecast Summary'!$A:$A, 'Analysis-School'!$A10,'Forecast Summary'!$C:$C, 'Analysis-School'!G$4,'Forecast Summary'!$D:$D, 'Analysis-School'!G$2) -> 396 | H10: =SUMIFS('Forecast Summary'!$E:$E,'Forecast Summary'!$A:$A, 'Analysis-School'!$A10,'Forecast Summary'!$C:$C, 'Analysis-School'!H$4,'Forecast Summary'!$D:$D, 'Analysis-School'!H$2) -> 466 | I10: 442.7 | J10: =SUMIFS('Forecast Summary'!$E:$E,'Forecast Summary'!$A:$A, 'Analysis-School'!$A10,'Forecast Summary'!$C:$C, 'Analysis-School'!J$4,'Forecast Summary'!$D:$D, 'Analysis-School'!J$2) -> 450 | K10: 436.65329 | L10: =SUMIFS('Forecast Summary'!$E:$E,'Forecast Summary'!$A:$A, 'Analysis-School'!$A10,'Forecast Summary'!$C:$C, 'Analysis-School'!L$4,'Forecast Summary'!$D:$D, 'Analysis-School'!L$2) -> 440 | M10: =(L10/H10-1) -> -0.055793991 | O10: Blinn College District | P10: =SUMIFS('Forecast Summary'!$F:$F,'Forecast Summary'!$A:$A, 'Analysis-School'!$A10,'Forecast Summary'!$C:$C, 'Analysis-School'!P$4,'Forecast Summary'!$D:$D, 'Analysis-School'!P$2) -> 4080 | Q10: =SUMIFS('Forecast Summary'!$F:$F,'Forecast Summary'!$A:$A, 'Analysis-School'!$A10,'Forecast Summary'!$C:$C, 'Analysis-School'!Q$4,'Forecast Summary'!$D:$D, 'Analysis-School'!Q$2) -> 3527 | R10: =SUMIFS('Forecast Summary'!$F:$F,'Forecast Summary'!$A:$A, 'Analysis-School'!$A10,'Forecast Summary'!$C:$C, 'Analysis-School'!R$4,'Forecast Summary'!$D:$D, 'Analysis-School'!R$2) -> 3700 | S10: =SUMIFS('Forecast Summary'!$F:$F,'Forecast Summary'!$A:$A, 'Analysis-School'!$A10,'Forecast Summary'!$C:$C, 'Analysis-School'!S$4,'Forecast Summary'!$D:$D, 'Analysis-School'!S$2) -> 3758 | T10: =SUMIFS('Forecast Summary'!$F:$F,'Forecast Summary'!$A:$A, 'Analysis-School'!$A10,'Forecast Summary'!$C:$C, 'Analysis-School'!T$4,'Forecast Summary'!$D:$D, 'Analysis-School'!T$2) -> 3537 | U10: =SUMIFS('Forecast Summary'!$F:$F,'Forecast Summary'!$A:$A, 'Analysis-School'!$A10,'Forecast Summary'!$C:$C, 'Analysis-School'!U$4,'Forecast Summary'!$D:$D, 'Analysis-School'!U$2) -> 3292 | V10: 3343.0895 | W10: =SUMIFS('Forecast Summary'!$F:$F,'Forecast Summary'!$A:$A, 'Analysis-School'!$A10,'Forecast Summary'!$C:$C, 'Analysis-School'!W$4,'Forecast Summary'!$D:$D, 'Analysis-School'!W$2) -> 3701 | X10: 3248.9113 | Y10: =SUMIFS('Forecast Summary'!$F:$F,'Forecast Summary'!$A:$A, 'Analysis-School'!$A10,'Forecast Summary'!$C:$C, 'Analysis-School'!Y$4,'Forecast Summary'!$D:$D, 'Analysis-School'!Y$2) -> 3656 | Z10: =(Y10/U10-1) -> 0.11057108 | AB10: Blinn College District | AC10: =SUMIFS('Forecast Summary'!$J:$J,'Forecast Summary'!$A:$A, 'Analysis-School'!$A10,'Forecast Summary'!$C:$C, 'Analysis-School'!AC$4,'Forecast Summary'!$D:$D, 'Analysis-School'!AC$2) -> 1102 | AD10: =SUMIFS('Forecast Summary'!$J:$J,'Forecast Summary'!$A:$A, 'Analysis-School'!$A10,'Forecast Summary'!$C:$C, 'Analysis-School'!AD$4,'Forecast Summary'!$D:$D, 'Analysis-School'!AD$2) -> 1077 | AE10: =SUMIFS('Forecast Summary'!$J:$J,'Forecast Summary'!$A:$A, 'Analysis-School'!$A10,'Forecast Summary'!$C:$C, 'Analysis-School'!AE$4,'Forecast Summary'!$D:$D, 'Analysis-School'!AE$2) -> 1384 | AF10: =SUMIFS('Forecast Summary'!$J:$J,'Forecast Summary'!$A:$A, 'Analysis-School'!$A10,'Forecast Summary'!$C:$C, 'Analysis-School'!AF$4,'Forecast Summary'!$D:$D, 'Analysis-School'!AF$2) -> 972 | AG10: =SUMIFS('Forecast Summary'!$J:$J,'Forecast Summary'!$A:$A, 'Analysis-School'!$A10,'Forecast Summary'!$C:$C, 'Analysis-School'!AG$4,'Forecast Summary'!$D:$D, 'Analysis-School'!AG$2) -> 817 | AH10: =SUMIFS('Forecast Summary'!$J:$J,'Forecast Summary'!$A:$A, 'Analysis-School'!$A10,'Forecast Summary'!$C:$C, 'Analysis-School'!AH$4,'Forecast Summary'!$D:$D, 'Analysis-School'!AH$2) -> 922 | AI10: 875.9 | AJ10: =SUMIFS('Forecast Summary'!$J:$J,'Forecast Summary'!$A:$A, 'Analysis-School'!$A10,'Forecast Summary'!$C:$C, 'Analysis-School'!AJ$4,'Forecast Summary'!$D:$D, 'Analysis-School'!AJ$2) -> 981 | AK10: 832.105 | AL10: =SUMIFS('Forecast Summary'!$J:$J,'Forecast Summary'!$A:$A, 'Analysis-School'!$A10,'Forecast Summary'!$C:$C, 'Analysis-School'!AL$4,'Forecast Summary'!$D:$D, 'Analysis-School'!AL$2) -> 1036 | AM10: =IFERROR(AL10/AH10-1, "NA") -> 0.12364425
A11: 007857 | B11: Brazosport College | C11: =SUMIFS('Forecast Summary'!$E:$E,'Forecast Summary'!$A:$A, 'Analysis-School'!$A11,'Forecast Summary'!$C:$C, 'Analysis-School'!C$4,'Forecast Summary'!$D:$D, 'Analysis-School'!C$2) -> 377 | D11: =SUMIFS('Forecast Summary'!$E:$E,'Forecast Summary'!$A:$A, 'Analysis-School'!$A11,'Forecast Summary'!$C:$C, 'Analysis-School'!D$4,'Forecast Summary'!$D:$D, 'Analysis-School'!D$2) -> 300 | E11: =SUMIFS('Forecast Summary'!$E:$E,'Forecast Summary'!$A:$A, 'Analysis-School'!$A11,'Forecast Summary'!$C:$C, 'Analysis-School'!E$4,'Forecast Summary'!$D:$D, 'Analysis-School'!E$2) -> 378 | F11: =SUMIFS('Forecast Summary'!$E:$E,'Forecast Summary'!$A:$A, 'Analysis-School'!$A11,'Forecast Summary'!$C:$C, 'Analysis-School'!F$4,'Forecast Summary'!$D:$D, 'Analysis-School'!F$2) -> 280 | G11: =SUMIFS('Forecast Summary'!$E:$E,'Forecast Summary'!$A:$A, 'Analysis-School'!$A11,'Forecast Summary'!$C:$C, 'Analysis-School'!G$4,'Forecast Summary'!$D:$D, 'Analysis-School'!G$2) -> 275 | H11: =SUMIFS('Forecast Summary'!$E:$E,'Forecast Summary'!$A:$A, 'Analysis-School'!$A11,'Forecast Summary'!$C:$C, 'Analysis-School'!H$4,'Forecast Summary'!$D:$D, 'Analysis-School'!H$2) -> 315 | I11: 299.25 | J11: =SUMIFS('Forecast Summary'!$E:$E,'Forecast Summary'!$A:$A, 'Analysis-School'!$A11,'Forecast Summary'!$C:$C, 'Analysis-School'!J$4,'Forecast Summary'!$D:$D, 'Analysis-School'!J$2) -> 437 | K11: 284.2875 | L11: =SUMIFS('Forecast Summary'!$E:$E,'Forecast Summary'!$A:$A, 'Analysis-School'!$A11,'Forecast Summary'!$C:$C, 'Analysis-School'!L$4,'Forecast Summary'!$D:$D, 'Analysis-School'!L$2) -> 415.15 | M11: =(L11/H11-1) -> 0.31793651 | O11: Brazosport College | P11: =SUMIFS('Forecast Summary'!$F:$F,'Forecast Summary'!$A:$A, 'Analysis-School'!$A11,'Forecast Summary'!$C:$C, 'Analysis-School'!P$4,'Forecast Summary'!$D:$D, 'Analysis-School'!P$2) -> 302 | Q11: =SUMIFS('Forecast Summary'!$F:$F,'Forecast Summary'!$A:$A, 'Analysis-School'!$A11,'Forecast Summary'!$C:$C, 'Analysis-School'!Q$4,'Forecast Summary'!$D:$D, 'Analysis-School'!Q$2) -> 278 | R11: =SUMIFS('Forecast Summary'!$F:$F,'Forecast Summary'!$A:$A, 'Analysis-School'!$A11,'Forecast Summary'!$C:$C, 'Analysis-School'!R$4,'Forecast Summary'!$D:$D, 'Analysis-School'!R$2) -> 293 | S11: =SUMIFS('Forecast Summary'!$F:$F,'Forecast Summary'!$A:$A, 'Analysis-School'!$A11,'Forecast Summary'!$C:$C, 'Analysis-School'!S$4,'Forecast Summary'!$D:$D, 'Analysis-School'!S$2) -> 230 | T11: =SUMIFS('Forecast Summary'!$F:$F,'Forecast Summary'!$A:$A, 'Analysis-School'!$A11,'Forecast Summary'!$C:$C, 'Analysis-School'!T$4,'Forecast Summary'!$D:$D, 'Analysis-School'!T$2) -> 246 | U11: =SUMIFS('Forecast Summary'!$F:$F,'Forecast Summary'!$A:$A, 'Analysis-School'!$A11,'Forecast Summary'!$C:$C, 'Analysis-School'!U$4,'Forecast Summary'!$D:$D, 'Analysis-School'!U$2) -> 210 | V11: 199.5 | W11: =SUMIFS('Forecast Summary'!$F:$F,'Forecast Summary'!$A:$A, 'Analysis-School'!$A11,'Forecast Summary'!$C:$C, 'Analysis-School'!W$4,'Forecast Summary'!$D:$D, 'Analysis-School'!W$2) -> 211 | X11: 189.525 | Y11: =SUMIFS('Forecast Summary'!$F:$F,'Forecast Summary'!$A:$A, 'Analysis-School'!$A11,'Forecast Summary'!$C:$C, 'Analysis-School'!Y$4,'Forecast Summary'!$D:$D, 'Analysis-School'!Y$2) -> 214 | Z11: =(Y11/U11-1) -> 0.019047619 | AB11: Brazosport College | AC11: =SUMIFS('Forecast Summary'!$J:$J,'Forecast Summary'!$A:$A, 'Analysis-School'!$A11,'Forecast Summary'!$C:$C, 'Analysis-School'!AC$4,'Forecast Summary'!$D:$D, 'Analysis-School'!AC$2) -> 0 | AD11: =SUMIFS('Forecast Summary'!$J:$J,'Forecast Summary'!$A:$A, 'Analysis-School'!$A11,'Forecast Summary'!$C:$C, 'Analysis-School'!AD$4,'Forecast Summary'!$D:$D, 'Analysis-School'!AD$2) -> 0 | AE11: =SUMIFS('Forecast Summary'!$J:$J,'Forecast Summary'!$A:$A, 'Analysis-School'!$A11,'Forecast Summary'!$C:$C, 'Analysis-School'!AE$4,'Forecast Summary'!$D:$D, 'Analysis-School'!AE$2) -> 0 | AF11: =SUMIFS('Forecast Summary'!$J:$J,'Forecast Summary'!$A:$A, 'Analysis-School'!$A11,'Forecast Summary'!$C:$C, 'Analysis-School'!AF$4,'Forecast Summary'!$D:$D, 'Analysis-School'!AF$2) -> 0 | AG11: =SUMIFS('Forecast Summary'!$J:$J,'Forecast Summary'!$A:$A, 'Analysis-School'!$A11,'Forecast Summary'!$C:$C, 'Analysis-School'!AG$4,'Forecast Summary'!$D:$D, 'Analysis-School'!AG$2) -> 0 | AH11: =SUMIFS('Forecast Summary'!$J:$J,'Forecast Summary'!$A:$A, 'Analysis-School'!$A11,'Forecast Summary'!$C:$C, 'Analysis-School'!AH$4,'Forecast Summary'!$D:$D, 'Analysis-School'!AH$2) -> 0 | AI11: 0 | AJ11: =SUMIFS('Forecast Summary'!$J:$J,'Forecast Summary'!$A:$A, 'Analysis-School'!$A11,'Forecast Summary'!$C:$C, 'Analysis-School'!AJ$4,'Forecast Summary'!$D:$D, 'Analysis-School'!AJ$2) -> 0 | AK11: 0 | AL11: =SUMIFS('Forecast Summary'!$J:$J,'Forecast Summary'!$A:$A, 'Analysis-School'!$A11,'Forecast Summary'!$C:$C, 'Analysis-School'!AL$4,'Forecast Summary'!$D:$D, 'Analysis-School'!AL$2) -> 0 | AM11: =IFERROR(AL11/AH11-1, "NA") -> NA
