Workbook
Name AAA: #REF!
Name AAA: #REF!
Name AAA: #REF!
Name AAA: #REF!
Name AllFormulas: 'Overall Summary FY 24-25'!$B$127
Name AllothersMin: Weights!#REF!
Name AllWeights: Weights!$A$2:$B$16
Name BIENNIALTOTAL: 'I&O Calc'!$T$350
Name ClassSize: [1]Weights!$D$16
Name collegecode: NewData!$C$6:$O$114
Name DentalEducMin: Weights!#REF!
Name FTSErecap: 'I&O Calc'!$A$291
Name GME: 'Overall Summary FY 24-25'!$B$103
Name IandO: 'Overall Summary FY 24-25'!$A$7
Name Infrastructure: 'Overall Summary FY 24-25'!$A$29
Name MDAnderson: 'I&O Calc'!$A$77
Name MedEducMin: Weights!#REF!
Name Mission: 'Overall Summary FY 24-25'!$A$89
Name P_AAA: #REF!
Name P_AAA: #REF!
Name P_AAA: #REF!
Name P_AAA: #REF!
Name remotecode: NewData!$E$6:$O$119
Name Research: 'Overall Summary FY 24-25'!$A$51
Name SHSU: 'I&O Calc'!$A$275
Name SumbyFormula: 'Overall Summary FY 24-25'!$B$148
Name TAMU: 'I&O Calc'!$A$88
Name Total: 'Overall Summary FY 24-25'!$B$69
Name TTU: 'I&O Calc'!$A$139
Name TTUElPaso: 'I&O Calc'!$A$180
Name Tyler: 'I&O Calc'!$A$82
Name UH: 'I&O Calc'!$A$253
Name UTDell: 'I&O Calc'!$A$198
Name UTHouston: 'I&O Calc'!$A$25
Name UTHSCSA: 'I&O Calc'!$A$53
Name UTMB: 'I&O Calc'!$A$16
Name UTRGV: 'I&O Calc'!$A$227
Name UTSA: 'I&O Calc'!$A$53
Name UTSW: 'I&O Calc'!$A$9
Name weights: Weights!$B$4:$D$13

Sheet Overall Summary FY 24-25
D1: Health-Related Institutions
D2: Institution Summary of All Formulas
D3: Basis of Legislative Appropriations
D4: =TODAY() -> 45163
G6: FY 22-23 Rate $9,622 | H6: FY 24-25 Rate $9,689
A7: Instruction & Operations | C7: Total FY 22-23 Appropriations | D7: Basis of Legislative Appropriations FY 24-25 | E7: Percent Biennial Change | F7: $ Change | G7: FY 22-23 Weighted FTSE | H7: FY 24-25 Weighted FTSE
A8: 1 | B8: UT Southwestern Medical Center | C8: 107678232 | D8: 111056738 | E8: =(D8-C8)/C8 -> 0.031375942 | F8: =D8-C8 -> 3378506 | G8: 5595.61 | H8: 5731.3587
A9: 2 | B9: UT Medical Branch at Galveston | C9: 147504012 | D9: 144349868 | E9: =(D9-C9)/C9 -> -0.021383445 | F9: =D9-C9 -> -3154144 | G9: 7665.2 | H9: 7449.5333
A10: 3 | B10: UT Health Science Center at Houston | C10: 238481826 | D10: 234111398 | E10: =(D10-C10)/C10 -> -0.018326042 | F10: =D10-C10 -> -4370428 | G10: 12032.98 | H10: 11766.457
A11: 4 | B11: UT Health Science Center at San Antonio | C11: 177614742 | D11: 183354708 | E11: =(D11-C11)/C11 -> 0.032316946 | F11: =D11-C11 -> 5739966 | G11: 9184.79 | H11: 9375.468
A12: 5 | B12: UT M.D. Anderson Cancer Center | C12: 7552044 | D12: 7553556 | E12: =(D12-C12)/C12 -> 0.0002002107 | F12: =D12-C12 -> 1512 | G12: 392.45 | H12: 389.82
A13: 6 | B13: UT Health Science Center at Tyler | C13: 4167770 | D13: 4695984 | E13: =(D13-C13)/C13 -> 0.1267378 | F13: =D13-C13 -> 528214 | G13: 111.35 | H13: 121.51781
A14: 7 | B14: Texas A&M University Health Science Center | C14: 183277542 | D14: 200009022 | E14: =(D14-C14)/C14 -> 0.091290399 | F14: =D14-C14 -> 16731480 | G14: 8638.44 | H14: 9485.992
A15: 8 | B15: UNT Health Science Center | C15: 135799752 | D15: 131948678 | E15: =(D15-C15)/C15 -> -0.028358476 | F15: =D15-C15 -> -3851074 | G15: 7056.98 | H15: 6809.5391
A16: 9 | B16: Texas Tech University Health Sciences Center | C16: 204217746 | D16: 202646542 | E16: =(D16-C16)/C16 -> -0.0076937682 | F16: =D16-C16 -> -1571204 | G16: 9942.13 | H16: 9606.1999
A17: 10 | B17: Texas Tech University Health Sciences Center at El Paso | C17: 47865628 | D17: 58167070 | E17: =(D17-C17)/C17 -> 0.21521585 | F17: =D17-C17 -> 10301442 | G17: 2487.39 | H17: 3001.856
A18: 11 | B18: UT Austin Dell Medical School | C18: 17743926 | D18: 17959314 | E18: =(D18-C18)/C18 -> 0.012138689 | F18: =D18-C18 -> 215388 | G18: 922.08 | H18: 926.835
A19: 12 | B19: UT Rio Grande Valley School of Medicine | C19: 20213440 | D19: 22287970 | E19: =(D19-C19)/C19 -> 0.10263122 | F19: =D19-C19 -> 2074530 | G19: 1050.41 | H19: 1150.226
A20: 13 | B20: UH College of Medicine | C20: 2743906 | D20: 11051886 | E20: =(D20-C20)/C20 -> 3.0277932 | F20: =D20-C20 -> 8307980 | G20: 142.59 | H20: 570.36
A21: 14 | B21: Sam Houston State Univ College of Osteopathic Medicine | C21: 0 | D21: 30392686 | E21: NA | F21: =D21-C21 -> 30392686 | G21: 0 | H21: 1568.49
B22: Total | C22: =SUM(C8:C21) -> 1294860566 | D22: =SUM(D8:D21) -> 1359585420 | E22: =(D22-C22)/C22 -> 0.049985964 | F22: =D22-C22 -> 64724854 | G22: =SUM(G8:G21) -> 65222.4 | H22: =SUM(H8:H21) -> 67953.653
B23: % Share of Total I&O, Inf., Res. | C23: =C22/C$69 -> 0.76275665 | D23: =D22/D$69 -> 0.7635684 | F23: =D23-C23 -> 0.00081175414
B24: Pricing / Other Information:
B25: I & O Rate Used | C25: 9621.6635 | D25: 9688.5175 | E25: =(D25-C25)/C25 -> 0.0069482763 | F25: =D25-C25 -> 66.853976
B26: No. of FTSE | C26: 29531.11 | D26: ='FTSE Summary'!I17 -> 29824.5 | E26: =(D26-C26)/C26 -> 0.0099349466 | F26: =D26-C26 -> 293.39
G28: FY 22-23 Rate $6.14 | H28: FY 24-25 Rate $6.14
A29: Infrastructure | C29: =$C$7 -> Total FY 22-23 Appropriations | D29: =D$7 -> Basis of Legislative Appropriations FY 24-25 | E29: =E$7 -> Percent Biennial Change | F29: =F$7 -> $ Change | G29: 2020 Predicted Square Feet | H29: 2022 Predicted Square Feet
A30: 1 | B30: UT Southwestern Med. Center | C30: 60226264 | D30: =Infrastructure!G9 -> 62037926 | E30: =(D30-C30)/C30 -> 0.030080929 | F30: =D30-C30 -> 1811662 | G30: 4905902 | H30: =Infrastructure!B9 -> 5053476
A31: 2 | B31: UTMB at Galveston | C31: 28146740 | D31: =Infrastructure!G10 -> 28365420 | E31: =(D31-C31)/C31 -> 0.0077692834 | F31: =D31-C31 -> 218680 | G31: 2292773 | H31: =Infrastructure!B10 -> 2310586
A32: 3 | B32: UTHSC at Houston | C32: 48044946 | D32: =Infrastructure!G11 -> 51209430 | E32: =(D32-C32)/C32 -> 0.065865076 | F32: =D32-C32 -> 3164484 | G32: 3913638 | H32: =Infrastructure!B11 -> 4171410
A33: 4 | B33: UTHSC at San Antonio | C33: 31077656 | D33: =Infrastructure!G12 -> 31213334 | E33: =(D33-C33)/C33 -> 0.0043657733 | F33: =D33-C33 -> 135678 | G33: 2531519 | H33: =Infrastructure!B12 -> 2542571
A34: 5 | B34: UT M.D. Anderson Cancer | C34: 68397324 | D34: =Infrastructure!G13 -> 66648078 | E34: =(D34-C34)/C34 -> -0.025574772 | F34: =D34-C34 -> -1749246 | G34: 5571499 | H34: =Infrastructure!B13 -> 5429009
A35: 6 | B35: UT Health Center at Tyler | C35: 3591562 | D35: =Infrastructure!G14 -> 4375270 | E35: =(D35-C35)/C35 -> 0.21820812 | F35: =D35-C35 -> 783708 | G35: 292561 | H35: =Infrastructure!B14 -> 356400
A36: 7 | B36: Texas A&M UHSC | C36: 23382498 | D36: =Infrastructure!G15 -> 25536140 | E36: =(D36-C36)/C36 -> 0.092104873 | F36: =D36-C36 -> 2153642 | G36: 1904688 | H36: =Infrastructure!B15 -> 2080119
A37: 8 | B37: Univ North TX HSC | C37: 8853548 | D37: =Infrastructure!G16 -> 8868378 | E37: =(D37-C37)/C37 -> 0.0016750347 | F37: =D37-C37 -> 14830 | G37: 721191 | H37: =Infrastructure!B16 -> 722399
A38: 9 | B38: Texas Tech Univ HSC | C38: 19381704 | D38: =Infrastructure!G17 -> 19407694 | E38: =(D38-C38)/C38 -> 0.0013409554 | F38: =D38-C38 -> 25990 | G38: 1578792 | H38: =Infrastructure!B17 -> 1580909
A39: 10 | B39: Texas Tech Univ HSC at El Paso | C39: 6119876 | D39: =Infrastructure!G18 -> 6492560 | E39: =(D39-C39)/C39 -> 0.060897312 | F39: =D39-C39 -> 372684 | G39: 498512 | H39: =Infrastructure!B18 -> 528870
A40: 11 | B40: UT Austin Medical School | C40: 4860366 | D40: =Infrastructure!G19 -> 5319168 | E40: =(D40-C40)/C40 -> 0.094396595 | F40: =D40-C40 -> 458802 | G40: 395915 | H40: =Infrastructure!B19 -> 433288
A41: 12 | B41: UT RGV Medical School | C41: 3211220 | D41: =Infrastructure!G20 -> 3468334 | E41: =(D41-C41)/C41 -> 0.080067389 | F41: =D41-C41 -> 257114 | G41: 261579 | H41: =Infrastructure!B20 -> 282523
A42: 13 | B42: UH Medical School | C42: 902160 | D42: =Infrastructure!G21 -> 1788778 | E42: =(D42-C42)/C42 -> 0.98277246 | F42: =D42-C42 -> 886618 | G42: 73488 | H42: =Infrastructure!B21 -> 145710
...

Sheet FTSE Summary
G1: Health-Related Institutions
G2: I & O Formula - Final Formula Run FY 2024-25
G3: =TODAY() -> 45163
A7: Recap of FTSE by Category | B7: Under Grad SCH | C7: Medical / Dental / Podiatry Headcount | D7: Dental Residents Headcount | E7: Masters SCH | H7: Total Adjusted Doctoral SCH | I7: Total Headcount / FTSE
A8: Allied Health | B8: ='I&O Calc'!F292 -> 1130.97 | C8: ='I&O Calc'!G292 -> 0 | D8: ='I&O Calc'!H292 -> 0 | E8: ='I&O Calc'!I292 -> 4393.46 | H8: ='I&O Calc'!L292 -> 1074.72 | I8: ='I&O Calc'!M292 -> 6599.14
A9: Biomedical Science | B9: ='I&O Calc'!F293 -> 10.43 | C9: ='I&O Calc'!G293 -> 0 | D9: ='I&O Calc'!H293 -> 0 | E9: ='I&O Calc'!I293 -> 1109.79 | H9: ='I&O Calc'!L293 -> 1845.11 | I9: ='I&O Calc'!M293 -> 2965.33
A10: Biomedical Informatics | B10: ='I&O Calc'!F294 -> 0 | C10: ='I&O Calc'!G294 -> 0 | D10: ='I&O Calc'!H294 -> 0 | E10: ='I&O Calc'!I294 -> 154.67 | H10: ='I&O Calc'!L294 -> 53.44 | I10: ='I&O Calc'!M294 -> 208.11
A11: Nursing | B11: ='I&O Calc'!F295 -> 4334.2 | C11: ='I&O Calc'!G295 -> 0 | D11: ='I&O Calc'!H295 -> 0 | E11: ='I&O Calc'!I295 -> 1063.08 | H11: ='I&O Calc'!L295 -> 901.5 | I11: ='I&O Calc'!M295 -> 6298.79
A12: Pharmacy | B12: ='I&O Calc'!F296 -> 0 | C12: ='I&O Calc'!G296 -> 0 | D12: ='I&O Calc'!H296 -> 0 | E12: ='I&O Calc'!I296 -> 2022.75 | H12: ='I&O Calc'!L296 -> 0 | I12: ='I&O Calc'!M296 -> 2022.77
A13: Public Health | B13: ='I&O Calc'!F297 -> 521.8 | C13: ='I&O Calc'!G297 -> 0 | D13: ='I&O Calc'!H297 -> 0 | E13: ='I&O Calc'!I297 -> 1581.54 | H13: ='I&O Calc'!L297 -> 561 | I13: ='I&O Calc'!M297 -> 2664.36
A14: Dental Education | B14: ='I&O Calc'!F298 -> 0 | C14: ='I&O Calc'!G298 -> 1355 | D14: ='I&O Calc'!H298 -> 293 | E14: ='I&O Calc'!I298 -> 0 | H14: ='I&O Calc'!L298 -> 0 | I14: ='I&O Calc'!M298 -> 1648
A15: Medical Education | B15: ='I&O Calc'!F299 -> 0 | C15: ='I&O Calc'!G299 -> 7391 | D15: ='I&O Calc'!H299 -> 0 | E15: ='I&O Calc'!I299 -> 0 | H15: ='I&O Calc'!L299 -> 0 | I15: ='I&O Calc'!M299 -> 7391
A16: Podiatry | B16: 0 | C16: ='I&O Calc'!G300 -> 27 | D16: 0 | E16: 0 | H16: 0 | I16: ='I&O Calc'!M300 -> 27
A17: Total by Category | B17: =SUM(B8:B16) -> 5997.4 | C17: =SUM(C8:C16) -> 8773 | D17: =SUM(D8:D16) -> 293 | E17: =SUM(E8:E16) -> 10325.29 | H17: =SUM(H8:H16) -> 4435.77 | I17: =SUM(I8:I16) -> 29824.5
I18: =IF(I17<>Q32,"Error","")
A20: ='I&O Calc'!$A$2 -> FTSE Count - State-Funded - Certified Summer 2022 and Fall 2022; Spring 2023 - No Errors | I20: =I17-Q32 -> 0
A22: HRI State Funded FTSE | B22: Weights | C22: The University of Texas Southwestern Medical Center | D22: The University of Texas Medical Branch at Galveston | E22: The University of Texas Health Science Center at Houston | F22: The University of Texas Health Science Center at San Antonio | G22: The University of Texas M.D. Anderson Cancer Center | H22: The University of Texas Health Center at Tyler | I22: Texas A&M University System Health Science Center | J22: University of North Texas Health Sciences Center at Fort Worth | K22: Texas Tech University System Health Sciences Center | L22: Texas Tech University System Health Sciences Center at El Paso | M22: The University of Texas Medical School | N22: The University of Texas Rio Grande Valley | O22: University of Houston Medical School | P22: Sam Houston State Univ College of Osteopathic Medicine | Q22: Total By Discipline | R22: Total Number of Programs
A23: Allied Health | B23: 1 | C23: ='I&O Calc'!$M$12 -> 525.43 | D23: ='I&O Calc'!$M$19 -> 1380.61 | E23: ='I&O Calc'!$M$34 -> 66.47 | F23: ='I&O Calc'!$M$69 -> 1514.32 | G23: ='I&O Calc'!$M$78 -> 389.82 | I23: ='I&O Calc'!$M$107 -> 65.83 | J23: ='I&O Calc'!$M$132 -> 579.04 | K23: ='I&O Calc'!$M$154 -> 2077.62 | Q23: =SUM(C23:O23) -> 6599.14 | R23: =COUNTA(C23:O23) -> 8 | S23: ='I&O Calc'!$M$292 -> 6599.14 | T23: =S23-Q23 -> 0
A24: Biomedical Science | B24: 1.018 | C24: ='I&O Calc'!$M$11 -> 804.43 | D24: ='I&O Calc'!$M$18 -> 262.47 | E24: ='I&O Calc'!$M$32 -> 552.23 | F24: ='I&O Calc'!$M$61 -> 320.93 | H24: ='I&O Calc'!$M$83 -> 18.29 | I24: ='I&O Calc'!$M$105 -> 177.55 | J24: ='I&O Calc'!$M$131 -> 623.7 | K24: ='I&O Calc'!$M$148 -> 171.6 | L24: ='I&O Calc'!$M$185 -> 34.13 | Q24: =SUM(C24:O24) -> 2965.33 | R24: =COUNTA(C24:O24) -> 9 | S24: ='I&O Calc'!$M$293 -> 2965.33 | T24: =S24-Q24 -> 0
A25: Biomedical Informatics | B25: 1.75 | E25: ='I&O Calc'!M37+'I&O Calc'!M36 -> 208.11 | Q25: =SUM(C25:O25) -> 208.11 | R25: =COUNTA(C25:O25) -> 1 | S25: ='I&O Calc'!$M$294 -> 208.11 | T25: =S25-Q25 -> 0
A26: Nursing | B26: 1.138 | D26: ='I&O Calc'!$M$20 -> 1084.86 | E26: ='I&O Calc'!$M$41 -> 1371.11 | F26: ='I&O Calc'!$M$71+'I&O Calc'!M72 -> 872.19 | I26: ='I&O Calc'!$M$112 -> 532.82 | K26: ='I&O Calc'!$M$165 -> 2114.16 | L26: ='I&O Calc'!$M$191 -> 323.65 | Q26: =SUM(C26:O26) -> 6298.79 | R26: =COUNTA(C26:O26) -> 6 | S26: ='I&O Calc'!$M$295 -> 6298.79 | T26: =S26-Q26 -> 0
A27: Pharmacy | B27: 1.67 | I27: ='I&O Calc'!$M$116 -> 711.3 | J27: ='I&O Calc'!$M$134 -> 520.42 | K27: ='I&O Calc'!$M$171 -> 791.05 | Q27: =SUM(C27:O27) -> 2022.77 | R27: =COUNTA(C27:O27) -> 3 | S27: ='I&O Calc'!$M$296 -> 2022.77 | T27: =S27-Q27 -> 0
A28: Public Health | B28: 1.721 | D28: ='I&O Calc'!$M$21 -> 71.53 | E28: ='I&O Calc'!$M$49 -> 1294.87 | H28: ='I&O Calc'!$M$84 -> 59.79 | I28: ='I&O Calc'!$M$126 -> 938.52 | J28: ='I&O Calc'!$M$133 -> 164.1 | K28: ='I&O Calc'!$M$176 -> 135.55 | Q28: =SUM(C28:O28) -> 2664.36 | R28: =COUNTA(C28:O28) -> 6 | S28: ='I&O Calc'!$M$297 -> 2664.36 | T28: =S28-Q28 -> 0
A29: Dental Education | B29: 4.601 | E29: ='I&O Calc'!$M$27 -> 514 | F29: ='I&O Calc'!$M$59 -> 520 | I29: ='I&O Calc'!$M$97 -> 513 | L29: ='I&O Calc'!M194 -> 101 | Q29: =SUM(C29:O29) -> 1648 | R29: =COUNTA(C29:O29) -> 4 | S29: ='I&O Calc'!$M$298 -> 1648 | T29: =S29-Q29 -> 0
A30: Medical Education | B30: 4.753 | C30: ='I&O Calc'!$M$10 -> 923 | D30: ='I&O Calc'!$M$17 -> 935 | E30: ='I&O Calc'!$M$26 -> 972 | F30: ='I&O Calc'!$M$54 -> 873 | I30: ='I&O Calc'!$M$95 -> 730 | J30: ='I&O Calc'!$M$135 -> 935 | K30: ='I&O Calc'!$M$143 -> 714 | L30: ='I&O Calc'!$M$182 -> 449 | M30: ='I&O Calc'!$M$200 -> 195 | N30: ='I&O Calc'!$M$229 -> 215 | O30: ='I&O Calc'!$M$255 -> 120 | P30: ='I&O Calc'!M277 -> 330 | Q30: =SUM(C30:P30) -> 7391 | R30: =COUNTA(C30:O30) -> 11 | S30: ='I&O Calc'!$M$299 -> 7391 | T30: =S30-Q30 -> 0
A31: Podiatry | B31: 4.753 | N31: ='I&O Calc'!$M$249 -> 27 | Q31: =SUM(C31:O31) -> 27 | R31: =COUNTA(C31:O31) -> 1
A32: Total FTSE | C32: =SUM(C23:C31) -> 2252.86 | D32: =SUM(D23:D31) -> 3734.47 | E32: =SUM(E23:E31) -> 4978.79 | F32: =SUM(F23:F31) -> 4100.44 | G32: =SUM(G23:G31) -> 389.82 | H32: =SUM(H23:H31) -> 78.08 | I32: =SUM(I23:I31) -> 3669.02 | J32: =SUM(J23:J31) -> 2822.26 | ... R32: =SUM(R23:R31) -> 49 | S32: ='I&O Calc'!$M$301 -> 29824.5 | T32: =S32-Q32 -> 0
R33: =IF(Q32<>'I&O Calc'!M280,"Error","")
A34: Per I & O Recap | C34: ='I&O Calc'!$M$309 -> 2252.86 | D34: ='I&O Calc'!$M$310 -> 3734.47 | E34: ='I&O Calc'!$M$311 -> 4978.79 | F34: ='I&O Calc'!$M$312 -> 4100.44 | G34: ='I&O Calc'!$M$313 -> 389.82 | H34: ='I&O Calc'!$M$314 -> 78.08 | I34: ='I&O Calc'!$M$315 -> 3669.02 | J34: ='I&O Calc'!$M$316 -> 2822.26 | K34: ='I&O Calc'!$M$317 -> 6003.98 | L34: ='I&O Calc'!$M$318 -> 907.78 | M34: ='I&O Calc'!$M$319 -> 195 | N34: ='I&O Calc'!$M$320 -> 242 | O34: ='I&O Calc'!$M$321 -> 120 | P34: ='I&O Calc'!$M$322 -> 330 | Q34: ='I&O Calc'!$M$323 -> 29824.5
C35: =C34-C32 -> 0 | D35: =D34-D32 -> 0 | E35: =E34-E32 -> 0 | F35: =F34-F32 -> 0 | G35: =G34-G32 -> 0 | H35: =H34-H32 -> 0 | I35: =I34-I32 -> 0 | J35: =J34-J32 -> 0 | ... Q35: =Q34-Q32 -> 0
A38: Weighted FTSE | B38: Weights | C38: The University of Texas Southwestern Medical Center | D38: The University of Texas Medical Branch at Galveston | E38: The University of Texas Health Science Center at Houston | F38: The University of Texas Health Science Center at San Antonio | G38: The University of Texas M.D. Anderson Cancer Center | H38: The University of Texas Health Center at Tyler | I38: Texas A&M University System Health Science Center | J38: University of North Texas Health Sciences Center at Fort Worth | K38: Texas Tech University System Health Sciences Center | L38: Texas Tech University System Health Sciences Center at El Paso | M38: The University of Texas Medical School | N38: The University of Texas Rio Grande Valley | O38: University of Houston Medical School | P38: Sam Houston State Univ College of Osteopathic Medicine | Q38: Total By Discipline
A39: Allied Health | B39: 1 | C39: =$B39*C23 -> 525.43 | D39: =$B39*D23 -> 1380.61 | E39: =$B39*E23 -> 66.47 | F39: =$B39*F23 -> 1514.32 | G39: =$B39*G23 -> 389.82 | I39: =$B39*I23 -> 65.83 | J39: =$B39*J23 -> 579.04 | K39: =$B39*K23 -> 2077.62 | Q39: =SUM(C39:P39) -> 6599.14
A40: Biomedical Science | B40: 1.018 | C40: =$B40*C24 -> 818.90974 | D40: =$B40*D24 -> 267.19446 | E40: =$B40*E24 -> 562.17014 | F40: =$B40*F24 -> 326.70674 | H40: =$B40*H24 -> 18.61922 | I40: =$B40*I24 -> 180.7459 | J40: =$B40*J24 -> 634.9266 | K40: =$B40*K24 -> 174.6888 | L40: =$B40*L24 -> 34.74434 | Q40: =SUM(C40:P40) -> 3018.7059
A41: Biomedical Informatics | B41: 1.75 | E41: =$B41*E25 -> 364.1925 | Q41: =SUM(C41:P41) -> 364.1925
A42: Nursing | B42: 1.138 | D42: =$B42*D26 -> 1234.5707 | E42: =$B42*E26 -> 1560.3232 | F42: =$B42*F26 -> 992.55222 | I42: =$B42*I26 -> 606.34916 | K42: =$B42*K26 -> 2405.9141 | L42: =$B42*L26 -> 368.3137 | Q42: =SUM(C42:P42) -> 7168.023
A43: Pharmacy | B43: 1.67 | I43: =$B43*I27 -> 1187.871 | J43: =$B43*J27 -> 869.1014 | K43: =$B43*K27 -> 1321.0535 | Q43: =SUM(C43:P43) -> 3378.0259
A44: Public Health | B44: 1.721 | D44: =$B44*D28 -> 123.10313 | E44: =$B44*E28 -> 2228.4713 | H44: =$B44*H28 -> 102.89859 | I44: =$B44*I28 -> 1615.1929 | J44: =$B44*J28 -> 282.4161 | K44: =$B44*K28 -> 233.28155 | Q44: =SUM(C44:P44) -> 4585.3636
A45: Dental Education | B45: 4.601 | E45: =$B45*E29 -> 2364.914 | F45: =$B45*F29 -> 2392.52 | I45: =$B45*I29 -> 2360.313 | L45: =$B45*L29 -> 464.701 | Q45: =SUM(C45:P45) -> 7582.448
A46: Medical Education | B46: 4.753 | C46: =$B46*C30 -> 4387.019 | D46: =$B46*D30 -> 4444.055 | E46: =$B46*E30 -> 4619.916 | F46: =$B46*F30 -> 4149.369 | I46: =$B46*I30 -> 3469.69 | J46: =$B46*J30 -> 4444.055 | K46: =$B46*K30 -> 3393.642 | L46: =$B46*L30 -> 2134.097 | M46: =$B46*M30 -> 926.835 | N46: =$B46*N30 -> 1021.895 | O46: =$B46*O30 -> 570.36 | P46: =$B46*P30 -> 1568.49 | Q46: =SUM(C46:P46) -> 35129.423
A47: Podiatry | B47: 4.753 | N47: =$B47*N31 -> 128.331 | Q47: =SUM(C47:P47) -> 128.331
...

Sheet I&O Calc
A1: Health Related Institutions - Instruction & Operations Formula - FY 2024-25 | M1: HRI Basis of Legislative Appropriations - FY 2024-25 | S1: 45135
A2: FTSE Count - State-Funded - Certified Summer 2022 and Fall 2022; Spring 2023 - No Errors
A4: Educational Level | F4: Under graduate | G4: Special Professional | I4: Graduate | L4: Graduate
A5: Unit of Measure | F5: SCH | G5: Headcount | H5: Headcount | I5: SCH | L5: SCH | O5: Annual Instruction and Operations Base Rate | Q5: (1-(FTSE/200)) x
A6: Semester Credit Hours to FTSE - Adj. Factor: | F6: 30 | I6: 24 | L6: 18 | O6: 9688.5175 | Q6: Rate x FTSE | T6: FY 2024-25
B7: Wt. Codes | C7: Summy Codes | F7: Under Grad SCH | G7: Medical/Dental/ Podiatry Headcount | H7: Dental Residents Headcount | I7: M SCH | J7: D SCH | K7: Doctoral SCH > Cap | L7: Total Adjusted Doctoral SCH | M7: Total Headcount / FTSE | N7: Weight Per Wt. Table | O7: Rate x FTSE / Headcount | Q7: Small Class Size Supplement | S7: ANNUAL FUNDING Total Detailed Formula Calculations | T7: FY 2024 | U7: FY 2025 | V7: BIENNIAL
D8: College Code | E8: Remote Code | F8: 5 | G8: 8 | H8: 9 | I8: 6 | J8: 7 | K8: 11
A9: UT SOUTHWESTERN MEDICAL CENTER #729
A10: Medical Education | B10: ME | C10: MET | D10: 003660 | G10: =VLOOKUP($D$10,collegecode,8,FALSE) -> 923 | L10: =J10-K10 -> 0 | M10: =ROUND(G10+H10+(F10/F$6)+(I10/I$6)+(L10/L$6),2) -> 923 | N10: =VLOOKUP($B10,weights,2,FALSE) -> 4.753 | O10: =ROUND(M10*N10*$O$6,2) -> 42503710 | P10: + | R10: = | S10: =Q10+O10 -> 42503710 | T10: =ROUND($S10,0) -> 42503710 | U10: =ROUND($S10,0) -> 42503710 | V10: =T10+U10 -> 85007420
A11: Biomedical Science | B11: BS | C11: BST | D11: 000101 | I11: =VLOOKUP($D$11,collegecode,6,FALSE) -> 4573 | J11: =VLOOKUP($D$11,collegecode,7,FALSE) -> 12356 | K11: =VLOOKUP($D$11,collegecode,11,FALSE) -> 1306 | L11: =J11-K11 -> 11050 | M11: =ROUND(G11+H11+(F11/F$6)+(I11/I$6)+(L11/L$6),2) -> 804.43 | N11: =VLOOKUP($B11,weights,2,FALSE) -> 1.018 | O11: =ROUND(M11*N11*$O$6,2) -> 7934021.3 | P11: + | R11: = | S11: =Q11+O11 -> 7934021.3 | T11: =ROUND($S11,0) -> 7934021 | U11: =ROUND($S11,0) -> 7934021 | V11: =T11+U11 -> 15868042
A12: Allied Health | B12: AH | C12: AHT | D12: 010019 | F12: =VLOOKUP($D$12,collegecode,5,FALSE) -> 0 | I12: =VLOOKUP($D$12,collegecode,6,FALSE) -> 12213 | J12: =VLOOKUP($D$12,collegecode,7,FALSE) -> 298 | K12: =VLOOKUP($D$12,collegecode,11,FALSE) -> 0 | L12: =J12-K12 -> 298 | M12: =ROUND(G12+H12+(F12/F$6)+(I12/I$6)+(L12/L$6),2) -> 525.43 | N12: =VLOOKUP($B12,weights,2,FALSE) -> 1 | O12: =ROUND(M12*N12*$O$6,2) -> 5090637.7 | P12: + | R12: = | S12: =Q12+O12 -> 5090637.7 | T12: =ROUND($S12,0) -> 5090638 | U12: =ROUND($S12,0) -> 5090638 | V12: =T12+U12 -> 10181276
A13: Total - UT SMC Dallas | B13: T | C13: UTSWM | F13: =SUM(F10:F12) -> 0 | G13: =SUM(G10:G12) -> 923 | H13: =SUM(H10:H12) -> 0 | I13: =SUM(I10:I12) -> 16786 | J13: =SUM(J10:J12) -> 12654 | K13: =SUM(K10:K12) -> 1306 | L13: =SUM(L10:L12) -> 11348 | M13: =SUM(M10:M12) -> 2252.86 | O13: =SUM(O10:O12) -> 55528369 | Q13: =SUM(Q10:Q12) -> 0 | S13: =SUM(S10:S12) -> 55528369 | T13: =SUM(T10:T12) -> 55528369 | U13: =SUM(U10:U12) -> 55528369 | V13: =T13+U13 -> 111056738
M14: =IF(M13=NewData!Q9,"","Error")
A16: UT MEDICAL BRANCH AT GALVESTON #723
A17: Medical Education - Galveston | B17: ME | C17: MET | D17: 004952 | G17: =VLOOKUP($D$17,collegecode,8,FALSE) -> 935 | L17: =J17-K17 -> 0 | M17: =ROUND(G17+H17+(F17/F$6)+(I17/I$6)+(L17/L$6),2) -> 935 | N17: =VLOOKUP($B17,weights,2,FALSE) -> 4.753 | O17: =ROUND(M17*N17*$O$6,2) -> 43056305 | P17: + | R17: = | S17: =Q17+O17 -> 43056305 | T17: =ROUND($S17,0) -> 43056305 | U17: =ROUND($S17,0) -> 43056305 | V17: =T17+U17 -> 86112610
A18: Biomedical Science | B18: BS | C18: BST | D18: 000401 | I18: =VLOOKUP($D$18,collegecode,6,FALSE) -> 1122 | J18: =VLOOKUP($D$18,collegecode,7,FALSE) -> 3900 | K18: =VLOOKUP($D$18,collegecode,11,FALSE) -> 17 | L18: =J18-K18 -> 3883 | M18: =ROUND(G18+H18+(F18/F$6)+(I18/I$6)+(L18/L$6),2) -> 262.47 | N18: =VLOOKUP($B18,weights,2,FALSE) -> 1.018 | O18: =ROUND(M18*N18*$O$6,2) -> 2588718.2 | P18: + | R18: = | S18: =Q18+O18 -> 2588718.2 | T18: =ROUND($S18,0) -> 2588718 | U18: =ROUND($S18,0) -> 2588718 | V18: =T18+U18 -> 5177436
A19: Allied Health | B19: AH | C19: AHT | D19: 000403 | F19: =VLOOKUP($D$19,collegecode,5,FALSE) -> 2068 | I19: =VLOOKUP($D$19,collegecode,6,FALSE) -> 22179 | J19: =VLOOKUP($D$19,collegecode,7,FALSE) -> 7001 | K19: =VLOOKUP($D$19,collegecode,11,FALSE) -> 25 | L19: =J19-K19 -> 6976 | M19: =ROUND(G19+H19+(F19/F$6)+(I19/I$6)+(L19/L$6),2) -> 1380.61 | N19: =VLOOKUP($B19,weights,2,FALSE) -> 1 | O19: =ROUND(M19*N19*$O$6,2) -> 13376064 | P19: + | R19: = | S19: =Q19+O19 -> 13376064 | T19: =ROUND($S19,0) -> 13376064 | U19: =ROUND($S19,0) -> 13376064 | V19: =T19+U19 -> 26752128
A20: Nursing | B20: NU | C20: NUT | D20: 000402 | F20: =VLOOKUP($D$20,collegecode,5,FALSE) -> 20140 | I20: =VLOOKUP($D$20,collegecode,6,FALSE) -> 7494 | J20: =VLOOKUP($D$20,collegecode,7,FALSE) -> 1823 | K20: =VLOOKUP($D$20,collegecode,11,FALSE) -> 0 | L20: =J20-K20 -> 1823 | M20: =ROUND(G20+H20+(F20/F$6)+(I20/I$6)+(L20/L$6),2) -> 1084.86 | N20: =VLOOKUP($B20,weights,2,FALSE) -> 1.138 | O20: =ROUND(M20*N20*$O$6,2) -> 11961160 | P20: + | R20: = | S20: =Q20+O20 -> 11961160 | T20: =ROUND($S20,0) -> 11961160 | U20: =ROUND($S20,0) -> 11961160 | V20: =T20+U20 -> 23922320
A21: Public Health - Galveston | B21: PH | C21: PHT | D21: 000425 | I21: =VLOOKUP($D$21,collegecode,6,FALSE) -> 1114 | J21: =VLOOKUP($D$21,collegecode,7,FALSE) -> 465 | K21: =VLOOKUP($D$21,collegecode,11,FALSE) -> 13 | L21: =J21-K21 -> 452 | M21: =ROUND(G21+H21+(F21/F$6)+(I21/I$6)+(L21/L$6),2) -> 71.53 | N21: =VLOOKUP($B21,weights,2,FALSE) -> 1.721 | O21: =ROUND(M21*N21*$O$6,2) -> 1192686.8 | P21: + | S21: =Q21+O21 -> 1192686.8 | T21: =ROUND($S21,0) -> 1192687 | U21: =ROUND($S21,0) -> 1192687 | V21: =T21+U21 -> 2385374
A22: Total - UT Galveston | B22: T | C22: UTG | F22: =SUM(F17:F21) -> 22208 | G22: =SUM(G17:G21) -> 935 | H22: =SUM(H17:H21) -> 0 | I22: =SUM(I17:I21) -> 31909 | J22: =SUM(J17:J21) -> 13189 | K22: =SUM(K17:K21) -> 55 | L22: =SUM(L17:L21) -> 13134 | M22: =SUM(M17:M21) -> 3734.47 | O22: =SUM(O17:O21) -> 72174933 | Q22: =SUM(Q17:Q21) -> 0 | S22: =SUM(S17:S21) -> 72174933 | T22: =SUM(T17:T21) -> 72174934 | U22: =SUM(U17:U21) -> 72174934 | V22: =T22+U22 -> 144349868
M23: =IF(M22=NewData!Q96,"","Error")
A25: UT HEALTH SCIENCE CENTER AT HOUSTON #744
A26: Medical Education | B26: ME | C26: MET | D26: 009348 | G26: =VLOOKUP($D$26,collegecode,8,FALSE) -> 972 | L26: =J26-K26 -> 0 | M26: =ROUND(G26+H26+(F26/F$6)+(I26/I$6)+(L26/L$6),2) -> 972 | N26: =VLOOKUP($B26,weights,2,FALSE) -> 4.753 | O26: =ROUND(M26*N26*$O$6,2) -> 44760137 | P26: + | R26: = | S26: =Q26+O26 -> 44760137 | T26: =ROUND($S26,0) -> 44760137 | U26: =ROUND($S26,0) -> 44760137 | V26: =T26+U26 -> 89520274
A27: Dental Education | B27: DE | C27: DET | D27: 004951 | G27: =VLOOKUP($D$27,collegecode,8,FALSE) -> 419 | H27: =VLOOKUP($D$27,collegecode,9,FALSE) -> 95 | L27: =J27-K27 -> 0 | M27: =ROUND(G27+H27+(F27/F$6)+(I27/I$6)+(L27/L$6),2) -> 514 | N27: =VLOOKUP($B27,weights,2,FALSE) -> 4.601 | O27: =ROUND(M27*N27*$O$6,2) -> 22912511 | P27: + | R27: = | S27: =Q27+O27 -> 22912511 | T27: =ROUND($S27,0) -> 22912511 | U27: =ROUND($S27,0) -> 22912511 | V27: =T27+U27 -> 45825022
A29: Biomedical Science - Houston | B29: BS | D29: 004954 | I29: =VLOOKUP($D$29,collegecode,6,FALSE) -> 1751 | J29: =VLOOKUP($D$29,collegecode,7,FALSE) -> 8232 | K29: =VLOOKUP($D$29,collegecode,11,FALSE) -> 286 | L29: =J29-K29 -> 7946 | M29: =ROUND(G29+H29+(F29/F$6)+(I29/I$6)+(L29/L$6),2) -> 514.4 | N29: =VLOOKUP($B29,weights,2,FALSE) -> 1.018 | O29: =ROUND(M29*N29*$O$6,2) -> 5073481.3 | P29: + | R29: = | S29: =Q29+O29 -> 5073481.3
B30: BS | D30: 109348 | I30: =VLOOKUP($D$30,collegecode,6,FALSE) -> 908 | J30: =VLOOKUP($D$30,collegecode,7,FALSE) -> 0 | K30: =VLOOKUP($D$30,collegecode,11,FALSE) -> 0 | L30: =J30-K30 -> 0 | M30: =ROUND(G30+H30+(F30/F$6)+(I30/I$6)+(L30/L$6),2) -> 37.83 | N30: =VLOOKUP($B30,weights,2,FALSE) -> 1.018 | O30: =ROUND(M30*N30*$O$6,2) -> 373113.92 | P30: + | R30: = | S30: =Q30+O30 -> 373113.92
A31: Biomedical Science - Smithville (879) | B31: BS | E31: 000879 | I31: 0 | J31: 0 | K31: 0 | L31: =J31-K31 -> 0 | M31: =ROUND(G31+H31+(F31/F$6)+(I31/I$6)+(L31/L$6),2) -> 0 | N31: =VLOOKUP($B31,weights,2,FALSE) -> 1.018 | O31: =ROUND(M31*N31*$O$6,2) -> 0 | P31: + | Q31: 0 | R31: = | S31: =Q31+O31 -> 0
A32: Biomedical Science Total | C32: BST | I32: =SUM(I29:I31) -> 2659 | J32: =SUM(J29:J31) -> 8232 | K32: =SUM(K29:K31) -> 286 | L32: =SUM(L29:L31) -> 7946 | M32: =SUM(M29:M31) -> 552.23 | O32: =SUM(O29:O31) -> 5446595.2 | Q32: =SUM(Q29:Q31) -> 0 | S32: =SUM(S29:S31) -> 5446595.2 | T32: =ROUND($S32,0) -> 5446595 | U32: =ROUND($S32,0) -> 5446595 | V32: =T32+U32 -> 10893190
A34: Allied Health (Dental Hyg) - Houston | B34: AH | C34: AHT | D34: 000410 | F34: =VLOOKUP($D$34,collegecode,5,FALSE) -> 1829 | I34: =VLOOKUP($D$34,collegecode,6,FALSE) -> 132 | L34: =J34-K34 -> 0 | M34: =ROUND(G34+H34+(F34/F$6)+(I34/I$6)+(L34/L$6),2) -> 66.47 | N34: =VLOOKUP($B34,weights,2,FALSE) -> 1 | O34: =ROUND(M34*N34*$O$6,2) -> 643995.76 | P34: + | R34: = | S34: =Q34+O34 -> 643995.76 | T34: =ROUND($S34,0) -> 643996 | U34: =ROUND($S34,0) -> 643996 | V34: =T34+U34 -> 1287992
A36: Biomedical Informatics - Houston | B36: BI | C36: HIT | D36: 000203 | I36: =VLOOKUP($D$36,collegecode,6,FALSE) -> 3712 | J36: =VLOOKUP($D$36,collegecode,7,FALSE) -> 987 | K36: =VLOOKUP($D$36,collegecode,11,FALSE) -> 25 | L36: =J36-K36 -> 962 | M36: =ROUND(G36+H36+(F36/F$6)+(I36/I$6)+(L36/L$6),2) -> 208.11 | N36: =VLOOKUP($B36,weights,2,FALSE) -> 1.75 | O36: =ROUND(M36*N36*$O$6,2) -> 3528485.4 | P36: + | R36: = | S36: =Q36+O36 -> 3528485.4 | T36: =ROUND($S36,0) -> 3528485 | U36: =ROUND($S36,0) -> 3528485 | V36: =T36+U36 -> 7056970
A37: Biomedical Informatics - Brownsville | B37: BI | C37: HIT | E37: 000872 | I37: =SUMIFS(NewData!H:H,NewData!$C:$C,'I&O Calc'!$D$36,NewData!$E:$E,'I&O Calc'!$E$37) -> 0 | J37: =SUMIFS(NewData!I:I,NewData!$C:$C,'I&O Calc'!$D$36,NewData!$E:$E,'I&O Calc'!$E$37) -> 0 | K37: =SUMIFS(NewData!M:M,NewData!$C:$C,'I&O Calc'!$D$36,NewData!$E:$E,'I&O Calc'!$E$37) -> 0 | L37: =J37-K37 -> 0 | M37: =ROUND(G37+H37+(F37/F$6)+(I37/I$6)+(L37/L$6),2) -> 0 | N37: =VLOOKUP($B37,weights,2,FALSE) -> 1.75 | O37: =ROUND(M37*N37*$O$6,2) -> 0 | R37: =
A39: Nursing - Houston | B39: NU | D39: 000201 | F39: =VLOOKUP($D$39,collegecode,5,FALSE) -> 19542 | I39: =VLOOKUP($D$39,collegecode,6,FALSE) -> 6505 | J39: =VLOOKUP($D$39,collegecode,7,FALSE) -> 8076 | K39: =VLOOKUP($D$39,collegecode,11,FALSE) -> 0 | L39: =J39-K39 -> 8076 | M39: =ROUND(G39+H39+(F39/F$6)+(I39/I$6)+(L39/L$6),2) -> 1371.11 | N39: =VLOOKUP($B39,weights,2,FALSE) -> 1.138 | O39: =ROUND(M39*N39*$O$6,2) -> 15117218 | P39: + | R39: = | S39: =Q39+O39 -> 15117218
A40: Nursing - El Paso (876) | B40: NU | E40: 000876 | I40: =SUMIFS(NewData!H:H,NewData!$C:$C,'I&O Calc'!#REF!,NewData!$E:$E,'I&O Calc'!$E$40) -> 0 | J40: =SUMIFS(NewData!I:I,NewData!$C:$C,'I&O Calc'!#REF!,NewData!$E:$E,'I&O Calc'!$E$40) -> 0 | K40: =SUMIFS(NewData!M:M,NewData!$C:$C,'I&O Calc'!#REF!,NewData!$E:$E,'I&O Calc'!$E$40) -> 0 | L40: =J40-K40 -> 0 | M40: =ROUND(G40+H40+(F40/F$6)+(I40/I$6)+(L40/L$6),2) -> 0 | N40: =VLOOKUP($B40,weights,2,FALSE) -> 1.138 | O40: =ROUND(M40*N40*$O$6,2) -> 0 | P40: + | Q40: 0 | R40: = | S40: =Q40+O40 -> 0 | T40: =ROUND($S40,0) -> 0 | U40: =ROUND($S40,0) -> 0
A41: Nursing Total | C41: NUT | F41: =SUM(F39:F40) -> 19542 | I41: =SUM(I39:I40) -> 6505 | J41: =SUM(J39:J40) -> 8076 | K41: =SUM(K39:K40) -> 0 | L41: =SUM(L39:L40) -> 8076 | M41: =SUM(M39:M40) -> 1371.11 | O41: =SUM(O39:O40) -> 15117218 | Q41: =SUM(Q39:Q40) -> 0 | S41: =SUM(S39:S40) -> 15117218 | T41: =ROUND($S41,0) -> 15117218 | U41: =ROUND($S41,0) -> 15117218 | V41: =T41+U41 -> 30234436
A43: Public Health - Houston | B43: PH | D43: 006956 | I43: =VLOOKUP($D$43,collegecode,6,FALSE) -> 11257 | J43: =VLOOKUP($D$43,collegecode,7,FALSE) -> 6677 | K43: =VLOOKUP($D$43,collegecode,11,FALSE) -> 3 | L43: =J43-K43 -> 6674 | M43: =ROUND(G43+H43+(F43/F$6)+(I43/I$6)+(L43/L$6),2) -> 839.82 | N43: =VLOOKUP($B43,weights,2,FALSE) -> 1.721 | O43: =ROUND(M43*N43*$O$6,2) -> 14003107 | P43: + | R43: = | S43: =Q43+O43 -> 14003107
A44: Public Health - Austin (871) | B44: PH | E44: 000871 | I44: =SUMIFS(NewData!H:H,NewData!$C:$C,'I&O Calc'!$D$43,NewData!$E:$E,'I&O Calc'!$E$44) -> 3921 | J44: =SUMIFS(NewData!I:I,NewData!$C:$C,'I&O Calc'!$D$43,NewData!$E:$E,'I&O Calc'!$E$44) -> 648 | K44: =SUMIFS(NewData!M:M,NewData!$C:$C,'I&O Calc'!$D$43,NewData!$E:$E,'I&O Calc'!$E$44) -> 0 | L44: =J44-K44 -> 648 | M44: =ROUND(G44+H44+(F44/F$6)+(I44/I$6)+(L44/L$6),2) -> 199.38 | N44: =VLOOKUP($B44,weights,2,FALSE) -> 1.721 | O44: =ROUND(M44*N44*$O$6,2) -> 3324449.9 | P44: + | Q44: 12362 | R44: = | S44: =Q44+O44 -> 3336811.9
A45: Public Health - Brownsville (872) | B45: PH | E45: 000872 | I45: =SUMIFS(NewData!H:H,NewData!$C:$C,'I&O Calc'!$D$43,NewData!$E:$E,'I&O Calc'!$E$45) -> 383 | J45: =SUMIFS(NewData!I:I,NewData!$C:$C,'I&O Calc'!$D$43,NewData!$E:$E,'I&O Calc'!$E$45) -> 249 | K45: =SUMIFS(NewData!M:M,NewData!$C:$C,'I&O Calc'!$D$43,NewData!$E:$E,'I&O Calc'!$E$45) -> 0 | L45: =J45-K45 -> 249 | M45: =ROUND(G45+H45+(F45/F$6)+(I45/I$6)+(L45/L$6),2) -> 29.79 | N45: =VLOOKUP($B45,weights,2,FALSE) -> 1.721 | O45: =ROUND(M45*N45*$O$6,2) -> 496716.63 | P45: + | Q45: 507056 | R45: = | S45: =Q45+O45 -> 1003772.6
A46: Public Health - Dallas (874) | B46: PH | E46: 000874 | I46: =SUMIFS(NewData!H:H,NewData!$C:$C,'I&O Calc'!$D$43,NewData!$E:$E,'I&O Calc'!$E$46) -> 1958 | J46: =SUMIFS(NewData!I:I,NewData!$C:$C,'I&O Calc'!$D$43,NewData!$E:$E,'I&O Calc'!$E$46) -> 357 | K46: =SUMIFS(NewData!M:M,NewData!$C:$C,'I&O Calc'!$D$43,NewData!$E:$E,'I&O Calc'!$E$46) -> 0 | L46: =J46-K46 -> 357 | M46: =ROUND(G46+H46+(F46/F$6)+(I46/I$6)+(L46/L$6),2) -> 101.42 | N46: =VLOOKUP($B46,weights,2,FALSE) -> 1.721 | O46: =ROUND(M46*N46*$O$6,2) -> 1691070.9 | P46: + | Q46: 999798 | R46: = | S46: =Q46+O46 -> 2690868.9
A47: Public Health - El Paso (876) | B47: PH | E47: 000876 | I47: =SUMIFS(NewData!H:H,NewData!$C:$C,'I&O Calc'!$D$43,NewData!$E:$E,'I&O Calc'!$E$47) -> 578 | J47: =SUMIFS(NewData!I:I,NewData!$C:$C,'I&O Calc'!$D$43,NewData!$E:$E,'I&O Calc'!$E$47) -> 150 | K47: =SUMIFS(NewData!M:M,NewData!$C:$C,'I&O Calc'!$D$43,NewData!$E:$E,'I&O Calc'!$E$47) -> 0 | L47: =J47-K47 -> 150 | M47: =ROUND(G47+H47+(F47/F$6)+(I47/I$6)+(L47/L$6),2) -> 32.42 | N47: =VLOOKUP($B47,weights,2,FALSE) -> 1.721 | O47: =ROUND(M47*N47*$O$6,2) -> 540569.09 | P47: + | Q47: =ROUND(IF(M47<ClassSize,(1-(M47/200))*(VLOOKUP($B47,weights,3,FALSE))*M47,0),0) -> 543294 | R47: = | S47: =Q47+O47 -> 1083863.1
A48: Public Health - San Antonio (878) | B48: PH | E48: 000878 | I48: =SUMIFS(NewData!H:H,NewData!$C:$C,'I&O Calc'!$D$43,NewData!$E:$E,'I&O Calc'!$E$48) -> 1885 | J48: =SUMIFS(NewData!I:I,NewData!$C:$C,'I&O Calc'!$D$43,NewData!$E:$E,'I&O Calc'!$E$48) -> 243 | K48: =SUMIFS(NewData!M:M,NewData!$C:$C,'I&O Calc'!$D$43,NewData!$E:$E,'I&O Calc'!$E$48) -> 0 | L48: =J48-K48 -> 243 | M48: =ROUND(G48+H48+(F48/F$6)+(I48/I$6)+(L48/L$6),2) -> 92.04 | N48: =VLOOKUP($B48,weights,2,FALSE) -> 1.721 | O48: =ROUND(M48*N48*$O$6,2) -> 1534669.3 | P48: + | Q48: 993664 | R48: = | S48: =Q48+O48 -> 2528333.3
...

Sheet NewData
A1: HRI Funding -- BY 2023, run at 27 Feb 2023 at 16:30
A2: SCH from Summer 2022, Fall 2022, Spring 2023 -- Classes A-D and M with flex-entry = 2 are included | G2: G | H2: H | I2: I | J2: J | K2: K | L2: L | M2: M
A3: P Count from Fall 2022 -- M Count ("Dent") is highest count among the three terms | J3: HEADCOUNT | M3: doctoral sch greater than the limit
G4: undergrad sch | H4: masters sch | I4: doctoral sch | J4: medical/dental professional student | K4: dental student | L4: podiatry student | M4: Doc SCH | Q4: TOTAL FTE per HRI-FINAL RUN | R4: TOTAL FTE per HRI-INITIAL RUN | S4: FINAL - INITIAL | T4: Percent change
A5: Inst | C5: College | E5: Remote | G5: Ug SCH | H5: M SCH | I5: D SCH | J5: P-Cnt | K5: Dent | L5: Pod | M5: GT Limit | N5: Total | O5: FTE | P5: I & O Funding Category
A7: 000030 | B7: UT SOUTHWESTERN MED CTR DALLAS | C7: 000101 | D7: UT SW GRAD SCH BIOMED SCI | G7: 0 | H7: 4573 | I7: 12356 | J7: 0 | K7: 0 | L7: 0 | M7: 1306 | N7: 15623 | O7: 804.43 | P7: Biomedical Science - Dallas
A8: 000030 | B8: UT SOUTHWESTERN MED CTR DALLAS | C8: 003660 | D8: UT SOUTHWESTERN MEDICAL SCHOOL | G8: 0 | H8: 0 | I8: 0 | J8: 923 | K8: 0 | L8: 0 | M8: 0 | N8: 0 | O8: 923 | P8: Medical Education - Dallas
A9: 000030 | B9: UT SOUTHWESTERN MED CTR DALLAS | C9: 010019 | D9: UT SW SCH OF HEALTH PROF | G9: 0 | H9: 12213 | I9: 298 | J9: 0 | K9: 0 | L9: 0 | M9: 0 | N9: 12511 | O9: 525.43 | P9: Allied Health - Dallas | Q9: =SUM(O7:O9) -> 2252.86 | R9: 2248.36 | S9: =Q9-R9 -> 4.5 | T9: =S9/R9 -> 0.0020014588
A10: 000040 | B10: UT HEALTH SCIENCE CTR/SA | C10: 000301 | D10: UT GRAD SCH BIOMED SCI/SA | G10: 0 | H10: 1517 | I10: 4639 | J10: 0 | K10: 0 | L10: 0 | M10: 0 | N10: 6156 | O10: 320.93 | P10: Biomedical Science - San Antonio
A11: 000040 | B11: UT HEALTH SCIENCE CTR/SA | C11: 000302 | D11: UT SCHOOL OF NURSING/SA | G11: 19064 | H11: 48 | I11: 4225 | J11: 0 | K11: 0 | L11: 0 | M11: 0 | N11: 23337 | O11: 872.19 | P11: Nursing - San Antonio
A12: 000040 | B12: UT HEALTH SCIENCE CTR/SA | C12: 000303 | D12: UT SCH OF HEALTH PROF/SA | G12: 7674 | H12: 19876 | I12: 5894 | J12: 0 | K12: 0 | L12: 0 | M12: 0 | N12: 33444 | O12: 1411.41 | P12: Allied Health - San Antonio
A13: 000040 | B13: UT HEALTH SCIENCE CTR/SA | C13: 000303 | D13: UT SCH OF HEALTH PROF/SA | E13: 000884 | F13: UT HSC SA-LAREDO RESEARCH DIV | G13: 49 | H13: 1012 | I13: 21 | J13: 0 | K13: 0 | L13: 0 | M13: 0 | N13: 1082 | O13: 44.97 | P13: Allied Health - Laredo (884)
A14: 000040 | B14: UT HEALTH SCIENCE CTR/SA | C14: 000304 | D14: UT DENTAL SCHOOL/ACADEMICS SA | G14: 0 | H14: 0 | I14: 0 | J14: 0 | K14: 0 | L14: 0 | M14: 0 | N14: 0 | O14: 96 | P14: Dental Education - San Antonio
A15: 000040 | B15: UT HEALTH SCIENCE CTR/SA | C15: 000304 | D15: UT DENTAL SCHOOL/ACADEMICS SA | E15: 000884 | F15: UT HSC SA-LAREDO RESEARCH DIV | G15: 0 | H15: 0 | I15: 0 | J15: 0 | K15: 4 | L15: 0 | M15: 0 | N15: 0 | O15: 4 | P15: Dental Education - Laredo (884)
A16: 000040 | B16: UT HEALTH SCIENCE CTR/SA | C16: 000305 | D16: UT MEDICAL SCHOOL/ACADEMICS SA | G16: 0 | H16: 307 | I16: 0 | J16: 0 | K16: 0 | L16: 0 | M16: 0 | N16: 307 | O16: 12.79 | P16: Allied Health - San Antonio
A17: 000040 | B17: UT HEALTH SCIENCE CTR/SA | C17: 000305 | D17: UT MEDICAL SCHOOL/ACADEMICS SA | E17: 000312 | F17: UTHSC TX HEAR INST-HOUSTON | G17: 0 | H17: 34 | I17: 0 | J17: 0 | K17: 0 | L17: 0 | M17: 0 | N17: 34 | O17: 1.42 | P17: Allied Health - Houston (312)
A18: 000040 | B18: UT HEALTH SCIENCE CTR/SA | C18: 000311 | D18: UT HSC SA - CL DENTAL HYGIENE | G18: 1312 | H18: 0 | I18: 0 | J18: 0 | K18: 0 | L18: 0 | M18: 0 | N18: 1312 | O18: 43.73 | P18: Allied Health (Dental Hygiene) - San Antonio
A19: 000040 | B19: UT HEALTH SCIENCE CTR/SA | C19: 003659 | D19: UT MEDICAL SCHOOL-SAN ANTONIO | G19: 0 | H19: 0 | I19: 0 | J19: 873 | K19: 0 | L19: 0 | M19: 0 | N19: 0 | O19: 873 | P19: Medical Education - San Antonio
A20: 000040 | B20: UT HEALTH SCIENCE CTR/SA | C20: 009799 | D20: UT DENTAL SCHOOL SAN ANTONIO | G20: 0 | H20: 0 | I20: 0 | J20: 420 | K20: 96 | L20: 0 | M20: 0 | N20: 0 | O20: 420 | P20: Dental Education - San Antonio | Q20: =SUM(O10:O20) -> 4100.44 | R20: 4055.16 | S20: =Q20-R20 -> 45.28 | T20: =S20/R20 -> 0.011166021
A21: 000041 | B21: BAYLOR COLLEGE OF MEDICINE | C21: 000407 | D21: BAYLOR COLL MED-GRAD BIOMED SC | G21: 0 | H21: 0 | I21: 0 | J21: 0 | K21: 0 | L21: 0 | M21: 0 | N21: 0 | O21: 0 | P21: Biomedical Science - Houston
A22: 000041 | B22: BAYLOR COLLEGE OF MEDICINE | C22: 004949 | D22: BAYLOR COLL MED-MEDICAL SCHOOL | G22: 0 | H22: 0 | I22: 0 | J22: 733 | K22: 0 | L22: 0 | M22: 0 | N22: 0 | O22: 733 | P22: Medical Education - Houston
A23: 000041 | B23: BAYLOR COLLEGE OF MEDICINE | C23: 104949 | D23: BAYLOR COLL OF MEDICINE/ACAD | G23: 0 | H23: 0 | I23: 0 | J23: 0 | K23: 0 | L23: 0 | M23: 0 | N23: 0 | O23: 0 | P23: Biomedical Science - Houston
A24: 000089 | B24: TAMU SYSTEM HLTH SCI CTR | C24: 000079 | D24: TAMUS HSC-COL OF NURSING | G24: 8286 | H24: 1655 | I24: 205 | J24: 0 | K24: 0 | L24: 0 | M24: 0 | N24: 10146 | O24: 356.55 | P24: Nursing - College Station
A25: 000089 | B25: TAMU SYSTEM HLTH SCI CTR | C25: 000079 | D25: TAMUS HSC-COL OF NURSING | E25: 000853 | F25: TAMUS HSC-ROUND ROCK CAMPUS | G25: 5288 | H25: 0 | I25: 0 | J25: 0 | K25: 0 | L25: 0 | M25: 0 | N25: 5288 | O25: 176.27 | P25: Nursing - Round Rock (853)
A26: 000089 | B26: TAMU SYSTEM HLTH SCI CTR | C26: 000080 | D26: TAMUS HSC-COLLEGE OF MEDICINE | G26: 0 | H26: 0 | I26: 0 | J26: 271 | K26: 0 | L26: 0 | M26: 0 | N26: 0 | O26: 271 | P26: Medical Education - College Station
A27: 000089 | B27: TAMU SYSTEM HLTH SCI CTR | C27: 000080 | D27: TAMUS HSC-COLLEGE OF MEDICINE | E27: 000850 | F27: TAMUS HSC-DALLAS CAMPUS | G27: 0 | H27: 0 | I27: 0 | J27: 135 | K27: 0 | L27: 0 | M27: 0 | N27: 0 | O27: 135 | P27: Medical Education - Dallas (850)
A28: 000089 | B28: TAMU SYSTEM HLTH SCI CTR | C28: 000080 | D28: TAMUS HSC-COLLEGE OF MEDICINE | E28: 000852 | F28: TAMUS HSC-HOUSTON DOWNTOWN | G28: 0 | H28: 0 | I28: 0 | J28: 178 | K28: 0 | L28: 0 | M28: 0 | N28: 0 | O28: 178 | P28: Medical Education - Houston Downtown (852)
A29: 000089 | B29: TAMU SYSTEM HLTH SCI CTR | C29: 000080 | D29: TAMUS HSC-COLLEGE OF MEDICINE | E29: 000853 | F29: TAMUS HSC-ROUND ROCK CAMPUS | G29: 0 | H29: 0 | I29: 0 | J29: 60 | K29: 0 | L29: 0 | M29: 0 | N29: 0 | O29: 60 | P29: Medical Education - Round Rock (853)
A30: 000089 | B30: TAMU SYSTEM HLTH SCI CTR | C30: 000080 | D30: TAMUS HSC-COLLEGE OF MEDICINE | E30: 000854 | F30: TAMUS HSC-TEMPLE CAMPUS | G30: 0 | H30: 0 | I30: 0 | J30: 66 | K30: 0 | L30: 0 | M30: 0 | N30: 0 | O30: 66 | P30: Medical Education - Temple (854)
A31: 000089 | B31: TAMU SYSTEM HLTH SCI CTR | C31: 000080 | D31: TAMUS HSC-COLLEGE OF MEDICINE | E31: 000855 | F31: TAMUS HSC-HOUSTON NORTH | G31: 0 | H31: 0 | I31: 0 | J31: 20 | K31: 0 | L31: 0 | M31: 0 | N31: 0 | O31: 20 | P31: Medical Education - Houston North (855)
A32: 000089 | B32: TAMU SYSTEM HLTH SCI CTR | C32: 000087 | D32: TAMUS HSC-SCH RURAL PUBLIC HLT | G32: 15042 | H32: 8232 | I32: 1103 | J32: 0 | K32: 0 | L32: 0 | M32: 1 | N32: 24376 | O32: 905.62 | P32: Public Health - College Station
A33: 000089 | B33: TAMU SYSTEM HLTH SCI CTR | C33: 000087 | D33: TAMUS HSC-SCH RURAL PUBLIC HLT | E33: 000852 | F33: TAMUS HSC-HOUSTON DOWNTOWN | G33: 0 | H33: 299 | I33: 0 | J33: 0 | K33: 0 | L33: 0 | M33: 0 | N33: 299 | O33: 12.46 | P33: Medical Education - Houston Downtown (852)
A34: 000089 | B34: TAMU SYSTEM HLTH SCI CTR | C34: 000087 | D34: TAMUS HSC-SCH RURAL PUBLIC HLT | E34: 000857 | F34: TAMUS HSC-MCALLEN CAMPUS | G34: 612 | H34: 1 | I34: 0 | J34: 0 | K34: 0 | L34: 0 | M34: 0 | N34: 613 | O34: 20.44 | P34: Public Health - McAllen (857)
A35: 000089 | B35: TAMU SYSTEM HLTH SCI CTR | C35: 000088 | D35: TAMUS HSC-COL OF PHARMACY | G35: 0 | H35: 6969 | I35: 0 | J35: 0 | K35: 0 | L35: 0 | M35: 0 | N35: 6969 | O35: 290.38 | P35: Pharmacy - College Station
A36: 000089 | B36: TAMU SYSTEM HLTH SCI CTR | C36: 000088 | D36: TAMUS HSC-COL OF PHARMACY | E36: 000856 | F36: TAMUS HSC-KINGSVILLE CAMPUS | G36: 0 | H36: 10102 | I36: 0 | J36: 0 | K36: 0 | L36: 0 | M36: 0 | N36: 10102 | O36: 420.92 | P36: Pharmacy - Kingsville (856)
A37: 000089 | B37: TAMU SYSTEM HLTH SCI CTR | C37: 000180 | D37: TAMUS HSC-COL OF MEDICINE-ACAD | G37: 169 | H37: 1355 | I37: 795 | J37: 0 | K37: 0 | L37: 0 | M37: 24 | N37: 2295 | O37: 104.93 | P37: Medical Education - College Station
A38: 000089 | B38: TAMU SYSTEM HLTH SCI CTR | C38: 000180 | D38: TAMUS HSC-COL OF MEDICINE-ACAD | E38: 000850 | F38: TAMUS HSC-DALLAS CAMPUS | G38: 0 | H38: 37 | I38: 26 | J38: 0 | K38: 0 | L38: 0 | M38: 0 | N38: 63 | O38: 2.99
A39: 000089 | B39: TAMU SYSTEM HLTH SCI CTR | C39: 000180 | D39: TAMUS HSC-COL OF MEDICINE-ACAD | E39: 000852 | F39: TAMUS HSC-HOUSTON DOWNTOWN | G39: 0 | H39: 274 | I39: 692 | J39: 0 | K39: 0 | L39: 0 | M39: 21 | N39: 945 | O39: 48.69 | P39: Medical Education - Houston Downtown (852)
A40: 000089 | B40: TAMU SYSTEM HLTH SCI CTR | C40: 000180 | D40: TAMUS HSC-COL OF MEDICINE-ACAD | E40: 000854 | F40: TAMUS HSC-TEMPLE CAMPUS | G40: 0 | H40: 0 | I40: 36 | J40: 0 | K40: 0 | L40: 0 | M40: 0 | N40: 36 | O40: 2 | P40: Medical Education - Temple (854)
A41: 000089 | B41: TAMU SYSTEM HLTH SCI CTR | C41: 000405 | D41: TAMUS HSC-BAYLOR CL DN HYGIENE | E41: 000850 | F41: TAMUS HSC-DALLAS CAMPUS | G41: 1975 | H41: 0 | I41: 0 | J41: 0 | K41: 0 | L41: 0 | M41: 0 | N41: 1975 | O41: 65.83 | P41: Allied Health (Dental) - Dallas (850)
...

Sheet Weights
C2: Final Formula Run FY 24-25 | E2: ='I&O Calc'!O6 -> 9688.5175 | G2: Appropriations Act FY 22-23 | I2: 9621.6635
A3: Category | B3: Wt. Code | C3: Weight | D3: Small Class Size Supp. - Rate | E3: Cost of One Student | G3: Weight | H3: Small Class Size Supp. - Rate | I3: Cost of One Student
A4: Allied Health | B4: AH | C4: 1 | D4: 20000 | E4: =C4*$E$2 -> 9688.5175 | G4: 1 | H4: 20000 | I4: =G4*$I$2 -> 9621.6635
A5: Biomedical Science | B5: BS | C5: 1.018 | D5: 20000 | E5: =C5*$E$2 -> 9862.9108 | G5: 1.018 | H5: 20000 | I5: =G5*$I$2 -> 9794.8534
A6: Biomedical Informatics | B6: BI | C6: 1.75 | D6: 20000 | E6: =C6*$E$2 -> 16954.906 | G6: 1.75 | H6: 20000 | I6: =G6*$I$2 -> 16837.911
A7: Nursing - Undergraduate | B7: NU | C7: 1.138 | D7: 20000 | E7: =C7*$E$2 -> 11025.533 | G7: 1.138 | H7: 20000 | I7: =G7*$I$2 -> 10949.453
A8: Nursing - Graduate | B8: NG | C8: 1.138 | D8: 20000 | E8: =C8*$E$2 -> 11025.533 | G8: 1.138 | H8: 20000 | I8: =G8*$I$2 -> 10949.453
A9: Pharmacy | B9: P | C9: 1.67 | D9: 20000 | E9: =C9*$E$2 -> 16179.824 | G9: 1.67 | H9: 20000 | I9: =G9*$I$2 -> 16068.178
A10: Public Health | B10: PH | C10: 1.721 | D10: 20000 | E10: =C10*$E$2 -> 16673.939 | G10: 1.721 | H10: 20000 | I10: =G10*$I$2 -> 16558.883
A11: Dental Education | B11: DE | C11: 4.601 | D11: 30000 | E11: =C11*$E$2 -> 44576.869 | G11: 4.601 | H11: 30000 | I11: =G11*$I$2 -> 44269.274
A12: Medical Education | B12: ME | C12: 4.753 | D12: 30000 | E12: =C12*$E$2 -> 46049.524 | G12: 4.753 | H12: 30000 | I12: =G12*$I$2 -> 45731.767
A13: Podiatry | B13: PO | C13: 4.753 | D13: 30000 | E13: =C13*$E$2 -> 46049.524
A15: Class size | D15: 200 | H15: 200

Sheet Infrastructure
D1: Health-Related Institutions
D2: Infrastructure Formula
D3: ='Overall Summary FY 24-25'!D3 -> Basis of Legislative Appropriations
D4: ='Overall Summary FY 24-25'!D4 -> 45163
B6: Total 2022
A7: Health-Related Institution | B7: SPM Predicted | D7: Formula | E7: Total | F7: Total | G7: FY 2024-25
B8: Sq. Ft. * | C8: Rate | D8: Calculation | E8: FY 2024 | F8: FY 2025 | G8: Biennium
A9: UT Southwestern Medical Center | B9: 5053476 | C9: =$B$26 -> 6.138144 | D9: =ROUND($B9*$C9,0) -> 31018963 | E9: =D9 -> 31018963 | F9: =D9 -> 31018963 | G9: =F9+E9 -> 62037926
A10: UT Medical Branch at Galveston | B10: 2310586 | C10: =$B$26 -> 6.138144 | D10: =ROUND($B10*$C10,0) -> 14182710 | E10: =D10 -> 14182710 | F10: =D10 -> 14182710 | G10: =F10+E10 -> 28365420
A11: UT Health Science Center at Houston | B11: 4171410 | C11: =$B$26 -> 6.138144 | D11: =ROUND($B11*$C11,0) -> 25604715 | E11: =D11 -> 25604715 | F11: =D11 -> 25604715 | G11: =F11+E11 -> 51209430
A12: UT Health Science Center at San Antonio | B12: 2542571 | C12: =$B$26 -> 6.138144 | D12: =ROUND($B12*$C12,0) -> 15606667 | E12: =D12 -> 15606667 | F12: =D12 -> 15606667 | G12: =F12+E12 -> 31213334
A13: UT M.D. Anderson Cancer Center | B13: 5429009 | C13: =$B$26 -> 6.138144 | D13: =ROUND($B13*$C13,0) -> 33324039 | E13: =D13 -> 33324039 | F13: =D13 -> 33324039 | G13: =F13+E13 -> 66648078
A14: UT Health Science Center at Tyler | B14: 356400 | C14: =$B$26 -> 6.138144 | D14: =ROUND($B14*$C14,0) -> 2187635 | E14: =D14 -> 2187635 | F14: =D14 -> 2187635 | G14: =F14+E14 -> 4375270
A15: Texas A&M University Health Science Center | B15: 2080119 | C15: =$B$26 -> 6.138144 | D15: =ROUND($B15*$C15,0) -> 12768070 | E15: =D15 -> 12768070 | F15: =D15 -> 12768070 | G15: =F15+E15 -> 25536140
A16: UNT Health Science Center | B16: 722399 | C16: =$B$26 -> 6.138144 | D16: =ROUND($B16*$C16,0) -> 4434189 | E16: =D16 -> 4434189 | F16: =D16 -> 4434189 | G16: =F16+E16 -> 8868378
A17: Texas Tech University Health Sciences Center | B17: 1580909 | C17: =$B$26 -> 6.138144 | D17: =ROUND($B17*$C17,0) -> 9703847 | E17: =D17 -> 9703847 | F17: =D17 -> 9703847 | G17: =F17+E17 -> 19407694
A18: Texas Tech University Health Sciences Center at El Paso | B18: 528870 | C18: =$B$26 -> 6.138144 | D18: =ROUND($B18*$C18,0) -> 3246280 | E18: =D18 -> 3246280 | F18: =D18 -> 3246280 | G18: =F18+E18 -> 6492560
A19: UT Austin Dell Medical School | B19: 433288 | C19: =$B$26 -> 6.138144 | D19: =ROUND($B19*$C19,0) -> 2659584 | E19: =D19 -> 2659584 | F19: =D19 -> 2659584 | G19: =F19+E19 -> 5319168
A20: UT Rio Grande Valley School of Medicine | B20: 282523 | C20: =$B$26 -> 6.138144 | D20: =ROUND($B20*$C20,0) -> 1734167 | E20: =D20 -> 1734167 | F20: =D20 -> 1734167 | G20: =F20+E20 -> 3468334
... A22: Sam Houston State University Medical School | B22: 98108 | C22: =$B$26 -> 6.138144 | D22: =ROUND($B22*$C22,0) -> 602201 | E22: =D22 -> 602201 | F22: =D22 -> 602201 | G22: =F22+E22 -> 1204402
A23: Totals | B23: =SUM(B9:B22) -> 25735378 | D23: =SUM(D9:D22) -> 157967456 | E23: =SUM(E9:E22) -> 157967456 | F23: =SUM(F9:F22) -> 157967456 | G23: =SUM(G9:G22) -> 315934912
A24: * Source: Fall 2022 HRI Space Model
A26: Infrastructure Rate | B26: 6.138144 | C26: FY 24-25 rate from LBB Basis of Legislative Appropriations

Sheet Research
D1: Health-Related Institutions
D2: Research Enhancement Formula Funding
D3: ='Overall Summary FY 24-25'!D3 -> Basis of Legislative Appropriations
D4: ='Overall Summary FY 24-25'!D4 -> 45163
B6: FY 2022 Research Expenditures* | C6: Percent of Total | D6: Annual Variable Amount | E6: Annual Base Fixed Formula | G6: FY 2024 | H6: FY 2025 | I6: FY 2024-25 Biennium Total
A7: UT Southwestern Medical Center | B7: 640472716 | C7: =B7/B$21 -> 0.22826204 | D7: =ROUND(C7*B$24,0) -> 7475309 | E7: =$B$25 -> 1412500 | G7: =D7+E7 -> 8887809 | H7: =G7 -> 8887809 | I7: =SUM(G7:H7) -> 17775618
A8: UT Medical Branch at Galveston | B8: 171977460 | C8: =B8/B$21 -> 0.061292112 | D8: =ROUND(C8*B$24,0) -> 2007244 | E8: =$B$25 -> 1412500 | G8: =D8+E8 -> 3419744 | H8: =G8 -> 3419744 | I8: =SUM(G8:H8) -> 6839488
A9: UT Health Science Center at Houston | B9: 309595732 | C9: =B9/B$21 -> 0.11033874 | D9: =ROUND(C9*B$24,0) -> 3613462 | E9: =$B$25 -> 1412500 | G9: =D9+E9 -> 5025962 | H9: =G9 -> 5025962 | I9: =SUM(G9:H9) -> 10051924
A10: UT Health Science Center at San Antonio | B10: 221431562 | C10: =B10/B$21 -> 0.078917366 | D10: =ROUND(C10*B$24,0) -> 2584450 | E10: =$B$25 -> 1412500 | G10: =D10+E10 -> 3996950 | H10: =G10 -> 3996950 | I10: =SUM(G10:H10) -> 7993900
A11: UT M.D. Anderson Cancer Center | B11: 1074239585 | C11: =B11/B$21 -> 0.3828549 | D11: =ROUND(C11*B$24,0) -> 12538041 | E11: =$B$25 -> 1412500 | G11: =D11+E11 -> 13950541 | H11: =G11 -> 13950541 | I11: =SUM(G11:H11) -> 27901082
A12: UT Health Science Center at Tyler | B12: 27850484 | C12: =B12/B$21 -> 0.0099258065 | D12: =ROUND(C12*B$24,0) -> 325058 | E12: =$B$25 -> 1412500 | G12: =D12+E12 -> 1737558 | H12: =G12 -> 1737558 | I12: =SUM(G12:H12) -> 3475116
A13: Texas A&M University Health Science Center | B13: 175355201 | C13: =B13/B$21 -> 0.062495926 | D13: =ROUND(C13*B$24,0) -> 2046667 | E13: =$B$25 -> 1412500 | G13: =D13+E13 -> 3459167 | H13: =G13 -> 3459167 | I13: =SUM(G13:H13) -> 6918334
A14: UNT Health Science Center | B14: 57311147 | C14: =B14/B$21 -> 0.020425475 | D14: =ROUND(C14*B$24,0) -> 668910 | E14: =$B$25 -> 1412500 | G14: =D14+E14 -> 2081410 | H14: =G14 -> 2081410 | I14: =SUM(G14:H14) -> 4162820
A15: Texas Tech University Health Sciences Center | B15: 46270716 | C15: =B15/B$21 -> 0.016490707 | D15: =ROUND(C15*B$24,0) -> 540051 | E15: =$B$25 -> 1412500 | G15: =D15+E15 -> 1952551 | H15: =G15 -> 1952551 | I15: =SUM(G15:H15) -> 3905102
A16: Texas Tech University Health Sciences Center at El Paso | B16: 13535299 | C16: =B16/B$21 -> 0.004823929 | D16: =ROUND(C16*B$24,0) -> 157978 | E16: =$B$25 -> 1412500 | G16: =D16+E16 -> 1570478 | H16: =G16 -> 1570478 | I16: =SUM(G16:H16) -> 3140956
A17: UT Austin Dell Medical School | B17: 45552212 | C17: =B17/B$21 -> 0.016234635 | D17: =ROUND(C17*B$24,0) -> 531665 | E17: =$B$25 -> 1412500 | G17: =D17+E17 -> 1944165 | H17: =G17 -> 1944165 | I17: =SUM(G17:H17) -> 3888330
A18: UT Rio Grande Valley School of Medicine | B18: 21021776 | C18: =B18/B$21 -> 0.0074920809 | D18: =ROUND(C18*B$24,0) -> 245357 | E18: =$B$25 -> 1412500 | G18: =D18+E18 -> 1657857 | H18: =G18 -> 1657857 | I18: =SUM(G18:H18) -> 3315714
... A20: Sam Houston State University Medical School | B20: 493473 | C20: =B20/B$21 -> 0.0001758719 | D20: =ROUND(C20*B$24,0) -> 5760 | E20: =$B$25 -> 1412500 | G20: =D20+E20 -> 1418260 | H20: =G20 -> 1418260 | I20: =SUM(G20:H20) -> 2836520
A21: Total | B21: =SUM(B7:B20) -> 2805866113 | C21: =SUM(C7:C20) -> 1 | D21: =SUM(D7:D20) -> 32748808 | E21: =SUM(E7:E20) -> 19775000 | G21: =SUM(G7:G20) -> 52523808 | H21: =SUM(H7:H20) -> 52523808 | I21: =SUM(I7:I20) -> 105047616
C23: Variable Rate:
A24: Annual Variable Total (Total expenditures x variable rate) | B24: =ROUND((C24*B21),0) -> 32748807 | C24: 0.01167155
A25: Annual Base Amount per Institution | B25: 1412500
A27: * Source: FY 2022 Research Expenditures from Survey of Total Research Expenditures.

Sheet GME
D1: Graduate Medical Education
D2: ='Overall Summary FY 24-25'!D3 -> Basis of Legislative Appropriations
D3: ='Overall Summary FY 24-25'!D4 -> 45163
C5: =B25 -> 5969.8771 | D5: =B25 -> 5969.8771 | E5: =C5+D5 -> 11939.754
B6: # GME Residents | C6: Total | D6: Total | E6: FY 2024-25
A7: Institution | B7: 9/1/22* | C7: FY 2024 | D7: FY 2025 | E7: Biennium
A8: UT Southwestern Medical Center | B8: 1512 | C8: =ROUND(($B8*C$5),0) -> 9026454 | D8: =ROUND(($B8*D$5),0) -> 9026454 | E8: =ROUND((D8+C8),0) -> 18052908
A9: UT Medical Branch at Galveston | B9: 650 | C9: =ROUND(($B9*C$5),0) -> 3880420 | D9: =ROUND(($B9*D$5),0) -> 3880420 | E9: =ROUND((D9+C9),0) -> 7760840
A10: UT Health Science Center at Houston | B10: 1133 | C10: =ROUND(($B10*C$5),0) -> 6763871 | D10: =ROUND(($B10*D$5),0) -> 6763871 | E10: =ROUND((D10+C10),0) -> 13527742
A11: UT Health Science Center at San Antonio | B11: 874 | C11: =ROUND(($B11*C$5),0) -> 5217673 | D11: =ROUND(($B11*D$5),0) -> 5217673 | E11: =ROUND((D11+C11),0) -> 10435346
A12: UT M.D. Anderson Cancer Center | B12: 159 | C12: =ROUND(($B12*C$5),0) -> 949210 | D12: =ROUND(($B12*D$5),0) -> 949210 | E12: =ROUND((D12+C12),0) -> 1898420
A13: UT Health Science Center at Tyler | B13: 147 | C13: =ROUND(($B13*C$5),0) -> 877572 | D13: =ROUND(($B13*D$5),0) -> 877572 | E13: =ROUND((D13+C13),0) -> 1755144
A14: Texas A&M University Health Science Center | B14: 1450 | C14: =ROUND(($B14*C$5),0) -> 8656322 | D14: =ROUND(($B14*D$5),0) -> 8656322 | E14: =ROUND((D14+C14),0) -> 17312644
A15: UNT Health Science Center | B15: 616 | C15: =ROUND(($B15*C$5),0) -> 3677444 | D15: =ROUND(($B15*D$5),0) -> 3677444 | E15: =ROUND((D15+C15),0) -> 7354888
A16: Texas Tech University Health Sciences Center | B16: 577 | C16: =ROUND(($B16*C$5),0) -> 3444619 | D16: =ROUND(($B16*D$5),0) -> 3444619 | E16: =ROUND((D16+C16),0) -> 6889238
A17: Texas Tech University Health Sciences Center at El Paso | B17: 296 | C17: =ROUND(($B17*C$5),0) -> 1767084 | D17: =ROUND(($B17*D$5),0) -> 1767084 | E17: =ROUND((D17+C17),0) -> 3534168
A18: UT Austin Dell Medical School | B18: 389 | C18: =ROUND(($B18*C$5),0) -> 2322282 | D18: =ROUND(($B18*D$5),0) -> 2322282 | E18: =ROUND((D18+C18),0) -> 4644564
A19: UT Rio Grande Valley School of Medicine | B19: 257 | C19: =ROUND(($B19*C$5),0) -> 1534258 | D19: =ROUND(($B19*D$5),0) -> 1534258 | E19: =ROUND((D19+C19),0) -> 3068516
A20: UH College of Medicine | B20: 161 | C20: =ROUND(($B20*C$5),0) -> 961150 | D20: =ROUND(($B20*D$5),0) -> 961150 | E20: =ROUND((D20+C20),0) -> 1922300
A21: Sub-Total Public Institutions | B21: =SUM(B8:B20) -> 8221 | C21: =SUM(C8:C20) -> 49078359 | D21: =SUM(D8:D20) -> 49078359 | E21: =SUM(E8:E20) -> 98156718
A22: Baylor College of Medicine | B22: 1508 | C22: =ROUND(($B22*C$5),0) -> 9002575 | D22: =ROUND(($B22*D$5),0) -> 9002575 | E22: =ROUND((D22+C22),0) -> 18005150
A23: Total GME Formula | B23: =B22+B21 -> 9729 | C23: =C22+C21 -> 58080934 | D23: =D22+D21 -> 58080934 | E23: =E22+E21 -> 116161868
A25: GME Rate: | B25: 5969.8771 | C25: FY 24-25 rate from LBB Basis of Legislative Appropriations
A28: * Source: CBM 00R
A29: Notes:
A30: Podiatric Residents included above: 9 at UT Health Science Center at San Antonio and 12 at Texas A&M University Health Science Center.

Sheet Summary Mission Specifics
B2: Clinical Mission Specific | C2: 2022-23 All Funds #Encounters/Cases | E2: 2024-25 All Funds #Encounters/Cases | F2: Difference
A4: 1 | B4: UTMB at Galveston | C4: ='Clinical Mission Specifics'!D5 -> 306758682 | E4: ='Clinical Mission Specifics'!J5 -> 322252148 | F4: =E4-C4 -> 15493466
B5: ='Clinical Mission Specifics'!A5 -> Number of Texas Patient Encounters in trauma, primary care, diabetes, heart, psychiatry, and telemedicine | C5: 861825 | E5: ='Clinical Mission Specifics'!F5 -> 1069275 | F5: =E5-C5 -> 207450
A7: 2 | B7: UT M.D. Anderson Cancer Center | C7: ='Clinical Mission Specifics'!D8 -> 280815980 | E7: ='Clinical Mission Specifics'!J8 -> 294999156 | F7: =E7-C7 -> 14183176
B8: ='Clinical Mission Specifics'!A8 -> Number of Texas Cancer Patients Served | C8: 84720 | E8: ='Clinical Mission Specifics'!F8 -> 91459 | F8: =E8-C8 -> 6739
A10: 3 | B10: UT Health Science Center at Tyler | C10: ='Clinical Mission Specifics'!D11 -> 62181804 | E10: ='Clinical Mission Specifics'!J11 -> 65322421 | F10: =E10-C10 -> 3140617
B11: ='Clinical Mission Specifics'!A11 -> Number of cases w/disease diagnoses treated by UTHSCT | C11: 187001 | E11: ='Clinical Mission Specifics'!F11 -> 322504 | F11: =E11-C11 -> 135503
A13: 4 | B13: Texas Tech Univ HSC at El Paso | C13: ='Clinical Mission Specifics'!D14 -> 27500000 | E13: ='Clinical Mission Specifics'!J14 -> 28888943 | F13: =E13-C13 -> 1388943
B14: ='Clinical Mission Specifics'!A14 -> Number of Texas Patient Encounters * | C14: 599846 | E14: ='Clinical Mission Specifics'!F14 -> 677698 | F14: =E14-C14 -> 77852
B16: Clinical Subtotal | C16: =C4+C7+C10+C13 -> 677256466 | E16: =E4+E7+E10+E13 -> 711462668 | F16: =F4+F7+F10+F13 -> 34206202
B18: Performance-Based Research Mission Specific | C18: Appropriated 2022-23 All Funds | E18: 2024-25 All Funds | F18: Difference
A20: 5 | B20: UT Southwestern Medical Center | C20: ='Performance-Based Research Ops'!M3 -> 114849889 | E20: ='Performance-Based Research Ops'!AP17 -> 130840155 | F20: =E20-C20 -> 15990266
A21: 6 | B21: UTHSC at Houston | C21: ='Performance-Based Research Ops'!M22 -> 25476160 | E21: ='Performance-Based Research Ops'!AP34 -> 42949947 | F21: =E21-C21 -> 17473787
A22: 7 | B22: UTHSC at San Antonio | C22: ='Performance-Based Research Ops'!M39 -> 25448000 | E22: ='Performance-Based Research Ops'!AP51 -> 38515512 | F22: =E22-C22 -> 13067512
A23: 8 | B23: Texas A&M University Health Science Center | C23: ='New Performance-Based Research'!M3 -> 24500000 | E23: ='New Performance-Based Research'!AP15 -> 37467052 | F23: =E23-C23 -> 12967052
A24: 9 | B24: University of North Texas Health Science Center | C24: ='New Performance-Based Research'!M21 -> 20691695 | E24: ='New Performance-Based Research'!AP33 -> 29295636 | F24: =E24-C24 -> 8603941
A25: 10 | B25: Texas Tech University Health Science Center | C25: ='New Performance-Based Research'!M38 -> 3160628 | E25: ='New Performance-Based Research'!AP50 -> 3852087 | F25: =E25-C25 -> 691459
B27: Performance-Based Subtotal | C27: =SUM(C20:C25) -> 214126372 | E27: =SUM(E20:E25) -> 282920389 | F27: =SUM(F20:F25) -> 68794017
B29: GRAND Total | C29: =C16+C27 -> 891382838 | E29: =E16+E27 -> 994383057 | F29: =F16+F27 -> 103000219
C31: Appropriated + Supplemental (SB30) 2022-23 All Funds | E31: 2024-25 All Funds | F31: Difference
A32: 1 | B32: UT Southwestern Med. Center | C32: =C20+15105328 -> 129955217 | E32: =E20 -> 130840155 | F32: =E32-C32 -> 884938
A33: 2 | B33: UTMB at Galveston | C33: =C4+8951493 -> 315710175 | E33: =E4 -> 322252148 | F33: =E33-C33 -> 6541973
A34: 3 | B34: UTHSC at Houston | C34: =C21+7783389 -> 33259549 | E34: =E21 -> 42949947 | F34: =E34-C34 -> 9690398
A35: 4 | B35: UTHSC at San Antonio | C35: =C22+7995279 -> 33443279 | E35: =E22 -> 38515512 | F35: =E35-C35 -> 5072233
A36: 5 | B36: UT M.D. Anderson Cancer - CCO | C36: =C7+8212583 -> 289028563 | E36: =E7 -> 294999156 | F36: =E36-C36 -> 5970593
A37: 6 | B37: UT Health Center at Tyler | C37: =C10+1818533 -> 64000337 | E37: =E10 -> 65322421 | F37: =E37-C37 -> 1322084
A38: 7 | B38: Texas A&M UHSC | C38: =C23+12692293 -> 37192293 | E38: =E23 -> 37467052 | F38: =E38-C38 -> 274759
A39: 8 | B39: Univ North TX HSC | C39: =C24 -> 20691695 | E39: =E24 -> 29295636 | F39: =E39-C39 -> 8603941
A40: 9 | B40: Texas Tech Univ HSC | C40: =C25+1456457 -> 4617085 | E40: =E25 -> 3852087 | F40: =E40-C40 -> -764998
A41: 10 | B41: Texas Tech Univ HSC at El Paso | C41: =C13+804249 -> 28304249 | E41: =E13 -> 28888943 | F41: =E41-C41 -> 584694
B43: Total All Institutions - Mission Specific | C43: =SUM(C32:C42) -> 956202442 | E43: =SUM(E32:E42) -> 994383057 | F43: =SUM(F32:F42) -> 38180615
A45: *Note: Final TTUHSCEP appropriations are based on Fall data for 2022 rather than final data of 674,434.
